
BEGIN:VCALENDAR
VERSION:2.0
PRODID:-//Navarrebeach.com - ECPv6.15.20//NONSGML v1.0//EN
CALSCALE:GREGORIAN
METHOD:PUBLISH
X-WR-CALNAME:Navarrebeach.com
X-ORIGINAL-URL:https://navarrebeach.com
X-WR-CALDESC:Events for Navarrebeach.com
REFRESH-INTERVAL;VALUE=DURATION:PT1H
X-Robots-Tag:noindex
X-PUBLISHED-TTL:PT1H
BEGIN:VTIMEZONE
TZID:UTC
BEGIN:STANDARD
TZOFFSETFROM:+0000
TZOFFSETTO:+0000
TZNAME:UTC
DTSTART:20240101T000000
END:STANDARD
END:VTIMEZONE
BEGIN:VEVENT
DTSTART;TZID=UTC:20250714T180000
DTEND;TZID=UTC:20250718T201500
DTSTAMP:20260422T031917
CREATED:20250711T163912Z
LAST-MODIFIED:20250711T163912Z
UID:12198-1752516000-1752869700@navarrebeach.com
SUMMARY:Magnified VBS
DESCRIPTION:Register today!\n\nMagnified! VBS will encourage kids to look closely at the details of God’s amazing world and magnify\, or proclaim\, the greatness of God!\n\nJoin for Vacation Bible School July 14th through July 18th from 6:00-8:15 PM at Navarre First Assembly. Ages Kindergarten through 5th grade!
URL:https://navarrebeach.com/event/magnified-vbs/
LOCATION:Navarre First Assembly of God\, 9594 Navarre Parkway\, Navarre\, FL\, 32566\, United States
ATTACH;FMTTYPE=image/jpeg:https://navarrebeach.com/wp-content/uploads/2025/07/503850403_1043060687965983_8660034567674725056_n.jpg
END:VEVENT
BEGIN:VEVENT
DTSTART;TZID=UTC:20250717T180000
DTEND;TZID=UTC:20250717T200000
DTSTAMP:20260422T031917
CREATED:20250627T161414Z
LAST-MODIFIED:20250627T161414Z
UID:12151-1752775200-1752782400@navarrebeach.com
SUMMARY:Plant Swap
DESCRIPTION:PLANT SWAP @ ST. MICHAEL’S BREWING CO.\nDate: Thursday\, July 17\, 2025Time: 6:00 PM – 8:00 PMLocation: 2199 FL-87\, Navarre\, FL 32566\n\nBring a plant\, take a plant – and enjoy a craft beer while you’re at it!\n\nHow it works:\nBring healthy\, pest-free plants\, cuttings\, or seeds.Swap with fellow plant enthusiasts.Connect over brews and greenery!\n\nAll levels welcome – from green thumbs to curious newbies.\nEnjoy the selection of craft beers during the event!
URL:https://navarrebeach.com/event/plant-swap-3/
LOCATION:St. Michael’s Brewing Company\, 2199 FL-87\, Navarre\, FL\, 32566\, United States
ATTACH;FMTTYPE=image/jpeg:https://navarrebeach.com/wp-content/uploads/2025/06/496965149_1245181450812391_5894991755972036727_n.jpg
END:VEVENT
END:VCALENDAR