
BEGIN:VCALENDAR
VERSION:2.0
PRODID:-//Navarrebeach.com - ECPv6.15.20//NONSGML v1.0//EN
CALSCALE:GREGORIAN
METHOD:PUBLISH
X-WR-CALNAME:Navarrebeach.com
X-ORIGINAL-URL:https://navarrebeach.com
X-WR-CALDESC:Events for Navarrebeach.com
REFRESH-INTERVAL;VALUE=DURATION:PT1H
X-Robots-Tag:noindex
X-PUBLISHED-TTL:PT1H
BEGIN:VTIMEZONE
TZID:UTC
BEGIN:STANDARD
TZOFFSETFROM:+0000
TZOFFSETTO:+0000
TZNAME:UTC
DTSTART:20240101T000000
END:STANDARD
END:VTIMEZONE
BEGIN:VEVENT
DTSTART;TZID=UTC:20250719T160000
DTEND;TZID=UTC:20250719T210000
DTSTAMP:20260422T031943
CREATED:20250703T194032Z
LAST-MODIFIED:20250703T194032Z
UID:12184-1752940800-1752958800@navarrebeach.com
SUMMARY:Christmas in July Makers Market
DESCRIPTION:Shop from local vendors\, enjoy some great food\, DJ\, raffles\, beer & much more!
URL:https://navarrebeach.com/event/christmas-in-july-makers-market/
LOCATION:Ye Olde Brothers Brewery\, 4458 Highway 87\, Navarre\, FL\, 32566\, United States
ATTACH;FMTTYPE=image/jpeg:https://navarrebeach.com/wp-content/uploads/2025/07/515259534_122145617576607471_8454029194981860761_n.jpg
END:VEVENT
END:VCALENDAR