
BEGIN:VCALENDAR
VERSION:2.0
PRODID:-//Navarrebeach.com - ECPv6.15.20//NONSGML v1.0//EN
CALSCALE:GREGORIAN
METHOD:PUBLISH
X-ORIGINAL-URL:https://navarrebeach.com
X-WR-CALDESC:Events for Navarrebeach.com
REFRESH-INTERVAL;VALUE=DURATION:PT1H
X-Robots-Tag:noindex
X-PUBLISHED-TTL:PT1H
BEGIN:VTIMEZONE
TZID:UTC
BEGIN:STANDARD
TZOFFSETFROM:+0000
TZOFFSETTO:+0000
TZNAME:UTC
DTSTART:20240101T000000
END:STANDARD
END:VTIMEZONE
BEGIN:VEVENT
DTSTART;TZID=UTC:20250720T173000
DTEND;TZID=UTC:20250720T173000
DTSTAMP:20260422T032045
CREATED:20250711T165638Z
LAST-MODIFIED:20250711T165638Z
UID:12223-1753032600-1753032600@navarrebeach.com
SUMMARY:Ice Cream Eating Contest
DESCRIPTION:Get ready for the ultimate brain freeze! Turtle Roll Ice Cream is back with its fourth annual Ice Cream Eating Contest\, and it’s happening on the most delicious day of the year—National Ice Cream Day! So mark your calendars and loosen those belts because this is going to be an ice cream showdown like no other!\n\nTo secure your spot in this epic battle of taste buds\, all you need is $12 per person for registration. Hurry up and submit your entries before 5pm on July 18th. Don’t miss out on the chance to become a legendary ice cream champion!\n\nNow\, let’s talk about the contests. We’ve divided it into two age groups to make it fair for everyone. If you’re 10 years old or younger\, get ready to dig into a colossal 5 scoops of ice cream! And for all you “adults” aged 11 and up\, brace yourselves for the challenge of conquering an 8 scoop ice cream mountain!\n\nBut wait\, there’s more than just brain freeze glory on the line! The winner of each contest will be rewarded with a coveted Turtle Roll shirt\, a mouthwatering $50 Turtle Roll gift card\, and the ultimate prize—bragging rights that will echo through the halls of ice cream history!\n\nNow\, before you dive into this frozen adventure\, we need to make sure contestants aged 18 and over and parents or guardians for all you young ice cream enthusiasts sign a Release of Liability form giving us your sweet consent for participation… oh\, and you have to choose your ice cream flavors!
URL:https://navarrebeach.com/event/ice-cream-eating-contest/
LOCATION:Turtle Roll Homemade Ice Cream & Shaved Ice\, 8476 Navarre Pkwy\, Navarre\, FL\, 32566\, United States
ATTACH;FMTTYPE=image/jpeg:https://navarrebeach.com/wp-content/uploads/2025/07/514368748_1136394148508103_8915340013351711160_n.jpg
END:VEVENT
END:VCALENDAR