
BEGIN:VCALENDAR
VERSION:2.0
PRODID:-//Navarrebeach.com - ECPv6.15.20//NONSGML v1.0//EN
CALSCALE:GREGORIAN
METHOD:PUBLISH
X-ORIGINAL-URL:https://navarrebeach.com
X-WR-CALDESC:Events for Navarrebeach.com
REFRESH-INTERVAL;VALUE=DURATION:PT1H
X-Robots-Tag:noindex
X-PUBLISHED-TTL:PT1H
BEGIN:VTIMEZONE
TZID:UTC
BEGIN:STANDARD
TZOFFSETFROM:+0000
TZOFFSETTO:+0000
TZNAME:UTC
DTSTART:20240101T000000
END:STANDARD
END:VTIMEZONE
BEGIN:VEVENT
DTSTART;TZID=UTC:20250726T090000
DTEND;TZID=UTC:20250726T110000
DTSTAMP:20260422T032042
CREATED:20250619T124151Z
LAST-MODIFIED:20250619T124151Z
UID:12136-1753520400-1753527600@navarrebeach.com
SUMMARY:MarineMax Fort Walton Beach's Kids Fishing Clinic
DESCRIPTION:MarineMax Fort Walton Beach’s Kids Fishing Clinic is designed to introduce young anglers to the exciting world of fishing. Our experienced instructors will teach kids of all ages the basics of casting\, baiting a hook\, and reeling in a catch. \nWhen: July 26\, 2025\, from 9:00 AM to 11:00 AM \nWhere: MarineMax Fort Walton Beach \nCost: $25 registration fee (per child) \nDon’t miss out on this fantastic opportunity to create lasting memories and inspire a lifelong love of fishing! \nAll participants must be accompanied by an adult.
URL:https://navarrebeach.com/event/marinemax-fort-walton-beachs-kids-fishing-clinic/
LOCATION:14 Miracle Strip Parkway Southwest Fort Walton Beach\, FL 32548\, 14 Miracle Strip Parkway Southwest\, Fort Walton Beach\,\, FL\, 32548\, United States
ATTACH;FMTTYPE=image/avif:https://navarrebeach.com/wp-content/uploads/2025/06/https___cdn.evbuc_.com_images_1014039903_71743762329_1_original.avif
END:VEVENT
BEGIN:VEVENT
DTSTART;TZID=UTC:20250726T090000
DTEND;TZID=UTC:20250726T130000
DTSTAMP:20260422T032042
CREATED:20250711T164856Z
LAST-MODIFIED:20250711T164908Z
UID:12213-1753520400-1753534800@navarrebeach.com
SUMMARY:Navarre Farmers' Market\, LLC/Combs of Honey
DESCRIPTION:Come see us at one of the best Farmers markets in town! We are in Navarre right across the street from Tractor Supply from 9am-1pm every Saturday.
URL:https://navarrebeach.com/event/navarre-farmers-market-llc-combs-of-honey/
LOCATION:Navarre Farmers’ Market\, LLC\, SR S87 & Segura Corner\, Navarre\, FL\, 32566\, United States
ATTACH;FMTTYPE=image/jpeg:https://navarrebeach.com/wp-content/uploads/2025/07/512969043_122134914224772993_2824292332136529228_n.jpg
END:VEVENT
BEGIN:VEVENT
DTSTART;TZID=UTC:20250726T090000
DTEND;TZID=UTC:20250726T130000
DTSTAMP:20260422T032042
CREATED:20250711T165408Z
LAST-MODIFIED:20250711T165408Z
UID:12218-1753520400-1753534800@navarrebeach.com
SUMMARY:Navarre 3rd Annual Children's Business Fair
DESCRIPTION:Observe the opportunity for children to launch their very own startup business!\n\nKids develop a brand\, create a product or service\, build a marketing strategy\, and then open for customers at our one-day marketplace.\n\nWe will host 13 booths at the 3rd annual event at Navarre Montessori Academy on Saturday\, July 26 from 9:00 am – 1:00 pm.\n\nApply here: https://www.childrensbusinessfair.org/navarre-florida
URL:https://navarrebeach.com/event/navarre-3rd-annual-childrens-business-fair/
LOCATION:Navarre Montessori Academy\, 9540 Navarre Pkwy.\, Navarre\, FL\, 32566\, United States
ATTACH;FMTTYPE=image/jpeg:https://navarrebeach.com/wp-content/uploads/2025/07/516425365_717325461077013_1678495084514276115_n.jpg
END:VEVENT
BEGIN:VEVENT
DTSTART;TZID=UTC:20250726T100000
DTEND;TZID=UTC:20250726T140000
DTSTAMP:20260422T032042
CREATED:20250703T191914Z
LAST-MODIFIED:20250703T191914Z
UID:12177-1753524000-1753538400@navarrebeach.com
SUMMARY:Parents Day Out
DESCRIPTION:The first Parents Night Out was such a success\, we’re gonna do it again in the daytime! July 26th from 10am-3pm. Send kids with snack and a lunch and go enjoy a free afternoon!\n\nRegister today at https://forms.gle/ahBsSw7B5Cz9Znje7
URL:https://navarrebeach.com/event/parents-day-out/
LOCATION:St. Paul United Methodist Church\, 4901 Gulf Breeze Pkwy\, Gulf Breeze\, FL\, 32563-9286\, United States
ATTACH;FMTTYPE=image/jpeg:https://navarrebeach.com/wp-content/uploads/2025/07/515436906_1149847347186512_6334753961593250959_n.jpg
END:VEVENT
END:VCALENDAR