
BEGIN:VCALENDAR
VERSION:2.0
PRODID:-//Navarrebeach.com - ECPv6.15.20//NONSGML v1.0//EN
CALSCALE:GREGORIAN
METHOD:PUBLISH
X-WR-CALNAME:Navarrebeach.com
X-ORIGINAL-URL:https://navarrebeach.com
X-WR-CALDESC:Events for Navarrebeach.com
REFRESH-INTERVAL;VALUE=DURATION:PT1H
X-Robots-Tag:noindex
X-PUBLISHED-TTL:PT1H
BEGIN:VTIMEZONE
TZID:UTC
BEGIN:STANDARD
TZOFFSETFROM:+0000
TZOFFSETTO:+0000
TZNAME:UTC
DTSTART:20240101T000000
END:STANDARD
END:VTIMEZONE
BEGIN:VEVENT
DTSTART;TZID=UTC:20250729T173000
DTEND;TZID=UTC:20250729T173000
DTSTAMP:20260422T013754
CREATED:20250711T170154Z
LAST-MODIFIED:20250711T170154Z
UID:12228-1753810200-1753810200@navarrebeach.com
SUMMARY:Navarre Young Professionals Taco Tuesday Networking
DESCRIPTION:Whether you’re a long-time local or new to the community\, this is the perfect chance to connect with other young professionals and grow your network while enjoying tacos\, good vibes\, and fiesta fun!\n\nCome dressed for Fun & Fiesta – we’re bringing the party!Enjoy networking\, music\, snacks\, and a casual\, upbeat atmosphere.Great opportunity to meet fellow professionals\, exchange ideas\, and build lasting connections.\n\nAdmission:$10 – Chamber Members$15 – Future Members\n\nHosted by: Everything Palms Partners – NavarreSponsored by: Navarre Gardens Assisted Living Facility\n\nPre-register now at: https://business.navarrechamber.com/…/young…\n\nDon’t miss this awesome summer networking social — bring a friend or co-worker and let’s taco ‘bout your business!
URL:https://navarrebeach.com/event/navarre-young-professionals-taco-tuesday-networking/
LOCATION:Everything Palms Partners
ATTACH;FMTTYPE=image/jpeg:https://navarrebeach.com/wp-content/uploads/2025/07/514416756_122258060864067823_7137606295686626140_n.jpg
END:VEVENT
END:VCALENDAR