
BEGIN:VCALENDAR
VERSION:2.0
PRODID:-//Navarrebeach.com - ECPv6.15.20//NONSGML v1.0//EN
CALSCALE:GREGORIAN
METHOD:PUBLISH
X-ORIGINAL-URL:https://navarrebeach.com
X-WR-CALDESC:Events for Navarrebeach.com
REFRESH-INTERVAL;VALUE=DURATION:PT1H
X-Robots-Tag:noindex
X-PUBLISHED-TTL:PT1H
BEGIN:VTIMEZONE
TZID:UTC
BEGIN:STANDARD
TZOFFSETFROM:+0000
TZOFFSETTO:+0000
TZNAME:UTC
DTSTART:20240101T000000
END:STANDARD
END:VTIMEZONE
BEGIN:VEVENT
DTSTART;TZID=UTC:20250807T170000
DTEND;TZID=UTC:20250807T170000
DTSTAMP:20260422T014025
CREATED:20250711T164116Z
LAST-MODIFIED:20250711T164116Z
UID:12201-1754586000-1754586000@navarrebeach.com
SUMMARY:Business After Hours at Hampton Inn by Hilton
DESCRIPTION:The Navarre Chamber’s Business After Hours Bash — Hosted by Hampton Inn & Suites Navarre!\n\nGet ready to network\, connect\, and grow at one of the Navarre Chamber’s most popular monthly events — the Business After Hours Bash!\nDesigned for professionals to connect in a relaxed and fun-filled atmosphere\, this event is the perfect opportunity to build meaningful business relationships while enjoying great food\, drinks\, and vibes.\nThis Month’s Bash:Event Details:When: Thursday\, August 7th | 5:00 PM – 7:00 PMWhere: Hampton Inn Navarre\, 7710 Navarre Pkwy\n\nEntry Fee:• $10 for Navarre Chamber Members• $15 for Prospective Members & Guests(Your entry includes an armband for access to all the fun!)\n\nWhat’s in Store:• Tasty Bites & Complimentary Drinks• Exciting Giveaways & Door Prizes• Networking with Local Businesses & Nonprofits• A Relaxed\, Fun-Filled Atmosphere to Build New Connections\n\nWhether you’re a seasoned Chamber member or a first-time guest\, this is your chance to get involved\, promote your business\, and forge lasting relationships in the Navarre business community.\n\nPro Tip:Bring plenty of business cards and a door prize if you’d like to highlight your business or organization!Register Now and make plans to be part of the Navarre Chamber’s most dynamic networking night of the month.Let’s make this the best Business After Hours Bash yet!
URL:https://navarrebeach.com/event/business-after-hours-at-hampton-inn-by-hilton/
LOCATION:Hampton Inn & Suites Hotel Navarre\, 7710 Navarre Pkwy\, Navarre\, FL\, 32566\, United States
ATTACH;FMTTYPE=image/jpeg:https://navarrebeach.com/wp-content/uploads/2025/07/496448435_1106846834803766_1940580120448440964_n.jpg
END:VEVENT
END:VCALENDAR