
BEGIN:VCALENDAR
VERSION:2.0
PRODID:-//Navarrebeach.com - ECPv6.15.20//NONSGML v1.0//EN
CALSCALE:GREGORIAN
METHOD:PUBLISH
X-ORIGINAL-URL:https://navarrebeach.com
X-WR-CALDESC:Events for Navarrebeach.com
REFRESH-INTERVAL;VALUE=DURATION:PT1H
X-Robots-Tag:noindex
X-PUBLISHED-TTL:PT1H
BEGIN:VTIMEZONE
TZID:UTC
BEGIN:STANDARD
TZOFFSETFROM:+0000
TZOFFSETTO:+0000
TZNAME:UTC
DTSTART:20240101T000000
END:STANDARD
END:VTIMEZONE
BEGIN:VEVENT
DTSTART;TZID=UTC:20250808T170000
DTEND;TZID=UTC:20250808T170000
DTSTAMP:20260422T013855
CREATED:20250725T205807Z
LAST-MODIFIED:20250725T205807Z
UID:12261-1754672400-1754672400@navarrebeach.com
SUMMARY:Raider Night
DESCRIPTION:NYSA Teams will scrimmage at NHS for Raider Night!
URL:https://navarrebeach.com/event/raider-night/
LOCATION:Navarre High School\, 8600 High School Blvd\, Navarre\, FL\, 32566\, United States
ATTACH;FMTTYPE=image/jpeg:https://navarrebeach.com/wp-content/uploads/2025/07/518231180_1042333788015698_1923625826423254865_n.jpg
END:VEVENT
END:VCALENDAR