
BEGIN:VCALENDAR
VERSION:2.0
PRODID:-//Navarrebeach.com - ECPv6.15.20//NONSGML v1.0//EN
CALSCALE:GREGORIAN
METHOD:PUBLISH
X-WR-CALNAME:Navarrebeach.com
X-ORIGINAL-URL:https://navarrebeach.com
X-WR-CALDESC:Events for Navarrebeach.com
REFRESH-INTERVAL;VALUE=DURATION:PT1H
X-Robots-Tag:noindex
X-PUBLISHED-TTL:PT1H
BEGIN:VTIMEZONE
TZID:UTC
BEGIN:STANDARD
TZOFFSETFROM:+0000
TZOFFSETTO:+0000
TZNAME:UTC
DTSTART:20240101T000000
END:STANDARD
END:VTIMEZONE
BEGIN:VEVENT
DTSTART;TZID=UTC:20250809T073000
DTEND;TZID=UTC:20250809T103000
DTSTAMP:20260422T014610
CREATED:20250725T205942Z
LAST-MODIFIED:20250725T205942Z
UID:12265-1754724600-1754735400@navarrebeach.com
SUMMARY:Monthly Breakfast at Holley Navarre Senior Center
DESCRIPTION:Did you know that there is a DELICIOUS way to support your local senior center? Every 2nd Saturday of the month\, we offer a pancake breakfast…\n\nHolley Navarre Senior Center’s breakfast is one of the best kept secrets in Navarre and we hope you’ll give it a try!!! Every dollar earned goes directly to the center and supports our community events.\n\nThey even offer ALL YOU CAN EAT PANCAKES… – WHAT!!!???(Please bring cash – we are working on going electronic!!)\n\nThey start serving at 7:30 am and go all the way to 10:30 am for those of you that like to sleep in.\n\nThe best part? You don’t even need to be a member to come to the breakfast\, but once you try it – you’ll want to join\, get on their e-mail list and get reminders when the breakfasts are on!!!\n\nIf you haven’t checked out the local senior center yet\, they’d love to see you!!!
URL:https://navarrebeach.com/event/monthly-breakfast-at-holley-navarre-senior-center-3/
LOCATION:Holley-Navarre Seniors Association\, 8476 Gordon Goodin Lane\, Navarre\, FL\, 32566\, United States
ATTACH;FMTTYPE=image/jpeg:https://navarrebeach.com/wp-content/uploads/2025/03/480637291_660103826591122_166516323534695306_n.jpg
END:VEVENT
BEGIN:VEVENT
DTSTART;TZID=UTC:20250809T180000
DTEND;TZID=UTC:20250809T230000
DTSTAMP:20260422T014610
CREATED:20250627T161539Z
LAST-MODIFIED:20250627T161539Z
UID:12154-1754762400-1754780400@navarrebeach.com
SUMMARY:Navarre Krewe of Jester's Pirate Bash
DESCRIPTION:The proceeds from this event helps to fund the 2026 Navarre Krewe of Jesters Mardi Gras Parade and their Scholarship. Tickets are $40 pp or $280 for a table of 8 or $360 for a table of 10\, We will serve BBQ Pork and Chicken with all the trimmings\, this is a BYOB event\, we will supply all the mixers! Music provided by Steve Hall. There will be door prizes\, costume contest\, fun games and a Silent Auction in which all proceeds from our Silent Auction will go to benefit the NKOJ High School Scholarship. Need Tickets please call or text LeAnn at 850-382-1143 or Debbie at 850-586-3537 or any Jester member! If you are coming as a group or a Krewe please let LeAnn or Debbie know so we can reserve you a table. They look forward to seeing you for a night of Debauchery at the Pirate Bash! MUST BE 21 to enter!!
URL:https://navarrebeach.com/event/navarre-krewe-of-jesters-pirate-bash/
LOCATION:St. Sylvester Catholic Church\, 6464 Gulf Breeze Pkwy\, Gulf Breeze\, FL\, 32563\, United States
ATTACH;FMTTYPE=image/jpeg:https://navarrebeach.com/wp-content/uploads/2025/06/499530020_1041388491472818_8545225748017825165_n.jpg
END:VEVENT
END:VCALENDAR