
BEGIN:VCALENDAR
VERSION:2.0
PRODID:-//Navarrebeach.com - ECPv6.15.20//NONSGML v1.0//EN
CALSCALE:GREGORIAN
METHOD:PUBLISH
X-WR-CALNAME:Navarrebeach.com
X-ORIGINAL-URL:https://navarrebeach.com
X-WR-CALDESC:Events for Navarrebeach.com
REFRESH-INTERVAL;VALUE=DURATION:PT1H
X-Robots-Tag:noindex
X-PUBLISHED-TTL:PT1H
BEGIN:VTIMEZONE
TZID:UTC
BEGIN:STANDARD
TZOFFSETFROM:+0000
TZOFFSETTO:+0000
TZNAME:UTC
DTSTART:20240101T000000
END:STANDARD
END:VTIMEZONE
BEGIN:VEVENT
DTSTART;TZID=UTC:20250916T080000
DTEND;TZID=UTC:20250916T170000
DTSTAMP:20260422T000333
CREATED:20250221T180438Z
LAST-MODIFIED:20250221T180438Z
UID:11735-1758009600-1758042000@navarrebeach.com
SUMMARY:Blue Angels Practice
DESCRIPTION:As Homebase\, Pensacola has the privilege of seeing the Angels regularly\, not just during the two prescheduled shows. A peaceful day on the beach is often capped off by a surprise flyover. The Super Hornets\, brighter than the already vivid sky\, swoop low for a split second and are gone before most can pull out their phones. \nLocals often exchange advice on the best locations to view practice drills. The Blue Angels rehearse weekly at NAS Pensacola throughout the show season\, which runs from March to November. Tuesday and Wednesday are dedicated to drills that are free to view by the public and often conclude with autographs and interviews. On Thursday\, the squad travels to its weekend performance site\, and by Sunday evening\, they return to Pensacola. \nGates open at 9:30am. The Blues are scheduled to take flight at 10:30am. Arrive early\, once the Museum lot is full\, NAS Pensacola pauses entry to the base.
URL:https://navarrebeach.com/event/blue-angels-practice-7/
LOCATION:Naval Air Station Pensacola\, 150 Hase Rd\, Pensacola\, FL\, 32508\, United States
ATTACH;FMTTYPE=image/jpeg:https://navarrebeach.com/wp-content/uploads/2025/02/shutterstock_2415681243-scaled.jpg
END:VEVENT
BEGIN:VEVENT
DTSTART;TZID=UTC:20250923T180000
DTEND;TZID=UTC:20250923T213000
DTSTAMP:20260422T000333
CREATED:20250910T203537Z
LAST-MODIFIED:20250910T203537Z
UID:12320-1758650400-1758663000@navarrebeach.com
SUMMARY:Opioid Immersion Seminar
DESCRIPTION:Improve your understanding of opioid overdose and its prevention. Opioid overdose can lead to serious health complications or even death if not addressed promptly.
URL:https://navarrebeach.com/event/opioid-immersion-seminar/
LOCATION:FL
ATTACH;FMTTYPE=image/png:https://navarrebeach.com/wp-content/uploads/2025/09/Screenshot-2025-09-10-153043.png
END:VEVENT
END:VCALENDAR