
BEGIN:VCALENDAR
VERSION:2.0
PRODID:-//Navarrebeach.com - ECPv6.15.20//NONSGML v1.0//EN
CALSCALE:GREGORIAN
METHOD:PUBLISH
X-WR-CALNAME:Navarrebeach.com
X-ORIGINAL-URL:https://navarrebeach.com
X-WR-CALDESC:Events for Navarrebeach.com
REFRESH-INTERVAL;VALUE=DURATION:PT1H
X-Robots-Tag:noindex
X-PUBLISHED-TTL:PT1H
BEGIN:VTIMEZONE
TZID:UTC
BEGIN:STANDARD
TZOFFSETFROM:+0000
TZOFFSETTO:+0000
TZNAME:UTC
DTSTART:20240101T000000
END:STANDARD
END:VTIMEZONE
BEGIN:VEVENT
DTSTART;TZID=UTC:20251025T090000
DTEND;TZID=UTC:20251025T140000
DTSTAMP:20260421T223118
CREATED:20251022T192624Z
LAST-MODIFIED:20251022T195641Z
UID:12395-1761382800-1761400800@navarrebeach.com
SUMMARY:Pik-itz Open Air Market
DESCRIPTION:Come visit our Outdoor Market right here in Navarre.   We have over 30 vendors selling local art\, crafts\, baked goods\, dairy products\, honey and plenty of fun surprises. \nMarkets are held every Saturday from 9 am to 2 pm \nIf you are interested in selling homemade/handmade items\, contact the store for more information.
URL:https://navarrebeach.com/event/pik-itz-open-air-market-2/
LOCATION:Pik-itz Art & Antiques\, 1922 Highway 87\, Navarre\, FL\, 32566\, United States
ATTACH;FMTTYPE=image/jpeg:https://navarrebeach.com/wp-content/uploads/2025/10/101750589_10220063461249952_4498045853958709771_o.jpg
ORGANIZER;CN="Pik-itz":MAILTO:shoppikitz@gmail.com
END:VEVENT
BEGIN:VEVENT
DTSTART;TZID=UTC:20251025T100000
DTEND;TZID=UTC:20251025T140000
DTSTAMP:20260421T223118
CREATED:20251022T202959Z
LAST-MODIFIED:20251022T202959Z
UID:12426-1761386400-1761400800@navarrebeach.com
SUMMARY:Spooktacular Fall Market
DESCRIPTION:The Navarre Beach Sea Turtle Conservation Center is hosting a Spooktacular Fall Market! \nCome enjoy a fun-filled day celebrating fall and our amazing community. Explore local artists and vendors\, get your face painted\, and visit our trick-or-treat stations for some sweet surprises! Costumes are highly encouraged for guests of all ages—come dressed to impress and enjoy the festive spirit! Don’t miss out on this purr-fect fall event! See you there!
URL:https://navarrebeach.com/event/spooktacular-fall-market/
LOCATION:Navarre Beach Sea Turtle Conservation Center\, 8740 Gulf Blvd\, Navarre\, FL\, 32566\, United States
ATTACH;FMTTYPE=image/jpeg:https://navarrebeach.com/wp-content/uploads/2025/10/539021790_1195749992584729_7474014074186350599_n.jpg
END:VEVENT
BEGIN:VEVENT
DTSTART;TZID=UTC:20251025T100000
DTEND;TZID=UTC:20251025T170000
DTSTAMP:20260421T223118
CREATED:20251022T204146Z
LAST-MODIFIED:20251022T204146Z
UID:12429-1761386400-1761411600@navarrebeach.com
SUMMARY:Gulf Breeze Boo At The Zoo
DESCRIPTION:Oct. 11-12\, 18–19\, 25–26 | 10 am – 5 pm \n5701 Gulf Breeze Pkwy.\, Gulf Breeze\, FL \nThe Gulf Breeze Zoo’s Boo at the Zoo festival includes Halloween entertainment and kid-friendly fun around every corner. Explore our trick-or-treat trail complete with candy\, treats and toys\, bounce houses\, face painting\, and our Ambassador Animal Headquarters\, not to mention the entire Zoo! \nPlease note: There is no admission before 10 am. \n*Zoo members must purchase tickets to attend this event. The cost is $10 per member. \n**Safari Express Train Ride included with regular admission and Adventure Pass holders. \nFor more information visit gbzoo.com
URL:https://navarrebeach.com/event/gulf-breeze-boo-at-the-zoo/
LOCATION:Gulf Breeze Zoo\, 5701 Gulf Breeze Pkwy\, Gulf Breeze\, FL\, 32563\, United States
ATTACH;FMTTYPE=image/jpeg:https://navarrebeach.com/wp-content/uploads/2025/10/1755631389-GBZ_2025_Boo_WebEvent_1000x550-1.jpg
END:VEVENT
BEGIN:VEVENT
DTSTART;TZID=UTC:20251025T150000
DTEND;TZID=UTC:20251025T170000
DTSTAMP:20260421T223118
CREATED:20251022T193211Z
LAST-MODIFIED:20251022T193211Z
UID:12399-1761404400-1761411600@navarrebeach.com
SUMMARY:First Baptist Church of Navarre Fall Festival
DESCRIPTION:Location: 9302 Navarre Parkway\, Navarre\, FL 32566 \nDate: October 25\, 2025 \nTime: 3:00 P.M. – 5:00 P.M. \nEveryone welcome!
URL:https://navarrebeach.com/event/first-baptist-church-of-navarre-fall-festival/
LOCATION:FL
ATTACH;FMTTYPE=image/jpeg:https://navarrebeach.com/wp-content/uploads/2025/10/Fall_Festival_25.jpg
END:VEVENT
BEGIN:VEVENT
DTSTART;TZID=UTC:20251025T160000
DTEND;TZID=UTC:20251025T190000
DTSTAMP:20260421T223118
CREATED:20251022T194646Z
LAST-MODIFIED:20251022T194646Z
UID:12403-1761408000-1761418800@navarrebeach.com
SUMMARY:NYSA Monster Dash 5K\, Mini Monster Dash 1K & Trunk-or-Treat
DESCRIPTION:Navarre Youth Sports Association Monster Dash 5K\, Mini Monster Dash 1K & Trunk-or-Treat\nMini Monster Dash 1k at 4:00 P.M. \n\nKids & Families in costume\nFinisher ribbons + candy bags!\n\nMonster Dash 5k at 5:00 P.M. \n\nTimed run with awards\nBest costume prizes\n\nTrunk-Or-Treat 4:00 P.M. – 7:00 P.M. \n\nDecorated cars\, safe trick-or-treating\nMusic\, photo booth & more!\nSign up to host a trunk or volunteer!\n\nEmail your questions to nysafundraising@nysasports.com \n 
URL:https://navarrebeach.com/event/nysa-monster-dash-5k-mini-monster-dash-1k-trunk-or-treat/
LOCATION:Navarre Youth Sports Association\, 8840 High School Blvd\, Navarre\, FL\, 32566\, United States
ATTACH;FMTTYPE=image/jpeg:https://navarrebeach.com/wp-content/uploads/2025/10/NYSAFINAL.jpg
END:VEVENT
BEGIN:VEVENT
DTSTART;TZID=UTC:20251025T180000
DTEND;TZID=UTC:20251025T210000
DTSTAMP:20260421T223118
CREATED:20251022T190906Z
LAST-MODIFIED:20251022T190906Z
UID:12382-1761415200-1761426000@navarrebeach.com
SUMMARY:JAWS on Navarre Beach - DOUBLE FEATURE
DESCRIPTION:🌊🦈 JAWS AT THE BEACH — DOUBLE FEATURE! 🦈🌊 \nTo celebrate 100 Years of Navarre AND the 50th Anniversary of JAWS\, Windjammers on the Pier Restaurant & Bar is hosting a two-night movie weekend right on Navarre Beach! \n📽️ Friday\, Oct 24 – JAWS (1975\, the classic that started it all) \n📽️ Saturday\, Oct 25 – JAWS 2 (1978\, filmed right here in Navarre!) \n🎟️ Activities start at 6PM | Movie begins at 7PM \nThis isn’t just a movie night — it’s a celebration of our town’s history and its unique place in cinematic legend. \nPortions of JAWS 2 were filmed right here on Navarre Beach\, with the old Holiday Inn serving as the film crew’s base. \nLocals were even cast as extras\, making Navarre forever part of Hollywood history. \nGrab your blankets\, your popcorn\, and your friends for a one-of-a-kind Halloween weekend kic
URL:https://navarrebeach.com/event/jaws-on-navarre-beach-double-feature-2/
LOCATION:Windjammers on the Pier\, 8579 Gulf Blvd\, Navarre\, FL\, 32566\, United States
ATTACH;FMTTYPE=image/jpeg:https://navarrebeach.com/wp-content/uploads/2025/10/EventPhotoFull_IMG_9736.jpeg
END:VEVENT
BEGIN:VEVENT
DTSTART;TZID=UTC:20251025T180000
DTEND;TZID=UTC:20251025T220000
DTSTAMP:20260421T223118
CREATED:20251022T191824Z
LAST-MODIFIED:20251022T191824Z
UID:12388-1761415200-1761429600@navarrebeach.com
SUMMARY:Nightmare on Newport: Theater of Terror Haunted House
DESCRIPTION:Nightmare on Newport Presents: THEATER OF TERROR \n\n\nHave you ever wanted to step inside your favorite horror movies? This October\, Navarre’s scariest haunted house transforms into a Movie Theater of Terror—and the screen doesn’t just end the story… it unleashes it.\n\n\nFrom the lobby to the final curtain call\, you’ll journey through 15 different horror classics brought to life. No animatronics. No shortcuts. Just over 40 live actors waiting to make sure your nightmares follow you home.\n\n\n Event Details:\n October 17/18\, 24/25\, 31/Nov 1\n 6–6:30pm: Lights On & Kid-Friendly Tour (all ages welcome\, no scares)\n 6:30–10pm: Lights Out (recommended 13+\, full terror mode)\n 7992 Newport St\, Navarre (Nightmare on Newport Haunted House)\n Entry by Donation at the front Ticket Booth – All proceeds benefit Navarre High School NJROTC & Fisher House of the Emerald Coast.\n\n\n Concessions will be available outside.\n Warning: This experience includes loud noises\, fog\, flashing lights\, and sudden scares. Please use caution with your health.
URL:https://navarrebeach.com/event/nightmare-on-newport-theater-of-terror-haunted-house-2/
LOCATION:7992 Newport Street\, Navarre\, FL 32566\, 7992 Newport Street\, Navarre\, FL\, 32566\, United States
ATTACH;FMTTYPE=image/jpeg:https://navarrebeach.com/wp-content/uploads/2025/10/TheaterofTerror.jpg
END:VEVENT
END:VCALENDAR