
BEGIN:VCALENDAR
VERSION:2.0
PRODID:-//Navarrebeach.com - ECPv6.15.20//NONSGML v1.0//EN
CALSCALE:GREGORIAN
METHOD:PUBLISH
X-ORIGINAL-URL:https://navarrebeach.com
X-WR-CALDESC:Events for Navarrebeach.com
REFRESH-INTERVAL;VALUE=DURATION:PT1H
X-Robots-Tag:noindex
X-PUBLISHED-TTL:PT1H
BEGIN:VTIMEZONE
TZID:UTC
BEGIN:STANDARD
TZOFFSETFROM:+0000
TZOFFSETTO:+0000
TZNAME:UTC
DTSTART:20240101T000000
END:STANDARD
END:VTIMEZONE
BEGIN:VEVENT
DTSTART;TZID=UTC:20251030T113000
DTEND;TZID=UTC:20251030T133000
DTSTAMP:20260421T212226
CREATED:20251022T195041Z
LAST-MODIFIED:20251022T195041Z
UID:12408-1761823800-1761831000@navarrebeach.com
SUMMARY:Momentum Church Trunk or Treat
DESCRIPTION:We have an incredible event coming up on Sunday\, October 30\, right before Halloween! It’s our annual Trunk or Treat! \n\nOur event for our Navarre Campus is taking place at 11:30a at Navarre High School\, located at 8600 High School Blvd. We are expecting well over 500 people to visit us at this location alone!\n\nWe’ll be hosting food trucks\, inflatables\, trunks with free candy\, and an amazing\, fun\, FREE experience for our community.\n\nPlease visit momentumchurch.org/kids for more information! We can’t wait to see you there!
URL:https://navarrebeach.com/event/momentum-church-trunk-or-treat/
LOCATION:Momentum Church\, 8600 High School Blvd\, Navarre\, FL\, 32566\, United States
ATTACH;FMTTYPE=image/jpeg:https://navarrebeach.com/wp-content/uploads/2025/10/MC_TrunkorTreat_DGAD300x250_copy.jpg
END:VEVENT
BEGIN:VEVENT
DTSTART;TZID=UTC:20251030T180000
DTEND;TZID=UTC:20251030T210000
DTSTAMP:20260421T212226
CREATED:20251022T204749Z
LAST-MODIFIED:20251022T204749Z
UID:12434-1761847200-1761858000@navarrebeach.com
SUMMARY:The Vine Wine Bar Tasting & Tarot
DESCRIPTION:Step into a night of mystique and merlot as we blend the art of divination with the elegance of wine. Sip curated vintages while a seasoned tarot reader unveils insights from the cards—whether you’re seeking clarity\, connection\, or just a little cosmic fun. Come curious\, leave enchanted. Tarot card reading and a glass of red wine – $20
URL:https://navarrebeach.com/event/the-vine-wine-bar-tasting-tarot/
LOCATION:The Vine Wine Bar\, Bistro & Shoppe\, 8211 Navarre Pkwy\, Navarre\, FL\, 32566\, United States
ATTACH;FMTTYPE=image/jpeg:https://navarrebeach.com/wp-content/uploads/2025/10/560521585_1396874612446317_2849714308178067730_n.jpg
END:VEVENT
END:VCALENDAR