
BEGIN:VCALENDAR
VERSION:2.0
PRODID:-//Navarrebeach.com - ECPv6.15.20//NONSGML v1.0//EN
CALSCALE:GREGORIAN
METHOD:PUBLISH
X-ORIGINAL-URL:https://navarrebeach.com
X-WR-CALDESC:Events for Navarrebeach.com
REFRESH-INTERVAL;VALUE=DURATION:PT1H
X-Robots-Tag:noindex
X-PUBLISHED-TTL:PT1H
BEGIN:VTIMEZONE
TZID:UTC
BEGIN:STANDARD
TZOFFSETFROM:+0000
TZOFFSETTO:+0000
TZNAME:UTC
DTSTART:20240101T000000
END:STANDARD
END:VTIMEZONE
BEGIN:VEVENT
DTSTART;TZID=UTC:20251031T163000
DTEND;TZID=UTC:20251031T200000
DTSTAMP:20260421T211125
CREATED:20251024T134510Z
LAST-MODIFIED:20251024T134510Z
UID:12534-1761928200-1761940800@navarrebeach.com
SUMMARY:Apostolic Lighthouse Church Fall Festival
DESCRIPTION:The air is getting crisp\, the leaves are changing\, and it’s the perfect time to celebrate the season with our community! We’ve lined up a day of family fun\, including games\, karaoke\, and—best of all—the delicious\, gourmet popcorn from Popcorn Mania! \n  \nDate: Friday\, October 31st \n  \nTime: 4:30pm to 8pm \n  \nLocation: 8109 East Bay Blvd\, Navarre\, Florida 32566 \n  \nWhat to expect: \n\nPopcorn Mania: Get your hands on their incredible popcorn flavors!\nKaraoke: 1st\, 2nd and 3rd place winner\nGames & Activities: Maze\, bouncy house\, games\, candy rain\, and free lemonade!\nGood Company: Connect with friends\, family\, and neighbors.\n\n  \nEntry is free\, and we can’t wait to see you there!
URL:https://navarrebeach.com/event/apostolic-lighthouse-church-fall-festival/
LOCATION:Apostolic Lighthouse Church\, 8109 East Bay Boulevard\, Navarre\, FL\, 32566\, United States
ATTACH;FMTTYPE=image/jpeg:https://navarrebeach.com/wp-content/uploads/2025/10/ALC-Fall-Festival.jpg
END:VEVENT
BEGIN:VEVENT
DTSTART;TZID=UTC:20251031T180000
DTEND;TZID=UTC:20251031T220000
DTSTAMP:20260421T211125
CREATED:20251022T191926Z
LAST-MODIFIED:20251022T191926Z
UID:12391-1761933600-1761948000@navarrebeach.com
SUMMARY:Nightmare on Newport: Theater of Terror Haunted House
DESCRIPTION:Nightmare on Newport Presents: THEATER OF TERROR \n\n\nHave you ever wanted to step inside your favorite horror movies? This October\, Navarre’s scariest haunted house transforms into a Movie Theater of Terror—and the screen doesn’t just end the story… it unleashes it.\n\n\nFrom the lobby to the final curtain call\, you’ll journey through 15 different horror classics brought to life. No animatronics. No shortcuts. Just over 40 live actors waiting to make sure your nightmares follow you home.\n\n\n Event Details:\n October 17/18\, 24/25\, 31/Nov 1\n 6–6:30pm: Lights On & Kid-Friendly Tour (all ages welcome\, no scares)\n 6:30–10pm: Lights Out (recommended 13+\, full terror mode)\n 7992 Newport St\, Navarre (Nightmare on Newport Haunted House)\n Entry by Donation at the front Ticket Booth – All proceeds benefit Navarre High School NJROTC & Fisher House of the Emerald Coast.\n\n\n Concessions will be available outside.\n Warning: This experience includes loud noises\, fog\, flashing lights\, and sudden scares. Please use caution with your health.
URL:https://navarrebeach.com/event/nightmare-on-newport-theater-of-terror-haunted-house-3/
LOCATION:7992 Newport Street\, Navarre\, FL 32566\, 7992 Newport Street\, Navarre\, FL\, 32566\, United States
ATTACH;FMTTYPE=image/jpeg:https://navarrebeach.com/wp-content/uploads/2025/10/TheaterofTerror.jpg
END:VEVENT
BEGIN:VEVENT
DTSTART;TZID=UTC:20251031T190000
DTEND;TZID=UTC:20251031T230000
DTSTAMP:20260421T211125
CREATED:20251020T200459Z
LAST-MODIFIED:20251020T200459Z
UID:12372-1761937200-1761951600@navarrebeach.com
SUMMARY:Emerald Waterfront Adult Costume Contest + Live Music!
DESCRIPTION:🎃👻 Halloween Celebration at Emerald Waterfront! 👻🎃\nJoin us for two nights of spooky fun\, costumes\, prizes\, and live music! 🕸️ \n  \n🧡 Wednesday\, October 29 | 4–8 PM\n🎭 Kids Halloween Costume Contest\n– Prizes for 1st\, 2nd & 3rd place\n– Kids eat FREE with an adult meal 👨‍👩‍👧\n– Family-friendly fun by the water! \n  \n🖤 Friday\, October 31 | 7–11 PM\n🎸 Adult Costume Contest + Live Music by Rowdies Rock!\n– Prizes for 1st\, 2nd & 3rd place\n– Dance the night away in your best costume! 💃🕺 \n  \nGet ready for a frightfully fun Halloween at Emerald Waterfront Bar & Grill! \n 
URL:https://navarrebeach.com/event/emerald-waterfront-adult-costume-contest-live-music/
LOCATION:Emerald Waterfront\, 8491 Navarre Pkwy\, Navarre\, FL\, 32566\, United States
ATTACH;FMTTYPE=image/png:https://navarrebeach.com/wp-content/uploads/2025/10/EWF_Halloween_Event-scaled.png
END:VEVENT
END:VCALENDAR