
BEGIN:VCALENDAR
VERSION:2.0
PRODID:-//Navarrebeach.com - ECPv6.15.20//NONSGML v1.0//EN
CALSCALE:GREGORIAN
METHOD:PUBLISH
X-WR-CALNAME:Navarrebeach.com
X-ORIGINAL-URL:https://navarrebeach.com
X-WR-CALDESC:Events for Navarrebeach.com
REFRESH-INTERVAL;VALUE=DURATION:PT1H
X-Robots-Tag:noindex
X-PUBLISHED-TTL:PT1H
BEGIN:VTIMEZONE
TZID:UTC
BEGIN:STANDARD
TZOFFSETFROM:+0000
TZOFFSETTO:+0000
TZNAME:UTC
DTSTART:20240101T000000
END:STANDARD
END:VTIMEZONE
BEGIN:VEVENT
DTSTART;TZID=UTC:20251101T090000
DTEND;TZID=UTC:20251101T140000
DTSTAMP:20260421T212136
CREATED:20251022T195355Z
LAST-MODIFIED:20251022T195355Z
UID:12411-1761987600-1762005600@navarrebeach.com
SUMMARY:Hwy 87 Market at Sand Dollar Plaza
DESCRIPTION:Highway 87 Market is an outdoor market\, held on the 1st and 3rd Saturday of each month\, across multiple venues on Highway 87 in Navarre. In Sand Dollar Plaza\, market vendors will be set up at the back of the plaza. Enjoy a wide variety of booths\, offering food items\, art\, decor\, and so much more.  In addition\, the merchants of Sand Dollar Plaza will be featuring various products and specials\, as they do each week for Sand Dollar Saturday. \nInterested in setting up in the Hwy 87 Market? Email us at SandDollarSaturtday@gmail.com
URL:https://navarrebeach.com/event/hwy-87-market-at-sand-dollar-plaza-4/
LOCATION:Sand Dollar Plaza\, 1900 Highway 87\, Navarre\, FL\, 32566\, United States
ATTACH;FMTTYPE=image/jpeg:https://navarrebeach.com/wp-content/uploads/2025/10/Screenshot_20211014-071512_Google.jpg
END:VEVENT
BEGIN:VEVENT
DTSTART;TZID=UTC:20251101T090000
DTEND;TZID=UTC:20251101T140000
DTSTAMP:20260421T212136
CREATED:20251022T195844Z
LAST-MODIFIED:20251022T195844Z
UID:12414-1761987600-1762005600@navarrebeach.com
SUMMARY:Pik-itz Open Air Market
DESCRIPTION:Come visit our Outdoor Market right here in Navarre.   We have over 30 vendors selling local art\, crafts\, baked goods\, dairy products\, honey and plenty of fun surprises. \nMarkets are held every Saturday from 9 am to 2 pm \nIf you are interested in selling homemade/handmade items\, contact the store for more information.
URL:https://navarrebeach.com/event/pik-itz-open-air-market-3/
LOCATION:Pik-itz Art & Antiques\, 1922 Highway 87\, Navarre\, FL\, 32566\, United States
ATTACH;FMTTYPE=image/jpeg:https://navarrebeach.com/wp-content/uploads/2025/10/101750589_10220063461249952_4498045853958709771_o.jpg
ORGANIZER;CN="Pik-itz":MAILTO:shoppikitz@gmail.com
END:VEVENT
BEGIN:VEVENT
DTSTART;TZID=UTC:20251101T100000
DTEND;TZID=UTC:20251101T160000
DTSTAMP:20260421T212136
CREATED:20251009T203559Z
LAST-MODIFIED:20251009T203708Z
UID:12336-1761991200-1762012800@navarrebeach.com
SUMMARY:Cornhole Tournament sponsored by Absolute Zenergy
DESCRIPTION: Absolute Zenergy Cornhole Tournament \n Saturday\, November 1\, 2025\n 10:00 AM – 4:00 PM\n La Sala Event Space | 3352 Hwy 87\, Navarre\, FL 32566\nVendor spaces available for $35 each. Register here – https://forms.gle/zY1dPAza17d57UAK8\nGet ready to toss some bags and test your skills at the Absolute Zenergy Cornhole Tournament! \n What to Expect:\n Prizes for Top Teams\n Food\, Raffles\, Prizes & Vendors\n Family-Friendly Fun\n Supporting Kiwanis Club of Navarre & American Legion Post 378-Gulf Breeze\n Registration Fee: $20 per team\n Sign up now to secure your spot! https://forms.gle/oxgqJvDVjRNtfJnA7\nThis event is all about community\, competition\, and giving back—so grab your partner\, bring your A-game\, and join us for a day of fun at La Sala Event Space.\n Mark your calendars and let the bags fly—may the best team win!
URL:https://navarrebeach.com/event/cornhole-tournament-sponsored-by-absolute-zenergy/
LOCATION:La Sala\, 3352 SR-87\, Navarre\, FL\, 32566\, United States
ATTACH;FMTTYPE=image/jpeg:https://navarrebeach.com/wp-content/uploads/2025/10/Cornhole.jpg
END:VEVENT
BEGIN:VEVENT
DTSTART;TZID=UTC:20251101T180000
DTEND;TZID=UTC:20251101T220000
DTSTAMP:20260421T212136
CREATED:20251022T192223Z
LAST-MODIFIED:20251022T192223Z
UID:12393-1762020000-1762034400@navarrebeach.com
SUMMARY:Nightmare on Newport: Theater of Terror Haunted House
DESCRIPTION:Nightmare on Newport Presents: THEATER OF TERROR \n\n\nHave you ever wanted to step inside your favorite horror movies? This October\, Navarre’s scariest haunted house transforms into a Movie Theater of Terror—and the screen doesn’t just end the story… it unleashes it.\n\n\nFrom the lobby to the final curtain call\, you’ll journey through 15 different horror classics brought to life. No animatronics. No shortcuts. Just over 40 live actors waiting to make sure your nightmares follow you home.\n\n\n Event Details:\n October 17/18\, 24/25\, 31/Nov 1\n 6–6:30pm: Lights On & Kid-Friendly Tour (all ages welcome\, no scares)\n 6:30–10pm: Lights Out (recommended 13+\, full terror mode)\n 7992 Newport St\, Navarre (Nightmare on Newport Haunted House)\n Entry by Donation at the front Ticket Booth – All proceeds benefit Navarre High School NJROTC & Fisher House of the Emerald Coast.\n\n\n Concessions will be available outside.\n Warning: This experience includes loud noises\, fog\, flashing lights\, and sudden scares. Please use caution with your health.
URL:https://navarrebeach.com/event/nightmare-on-newport-theater-of-terror-haunted-house-4/
LOCATION:7992 Newport Street\, Navarre\, FL 32566\, 7992 Newport Street\, Navarre\, FL\, 32566\, United States
ATTACH;FMTTYPE=image/jpeg:https://navarrebeach.com/wp-content/uploads/2025/10/TheaterofTerror.jpg
END:VEVENT
END:VCALENDAR