
BEGIN:VCALENDAR
VERSION:2.0
PRODID:-//Navarrebeach.com - ECPv6.15.20//NONSGML v1.0//EN
CALSCALE:GREGORIAN
METHOD:PUBLISH
X-WR-CALNAME:Navarrebeach.com
X-ORIGINAL-URL:https://navarrebeach.com
X-WR-CALDESC:Events for Navarrebeach.com
REFRESH-INTERVAL;VALUE=DURATION:PT1H
X-Robots-Tag:noindex
X-PUBLISHED-TTL:PT1H
BEGIN:VTIMEZONE
TZID:UTC
BEGIN:STANDARD
TZOFFSETFROM:+0000
TZOFFSETTO:+0000
TZNAME:UTC
DTSTART:20240101T000000
END:STANDARD
END:VTIMEZONE
BEGIN:VEVENT
DTSTART;TZID=UTC:20251104T080000
DTEND;TZID=UTC:20251104T170000
DTSTAMP:20260421T210936
CREATED:20251104T180659Z
LAST-MODIFIED:20251104T180659Z
UID:12558-1762243200-1762275600@navarrebeach.com
SUMMARY:Rotary Club of Navarre Pancake Breakfast
DESCRIPTION:Please support the Rotary Club of Navarre and our 2025 pancake breakfast fundraiser for our NHS scholarship program that has awarded over $150\,000 in scholarships since 2000 and will award 8 – $1\,500 scholarships to graduating NHS seniors in May 2026. \n  \nThis years pancake breakfast fundraiser is scheduled for Saturday\, Nov 8th 2025 from 7:30 AM – 10:00 AM at Samurai Japanese Steakhouse on Hwy 98 in Navarre. \n  \nSponsorships are available!  Click Here for Sponsorship Options. \nSilver Sponsor – $200\, Gold Sponsor – $350 \, Platinum Sponsor – $750\, Named Scholarship – $1\,500 \n100% of funds raised supports our scholarship and youth charity programs in Navarre. \n  \nNamed Scholarships! \n  \nWe now offer the option to sponsor a named scholarship. You or your company can donate $1\,500 and name the scholarship and also designate which group it is awarded to – JROTC Cadet\, Interact Club member\, Tech/Trade School or General Student. \n  \nThis is a great way to represent your business\, family or loved one and help a NHS graduate go to college. In addition to naming the scholarship you will be invited to attend the high school scholarship award night and present your scholarship alongside Rotary’s other winners and attend the Rotary Scholarship luncheon. \n  \nYou may purchase tickets at the door or from a NHS JROTC Cadet. Cost is $5 for all you can eat pancakes\, sausage\, coffee and juice. Children 6 & Under are FREE. \n  \nWe will be offering dine in service as well as outside dining and curbside take out. \n  \nYou can also purchase tickets that will be donated to first responders and local families in need! \n  \nClick Here to Donate Tickets! \n  \nIn addition to all you can eat pancakes\, sausage\, juice and coffee\, we will have a huge raffle with great prizes and a silent auction. \n  \nThe money raised at our annual pancake breakfast funds our NHS Scholarship Program as well as support many other youth programs in Navarre including the JROTC program\, Navarre Beach Marine Science Station\, Student Leadership Program for 8th Graders\, Navarre High School Interact Club\, Rescue Tubes on Navarre Beach and the Rotary Harmony Park at Navarre Park.
URL:https://navarrebeach.com/event/rotary-club-of-navarre-pancake-breakfast/
LOCATION:Samurai Japanese Steakhouse\, 8780 Navarre Pkwy\, Navarre\, FL\, 32566\, United States
ATTACH;FMTTYPE=application/pdf:https://navarrebeach.com/wp-content/uploads/2025/11/PANCAKE2025.pdf
END:VEVENT
END:VCALENDAR