
BEGIN:VCALENDAR
VERSION:2.0
PRODID:-//Navarrebeach.com - ECPv6.15.20//NONSGML v1.0//EN
CALSCALE:GREGORIAN
METHOD:PUBLISH
X-WR-CALNAME:Navarrebeach.com
X-ORIGINAL-URL:https://navarrebeach.com
X-WR-CALDESC:Events for Navarrebeach.com
REFRESH-INTERVAL;VALUE=DURATION:PT1H
X-Robots-Tag:noindex
X-PUBLISHED-TTL:PT1H
BEGIN:VTIMEZONE
TZID:UTC
BEGIN:STANDARD
TZOFFSETFROM:+0000
TZOFFSETTO:+0000
TZNAME:UTC
DTSTART:20240101T000000
END:STANDARD
END:VTIMEZONE
BEGIN:VEVENT
DTSTART;TZID=UTC:20251108T073000
DTEND;TZID=UTC:20251108T103000
DTSTAMP:20260421T210950
CREATED:20251022T200427Z
LAST-MODIFIED:20251022T200427Z
UID:12416-1762587000-1762597800@navarrebeach.com
SUMMARY:Monthly Pancake Breakfast at Holley Navarre Senior Association
DESCRIPTION:Did you know that there is a DELICIOUS way to support your local senior center? \nEvery 2nd Saturday of the month\, we offer a pancake breakfast… \nOur breakfast is one of our best kept secrets in Navarre for breakfast and we hope you’ll give us a try!!! \nEvery dollar earned goes directly to the center and supports our community events. \nWe even offer ALL YOU CAN EAT PANCAKES… – WHAT!!!???🤯. \n(Please bring cash – we are working on going electronic!!) \nWe start serving at 7:30am and go all the way to 10:30am for those of you that like to sleep in 😴. \nThe best part? \nYou don’t even need to be a member to come to the breakfast\, but once you try it – you’ll want to join\, get on our e-mail list and get reminders when the breakfasts are on!!! \nIf you haven’t checked out our local senior center yet\, we’d love to see you!!!
URL:https://navarrebeach.com/event/monthly-pancake-breakfast-at-holley-navarre-senior-association/
LOCATION:Holley Navarre Senior Association\, 8476 Gordon Goodin Lane\, Navarre\, FL\, 32566\, United States
ATTACH;FMTTYPE=image/jpeg:https://navarrebeach.com/wp-content/uploads/2025/10/EventPhotoFull_IMG_4387.jpeg
END:VEVENT
BEGIN:VEVENT
DTSTART;TZID=UTC:20251108T110000
DTEND;TZID=UTC:20251108T180000
DTSTAMP:20260421T210950
CREATED:20251022T205744Z
LAST-MODIFIED:20251022T205744Z
UID:12440-1762599600-1762624800@navarrebeach.com
SUMMARY:Navarre Market
DESCRIPTION:Tempt your taste buds and come hungry at the Fall Navarre Market at Navarre Park. There will be food trucks\, vendors\, live entertainment and a bounce house for the kids.
URL:https://navarrebeach.com/event/navarre-market/
LOCATION:Navarre Park\, 8513 Navarre Pkwy\, Navarre\, FL\, 32566\, United States
ATTACH;FMTTYPE=image/webp:https://navarrebeach.com/wp-content/uploads/2025/10/rsw_1240cg_true.webp
END:VEVENT
BEGIN:VEVENT
DTSTART;TZID=UTC:20251108T183000
DTEND;TZID=UTC:20251108T220000
DTSTAMP:20260421T210950
CREATED:20251009T204215Z
LAST-MODIFIED:20251009T204215Z
UID:12341-1762626600-1762639200@navarrebeach.com
SUMMARY:Speakeasy Mystery Dinner at La Sala
DESCRIPTION:Step back into the Prohibition era for a night of mystery\, mayhem\, and murder!\nJoin us at La Sala Event Center for the Speakeasy Mystery Dinner — a thrilling interactive murder mystery experience with dinner\, drinks\, and drama! \nSaturday\, Nov 8\nShowtime 7PM | Doors Open 6:30PM\n$65 per person (21+) / $70 at the door\nIncludes Dinner Buffet | Cash Bar Available
URL:https://navarrebeach.com/event/speakeasy-mystery-dinner-at-la-sala/
LOCATION:La Sala\, 3352 SR-87\, Navarre\, FL\, 32566\, United States
ATTACH;FMTTYPE=image/avif:https://navarrebeach.com/wp-content/uploads/2025/10/15711664-a472-11f0-82b9-0242ac120005.avif
END:VEVENT
BEGIN:VEVENT
DTSTART;TZID=UTC:20251108T193000
DTEND;TZID=UTC:20251108T220000
DTSTAMP:20260421T210950
CREATED:20251022T213857Z
LAST-MODIFIED:20251022T213857Z
UID:12462-1762630200-1762639200@navarrebeach.com
SUMMARY:Stage Crafters Sister Act – The Musical
DESCRIPTION:November 7th-9th & November 14th-16th​\n\nFridays and Saturdays at 7:30pm | Sundays at 2:00pm\nWhen disco diva\, Deloris Van Cartier\, witnesses a murder\, she is put in protective custody in the one place the cops are sure she won’t be a found: a convent! Disguised as a nun\, she finds herself at odds with both the rigid lifestyle and uptight Mother Superior. Using her unique disco moves and singing talent to inspire the choir\, Deloris breathes new life into the church and community but\, in doing so\, blows her cover. Soon\, the gang is giving chase\, only to find them up against Deloris and the power of her newly found sisterhood. Filled with powerful gospel music\, outrageous dancing and a truly moving story\, Sister Act is the feel-good musical comedy smash based on the hit 1992 film that will have audiences jumping to their feet! Featuring original music by Tony- and eight-time Oscar winner\, Alan Menken\, this uplifting musical was nominated for five Tony Awards\, including Best Musical.
URL:https://navarrebeach.com/event/stage-crafters-sister-act-the-musical-2/
LOCATION:Fort Walton Beach Civic Auditorium\, 109 Miracle Strip Parkway\, Fort Walton Beach\, FL\, 32548\, United States
ATTACH;FMTTYPE=image/avif:https://navarrebeach.com/wp-content/uploads/2025/10/e116f298-a46d-11f0-8501-0242ac120003.avif
END:VEVENT
END:VCALENDAR