
BEGIN:VCALENDAR
VERSION:2.0
PRODID:-//Navarrebeach.com - ECPv6.15.20//NONSGML v1.0//EN
CALSCALE:GREGORIAN
METHOD:PUBLISH
X-WR-CALNAME:Navarrebeach.com
X-ORIGINAL-URL:https://navarrebeach.com
X-WR-CALDESC:Events for Navarrebeach.com
REFRESH-INTERVAL;VALUE=DURATION:PT1H
X-Robots-Tag:noindex
X-PUBLISHED-TTL:PT1H
BEGIN:VTIMEZONE
TZID:UTC
BEGIN:STANDARD
TZOFFSETFROM:+0000
TZOFFSETTO:+0000
TZNAME:UTC
DTSTART:20240101T000000
END:STANDARD
END:VTIMEZONE
BEGIN:VEVENT
DTSTART;TZID=UTC:20251122T100000
DTEND;TZID=UTC:20251122T130000
DTSTAMP:20260421T211709
CREATED:20251106T160706Z
LAST-MODIFIED:20251106T160706Z
UID:12563-1763805600-1763816400@navarrebeach.com
SUMMARY:Green Thumb Open House - Navarre Garden Club
DESCRIPTION:Cookies and Hot Chocolate. \nSee Santa! \nCrafts workshops for kids & adults. \nBake sale\, plant sale\, gifts & crafts sale. \nGet on the ‘Nice’ list.
URL:https://navarrebeach.com/event/green-thumb-open-house-navarre-garden-club/
LOCATION:8435 Easy Bay Blvd.\, 8435 East Bay Blvd\, Navarre\, FL\, 32566\, United States
ATTACH;FMTTYPE=image/jpeg:https://navarrebeach.com/wp-content/uploads/2025/11/Capture.jpg
END:VEVENT
END:VCALENDAR