
BEGIN:VCALENDAR
VERSION:2.0
PRODID:-//Navarrebeach.com - ECPv6.15.20//NONSGML v1.0//EN
CALSCALE:GREGORIAN
METHOD:PUBLISH
X-WR-CALNAME:Navarrebeach.com
X-ORIGINAL-URL:https://navarrebeach.com
X-WR-CALDESC:Events for Navarrebeach.com
REFRESH-INTERVAL;VALUE=DURATION:PT1H
X-Robots-Tag:noindex
X-PUBLISHED-TTL:PT1H
BEGIN:VTIMEZONE
TZID:UTC
BEGIN:STANDARD
TZOFFSETFROM:+0000
TZOFFSETTO:+0000
TZNAME:UTC
DTSTART:20240101T000000
END:STANDARD
END:VTIMEZONE
BEGIN:VEVENT
DTSTART;TZID=UTC:20251128T163000
DTEND;TZID=UTC:20251128T173000
DTSTAMP:20260421T211020
CREATED:20251106T221528Z
LAST-MODIFIED:20251106T221528Z
UID:12583-1764347400-1764351000@navarrebeach.com
SUMMARY:Annual Navarre Community Christmas Tree Lighting
DESCRIPTION:Gather ’round\, festive friends! The holiday season is here\, and we’re kicking it off with one of Navarre’s most beloved traditions — the Annual Community Christmas Tree Lighting at Navarre Park! \nJoin us on Friday\, November 28th\, from 4:30 PM to 5:30 PM\, for an evening filled with joy\, music\, and the magic of the holidays. \nSet against the breathtaking backdrop of Santa Rosa Sound\, you’ll witness the heartwarming moment when our majestic Christmas tree comes to life at 5:25 PM\, casting a cheerful glow across the park. \nEnjoy LIVE holiday music beginning at 4:30 PM and savor the season’s sweetest treats — hot chocolate\, coffee\, and cookies\, generously provided by our wonderful sponsors:\n✨ Baptist Emergency Room & Urgent Care✨ University Lending Group✨ Perfect Blend Coffee Company \nThis free\, family-friendly event is open to everyone\, so bring your loved ones\, bundle up\, and celebrate the spirit of the season with us! Create cherished memories as you sip cocoa\, sing along to Christmas carols\, and share in the warmth of our close-knit community. \nLocal businesses are also invited to help spread the holiday magic — Tree Lighting Sponsorships are still available for those wishing to participate in this festive tradition. \nLet’s light up the night together and welcome the holidays in true Navarre style! 🌟 \nWe can’t wait to see you there!
URL:https://navarrebeach.com/event/annual-navarre-community-christmas-tree-lighting/
LOCATION:Navarre Park\, 8513 Navarre Pkwy\, Navarre\, FL\, 32566\, United States
ATTACH;FMTTYPE=image/jpeg:https://navarrebeach.com/wp-content/uploads/2025/11/Capture-3.jpg
END:VEVENT
END:VCALENDAR