
BEGIN:VCALENDAR
VERSION:2.0
PRODID:-//Navarrebeach.com - ECPv6.15.20//NONSGML v1.0//EN
CALSCALE:GREGORIAN
METHOD:PUBLISH
X-WR-CALNAME:Navarrebeach.com
X-ORIGINAL-URL:https://navarrebeach.com
X-WR-CALDESC:Events for Navarrebeach.com
REFRESH-INTERVAL;VALUE=DURATION:PT1H
X-Robots-Tag:noindex
X-PUBLISHED-TTL:PT1H
BEGIN:VTIMEZONE
TZID:UTC
BEGIN:STANDARD
TZOFFSETFROM:+0000
TZOFFSETTO:+0000
TZNAME:UTC
DTSTART:20240101T000000
END:STANDARD
END:VTIMEZONE
BEGIN:VEVENT
DTSTART;TZID=UTC:20251202T090000
DTEND;TZID=UTC:20251202T120000
DTSTAMP:20260421T194752
CREATED:20251106T161812Z
LAST-MODIFIED:20251106T161812Z
UID:12571-1764666000-1764676800@navarrebeach.com
SUMMARY:Navarre Garden Club Monthly Meeting - Floral Design for Christmas
DESCRIPTION:Navarre Garden Club Monthly Meeting – Floral Design for Christmas \nMeeting will be held at Navarre Fire Station #45 (Behind McDonalds in Navarre) \nPublic welcome
URL:https://navarrebeach.com/event/navarre-garden-club-monthly-meeting-floral-design-for-christmas/
LOCATION:Holley-Navarre Fire District – Station 45\, 8618 Esplanade St E\, Navarre\, FL\, 32566\, United States
ATTACH;FMTTYPE=image/jpeg:https://navarrebeach.com/wp-content/uploads/2025/11/Capture.jpg
END:VEVENT
END:VCALENDAR