
BEGIN:VCALENDAR
VERSION:2.0
PRODID:-//Navarrebeach.com - ECPv6.15.20//NONSGML v1.0//EN
CALSCALE:GREGORIAN
METHOD:PUBLISH
X-ORIGINAL-URL:https://navarrebeach.com
X-WR-CALDESC:Events for Navarrebeach.com
REFRESH-INTERVAL;VALUE=DURATION:PT1H
X-Robots-Tag:noindex
X-PUBLISHED-TTL:PT1H
BEGIN:VTIMEZONE
TZID:UTC
BEGIN:STANDARD
TZOFFSETFROM:+0000
TZOFFSETTO:+0000
TZNAME:UTC
DTSTART:20240101T000000
END:STANDARD
END:VTIMEZONE
BEGIN:VEVENT
DTSTART;TZID=UTC:20251206T080000
DTEND;TZID=UTC:20251206T090000
DTSTAMP:20260421T194911
CREATED:20251107T210121Z
LAST-MODIFIED:20251107T210232Z
UID:12614-1765008000-1765011600@navarrebeach.com
SUMMARY:Navarre Jingle Bell Run
DESCRIPTION:Navarre Jingle Bell Run\n5K Run/Walk/Fun Run\nFamily Event for all Ages\nNon-competition\n\nSaturday\, December 6\, 2025 @ 8:00 am\nNavarre Main Fire Station\n(Behind McDonalds on Hwy. 98)\n8618 Esplanade St · Navarre\, FL 32566 \nBenefiting Navarre Chamber Foundation’s Community Projects \n\n\nRace Start\n\nNavarre Main Fire Station (behind McDonald’s)\, 8:00 am start\, one hour course time limit. \n\nCourse\n\n Run/walk through the residential streets of the Town Center for a 5K (3.1 miles) or several shorter distances. \n\nLong Sleeve T-Shirts\n\nGuaranteed to the first 200 registrants. Race packet pick-up\, Friday\, 3-6 pm at Fire Station or on Race Day\, 7:00 am at the Fire Station. \n\nJingle Bells\n\nParticipant will receive a jingle bell and are encouraged to dress up for the season. \n\nPost Race Refreshments\n\nRefreshments will be at the Fire Station after the event. Door prizes! \n\nLeashed pets are welcome\n\nSpecial prize will be awarded for the most festive participant. \nNO REFUNDS
URL:https://navarrebeach.com/event/navarre-jingle-bell-run-2/
LOCATION:FL
ATTACH;FMTTYPE=image/jpeg:https://navarrebeach.com/wp-content/uploads/2025/11/race68283-logo-0.bB2ihu.jpg
END:VEVENT
BEGIN:VEVENT
DTSTART;TZID=UTC:20251206T090000
DTEND;TZID=UTC:20251206T170000
DTSTAMP:20260421T194911
CREATED:20251009T210028Z
LAST-MODIFIED:20251009T210029Z
UID:12349-1765011600-1765040400@navarrebeach.com
SUMMARY:Pokemon & Sports Card Show presented by The Emporium
DESCRIPTION:
URL:https://navarrebeach.com/event/pokemon-sports-card-show-presented-by-the-emporium/
LOCATION:La Sala\, 3352 SR-87\, Navarre\, FL\, 32566\, United States
ATTACH;FMTTYPE=image/jpeg:https://navarrebeach.com/wp-content/uploads/2025/10/542458044_800388842509658_772007685415809209_n.jpg
END:VEVENT
BEGIN:VEVENT
DTSTART;TZID=UTC:20251206T100000
DTEND;TZID=UTC:20251206T160000
DTSTAMP:20260421T194911
CREATED:20251107T205122Z
LAST-MODIFIED:20251107T205122Z
UID:12608-1765015200-1765036800@navarrebeach.com
SUMMARY:31st Annual Christmas in the Park & Merry Market
DESCRIPTION:Christmas in the Park – Navarre Park (8513 Navarre Parkway) \nA full day of festive fun\, local shopping\, and community cheer \nWhen: Sat\, Dec 6\, 2025 • 10 AM–4 PM \nWhere: Navarre Park\, 8513 Navarre Parkway \nShop the Merry Market\nFind one‑of‑a‑kind gifts from local artists\, crafters\, and small retailers – everything from original artwork and jewelry to handmade décor and seasonal goodies. Vendor applications are open now\, and we welcome local makers to showcase their holiday best. A limited number of food and beverage vendor opportunities are also available. Space is limited\, so apply early to showcase your holiday creations! \nLIVE Entertainment\, All Day\nFrom 10 AM to 4 PM\, enjoy continuous performances from area school groups\, church choirs\, and hometown talent that bring the spirit of the season to life. Interested performers are encouraged to sign up now. \nMrs. Claus’ Bakery (Complimentary Treats!)\nWarm up with free baked goods and hot beverages at Mrs. Claus’ Bakery—because nothing says holiday spirit like cookies\, coffee\, hot tea and cocoa with friends and neighbors. \nCandy Cane Corner (Free Kids’ Activities!)                                                   \nTo create a festive\, community‑focused experience for all kids in the Navarre area\, all local businesses and organizations are invited to set up a booth with a FREE activity for children. Expect games\, crafts\, decorating\, and prizes throughout the event. \n  \n\n\n\nGet Involved \nSponsorship\, Candy Cane Corner Businesses/Organizations and Vendor Registration Form: \n\n\n\nSponsorship/Registration PDF Form \nCLICK HERE to complete your Sponsorship/Registration Online\n\n\n\nCommunity Members: Mark your calendars\, invite your neighbors\, and come ready for a day of joy\, laughter\, and Navarre pride. \n\n\n\nVolunteer opportunities are also available. Call 850.939.3267 for more details.
URL:https://navarrebeach.com/event/31st-annual-christmas-in-the-park-merry-market/
LOCATION:Navarre Park\, 8513 Navarre Pkwy\, Navarre\, FL\, 32566\, United States
ATTACH;FMTTYPE=image/jpeg:https://navarrebeach.com/wp-content/uploads/2025/11/EventPhotoFull_The-Christmas-in-the-Park-logo-2015-Final.jpg
END:VEVENT
BEGIN:VEVENT
DTSTART;TZID=UTC:20251206T130000
DTEND;TZID=UTC:20251206T140000
DTSTAMP:20260421T194911
CREATED:20251107T205605Z
LAST-MODIFIED:20251107T205605Z
UID:12611-1765026000-1765029600@navarrebeach.com
SUMMARY:Annual Navarre Community Christmas Parade
DESCRIPTION:Annual Navarre Community Christmas Parade will start at 1 pm on Saturday\, December 6\, 2025. \n\nParade Entry Fee:  $100  Non-Chamber Members\, $50 Chamber Members\n \nSanta and Mrs. Claus will arrive by fire truck in the parade and will be available for photos with children in Navarre Park as soon as the parade ends.   \n\nVisits with Santa & Mrs. Claus are free and parents are invited to bring their cameras for photos. \nFree baked goods and beverages will be available at Mrs. Claus’ Bakery \n\nA local tradition since 1994\, this event ushers in the holiday season in the Navarre area with a Merry Market where local artists and crafters will gather with great gift ideas for everyone on your list. \nThis is an outdoor event in Navarre Park located at 8513 Navarre Parkway.
URL:https://navarrebeach.com/event/annual-navarre-community-christmas-parade/
LOCATION:FL
ATTACH;FMTTYPE=image/jpeg:https://navarrebeach.com/wp-content/uploads/2025/11/EventPhotoMini_christmas2.jpg
END:VEVENT
END:VCALENDAR