
BEGIN:VCALENDAR
VERSION:2.0
PRODID:-//Navarrebeach.com - ECPv6.15.20//NONSGML v1.0//EN
CALSCALE:GREGORIAN
METHOD:PUBLISH
X-ORIGINAL-URL:https://navarrebeach.com
X-WR-CALDESC:Events for Navarrebeach.com
REFRESH-INTERVAL;VALUE=DURATION:PT1H
X-Robots-Tag:noindex
X-PUBLISHED-TTL:PT1H
BEGIN:VTIMEZONE
TZID:UTC
BEGIN:STANDARD
TZOFFSETFROM:+0000
TZOFFSETTO:+0000
TZNAME:UTC
DTSTART:20240101T000000
END:STANDARD
END:VTIMEZONE
BEGIN:VEVENT
DTSTART;TZID=UTC:20251216T180000
DTEND;TZID=UTC:20251216T210000
DTSTAMP:20260421T194920
CREATED:20251022T205349Z
LAST-MODIFIED:20251022T205349Z
UID:12437-1765908000-1765918800@navarrebeach.com
SUMMARY:MOVIES in the PARKS Santa Rosa County - Polar Express
DESCRIPTION:Bring blankets or lawn chairs for a fun-filled evening of entertainment. Local food truck vendors will be on-site\, and movies will be shown on a large outdoor screen\, creating a theater-like experience int he heart of Santa Rosa County’s beloved parks. This is a free event\, visitors are responsible for purchases from food trucks. \nMonsters\, Inc- 6p.m. Tuesday\, Nov.4 Benny Russell Park \nThe Incredibles- 6p.m. Tuesday Nov 18 Bagdad Mill Site Park \nPolar Express- 6p.m. Tuesday Dec. 16 Navarre Park
URL:https://navarrebeach.com/event/movies-in-the-parks-santa-rosa-county-polar-express/
LOCATION:Navarre Park\, 8513 Navarre Pkwy\, Navarre\, FL\, 32566\, United States
ATTACH;FMTTYPE=image/jpeg:https://navarrebeach.com/wp-content/uploads/2025/10/561756004_1222169089938855_1732472143959251763_n.jpg
END:VEVENT
END:VCALENDAR