
BEGIN:VCALENDAR
VERSION:2.0
PRODID:-//Navarrebeach.com - ECPv6.15.20//NONSGML v1.0//EN
CALSCALE:GREGORIAN
METHOD:PUBLISH
X-WR-CALNAME:Navarrebeach.com
X-ORIGINAL-URL:https://navarrebeach.com
X-WR-CALDESC:Events for Navarrebeach.com
REFRESH-INTERVAL;VALUE=DURATION:PT1H
X-Robots-Tag:noindex
X-PUBLISHED-TTL:PT1H
BEGIN:VTIMEZONE
TZID:UTC
BEGIN:STANDARD
TZOFFSETFROM:+0000
TZOFFSETTO:+0000
TZNAME:UTC
DTSTART:20240101T000000
END:STANDARD
END:VTIMEZONE
BEGIN:VEVENT
DTSTART;TZID=UTC:20251219T170000
DTEND;TZID=UTC:20251219T200000
DTSTAMP:20260421T194817
CREATED:20251219T164838Z
LAST-MODIFIED:20251219T164838Z
UID:12722-1766163600-1766174400@navarrebeach.com
SUMMARY:Parent's Night Out - Navarre United Methodist Church
DESCRIPTION:Need a little space to finish Christmas shopping\, wrap gifts\, or simply breathe during the holiday rush? We’ve got you.\n\nDrop your kids off for a festive evening filled with dinner\, dessert\, crafts\, and fun holiday activities. We’ll keep them engaged\, entertained\, and well cared for—while you enjoy a few uninterrupted hours.\n\nCost: $20 per child\nIncludes: Dinner\, dessert\, crafts\, and activities\n\nSpots are limited\, so be sure to reserve your child’s place soon!\nRegister at: https://navarre.church/…/main/2025/12/19/parents-night-out
URL:https://navarrebeach.com/event/parents-night-out-navarre-united-methodist-church/
LOCATION:Navarre United Methodist Church\, 9474 Navarre Pkwy\, Navarre\, FL\, 32566\, United States
ATTACH;FMTTYPE=image/jpeg:https://navarrebeach.com/wp-content/uploads/2025/12/parents-night-out.jpg
END:VEVENT
END:VCALENDAR