
BEGIN:VCALENDAR
VERSION:2.0
PRODID:-//Navarrebeach.com - ECPv6.15.20//NONSGML v1.0//EN
CALSCALE:GREGORIAN
METHOD:PUBLISH
X-WR-CALNAME:Navarrebeach.com
X-ORIGINAL-URL:https://navarrebeach.com
X-WR-CALDESC:Events for Navarrebeach.com
REFRESH-INTERVAL;VALUE=DURATION:PT1H
X-Robots-Tag:noindex
X-PUBLISHED-TTL:PT1H
BEGIN:VTIMEZONE
TZID:UTC
BEGIN:STANDARD
TZOFFSETFROM:+0000
TZOFFSETTO:+0000
TZNAME:UTC
DTSTART:20240101T000000
END:STANDARD
END:VTIMEZONE
BEGIN:VEVENT
DTSTART;TZID=UTC:20251231T190000
DTEND;TZID=UTC:20260101T003000
DTSTAMP:20260421T181912
CREATED:20251009T210534Z
LAST-MODIFIED:20251202T224330Z
UID:12353-1767207600-1767227400@navarrebeach.com
SUMMARY:New Year's Eve Bash presented by La Sala
DESCRIPTION:La Sala NYE Bash with Music\, Dinner & Comedy \nCome join us for a night of fun at La Sala Event Center! Get ready to dance to live music by Steve Hall\, enjoy a variety of gourmet treats provided by Coastal Cowgirl and Stripes Pub & Grill\, and laugh until your sides hurt with Dean Napolitano. This event promises to be a memorable way to ring in the New Year. Don’t miss out on the chance to celebrate with friends\, good food and plenty of entertainment. Grab your tickets now!
URL:https://navarrebeach.com/event/new-years-eve-bash-presented-by-la-sala/
LOCATION:La Sala\, 3352 SR-87\, Navarre\, FL\, 32566\, United States
ATTACH;FMTTYPE=image/png:https://navarrebeach.com/wp-content/uploads/2025/10/image-19.png
END:VEVENT
BEGIN:VEVENT
DTSTART;TZID=UTC:20251231T193000
DTEND;TZID=UTC:20260101T000000
DTSTAMP:20260421T181912
CREATED:20251219T170840Z
LAST-MODIFIED:20251219T170840Z
UID:12738-1767209400-1767225600@navarrebeach.com
SUMMARY:NYE Party at Navarre American Legion #382
DESCRIPTION:Time again to celebrate the end of the year and look forward to a new one!\nWe will be celebrating NYE in Navarre at American Legion Post 382 and this event is free and open to the public. \nIn addition to all your favorite tunes\, there will be a special dinner for $45 that is free for Legion members. \nStick around ‘til midnight for the champagne toast and to ring in the New Year with us!
URL:https://navarrebeach.com/event/nye-party-at-navarre-american-legion-382/
LOCATION:American Legion Post 382\, 1850 Luneta St\, Navarre\, FL\, 32566\, United States
ATTACH;FMTTYPE=image/jpeg:https://navarrebeach.com/wp-content/uploads/2025/12/NYE-AL.jpg
END:VEVENT
BEGIN:VEVENT
DTSTART;TZID=UTC:20251231T203000
DTEND;TZID=UTC:20260101T003000
DTSTAMP:20260421T181912
CREATED:20251219T153232Z
LAST-MODIFIED:20251219T153232Z
UID:12699-1767213000-1767227400@navarrebeach.com
SUMMARY:New Year’s Eve Celebration
DESCRIPTION:Wed.\, Dec. 31 | 8:30 pm  – 12:30 am \nWIndjammers on the Pier\, 8579 Gulf Blvd.\, Navarre Beach\, FL \n\nLive Music: Tribe Zion (8:30 PM – 12:30 AM)\nFireworks & Turtle Drop at midnight!\nWristbands will be distributed after 8:30 PM for those in the Windjammers footprint.\n\n\nTribe Zion hosted by Windjammers on the Pier \nFireworks hosted by Navarre Beach – Floridas Panhandle \nTurtle Drop hosted by Navarre Beach Area Chamber of Commerce
URL:https://navarrebeach.com/event/new-years-eve-celebration/
LOCATION:Windjammers on the Pier\, 8579 Gulf Blvd\, Navarre\, FL\, 32566\, United States
ATTACH;FMTTYPE=image/jpeg:https://navarrebeach.com/wp-content/uploads/2025/12/nye.jpg
END:VEVENT
BEGIN:VEVENT
DTSTART;TZID=UTC:20251231T203000
DTEND;TZID=UTC:20260101T003000
DTSTAMP:20260421T181912
CREATED:20251219T170151Z
LAST-MODIFIED:20251219T170151Z
UID:12732-1767213000-1767227400@navarrebeach.com
SUMMARY:New Year's Eve Party at Juana's with THIN ICE
DESCRIPTION:Get ready to bid adieu to 2025 with a bang at Juana’s! Thin Ice will be rockin’ the Pagoda all night and don’t forget the champagne toast at midnight! \n Let’s make the last night of this year one to remember.
URL:https://navarrebeach.com/event/new-years-eve-party-at-juanas-with-thin-ice/
LOCATION:Juanas Pagodas\, 1451 Navarre Beach Causeway\, Navarre\, FL\, 32566\, United States
ATTACH;FMTTYPE=image/jpeg:https://navarrebeach.com/wp-content/uploads/2025/12/Juanas-NYE.jpg
END:VEVENT
END:VCALENDAR