
BEGIN:VCALENDAR
VERSION:2.0
PRODID:-//Navarrebeach.com - ECPv6.15.20//NONSGML v1.0//EN
CALSCALE:GREGORIAN
METHOD:PUBLISH
X-WR-CALNAME:Navarrebeach.com
X-ORIGINAL-URL:https://navarrebeach.com
X-WR-CALDESC:Events for Navarrebeach.com
REFRESH-INTERVAL;VALUE=DURATION:PT1H
X-Robots-Tag:noindex
X-PUBLISHED-TTL:PT1H
BEGIN:VTIMEZONE
TZID:UTC
BEGIN:STANDARD
TZOFFSETFROM:+0000
TZOFFSETTO:+0000
TZNAME:UTC
DTSTART:20250101T000000
END:STANDARD
END:VTIMEZONE
BEGIN:VEVENT
DTSTART;TZID=UTC:20260110T173000
DTEND;TZID=UTC:20260110T220000
DTSTAMP:20260421T181914
CREATED:20251202T225335Z
LAST-MODIFIED:20251202T225335Z
UID:12635-1768066200-1768082400@navarrebeach.com
SUMMARY:Frank Sinatra Tribute Show
DESCRIPTION:Welcome to the Frank Sinatra Tribute Show! \nCome join us at La Sala Event Center for a night filled with the timeless classics of Ol’ Blue Eyes himself. Sit back\, relax and enjoy as Josh Sirten pays homage to the legendary Frank Sinatra. \nFrom “Fly Me to the Moon” to “My Way\,” get ready to be serenaded with all of Sinatra’s greatest hits. This is a night you won’t want to miss! \nSo grab your friends and family\, and immerse yourself in the magic of Frank Sinatra’s music at our tribute show. Get your tickets now and experience the golden age of music brought to life.
URL:https://navarrebeach.com/event/frank-sinatra-tribute-show/
LOCATION:La Sala\, 3352 SR-87\, Navarre\, FL\, 32566\, United States
ATTACH;FMTTYPE=image/png:https://navarrebeach.com/wp-content/uploads/2025/12/image-20.png
END:VEVENT
END:VCALENDAR