
BEGIN:VCALENDAR
VERSION:2.0
PRODID:-//Navarrebeach.com - ECPv6.15.20//NONSGML v1.0//EN
CALSCALE:GREGORIAN
METHOD:PUBLISH
X-ORIGINAL-URL:https://navarrebeach.com
X-WR-CALDESC:Events for Navarrebeach.com
REFRESH-INTERVAL;VALUE=DURATION:PT1H
X-Robots-Tag:noindex
X-PUBLISHED-TTL:PT1H
BEGIN:VTIMEZONE
TZID:UTC
BEGIN:STANDARD
TZOFFSETFROM:+0000
TZOFFSETTO:+0000
TZNAME:UTC
DTSTART:20250101T000000
END:STANDARD
END:VTIMEZONE
BEGIN:VEVENT
DTSTART;TZID=UTC:20260123T083000
DTEND;TZID=UTC:20260123T150000
DTSTAMP:20260421T182533
CREATED:20260115T171041Z
LAST-MODIFIED:20260115T171041Z
UID:12878-1769157000-1769180400@navarrebeach.com
SUMMARY:Live2Lead Navarre 2026
DESCRIPTION:Save the Date!\nLive2Lead Navarre 2026 – Friday\, January 23\, 2026 \nLeadership starts with you\, and Live2Lead Navarre Beach 2026 is your opportunity to grow\, connect\, and lead with excellence. \nAs part of the Navarre Chamber’s commitment to Empowering Workforce and Leadership Development\, this annual leadership and personal development event brings world-class insights directly to our community. \nWhy Attend Live2Lead Navarre 2026? \n• Learn from John C. Maxwell and other high-caliber speakers.• Gain actionable leadership strategies to implement immediately.• Expand your professional network and connect with like-minded leaders.• Equip yourself with proven personal growth techniques to lead effectively.• Inspire your team\, your business\, and your community with fresh perspectives and renewed passion. \nBe in the Room Where It Happens \nWhether you’re leading a large organization\, a small business\, a classroom\, or a community initiative\, Live2Lead Navarre 2026 will equip you with the tools and motivation to take your leadership to the next level. \nCommit to growth\, leadership\, and making a difference. Live2Lead Navarre Beach 2026 is your chance to invest in yourself and your community—because everything rises and falls on leadership!
URL:https://navarrebeach.com/event/live2lead-navarre-2026/
LOCATION:SpringHill Suites Navarre Beach\, 8375 Gulf Blvd\, Navarre\, FL\, 32566\, United States
ATTACH;FMTTYPE=image/jpeg:https://navarrebeach.com/wp-content/uploads/2026/01/Live2lead.jpg
ORGANIZER;CN="Navarre Chamber":MAILTO:chanda.ryan@navarrechamber.com
END:VEVENT
END:VCALENDAR