
BEGIN:VCALENDAR
VERSION:2.0
PRODID:-//Navarrebeach.com - ECPv6.15.20//NONSGML v1.0//EN
CALSCALE:GREGORIAN
METHOD:PUBLISH
X-WR-CALNAME:Navarrebeach.com
X-ORIGINAL-URL:https://navarrebeach.com
X-WR-CALDESC:Events for Navarrebeach.com
REFRESH-INTERVAL;VALUE=DURATION:PT1H
X-Robots-Tag:noindex
X-PUBLISHED-TTL:PT1H
BEGIN:VTIMEZONE
TZID:UTC
BEGIN:STANDARD
TZOFFSETFROM:+0000
TZOFFSETTO:+0000
TZNAME:UTC
DTSTART:20250101T000000
END:STANDARD
END:VTIMEZONE
BEGIN:VEVENT
DTSTART;TZID=UTC:20260130T183000
DTEND;TZID=UTC:20260130T220000
DTSTAMP:20260421T165944
CREATED:20251202T225817Z
LAST-MODIFIED:20251202T225817Z
UID:12638-1769797800-1769810400@navarrebeach.com
SUMMARY:Blood on the Bayou Murder Mystery Dinner
DESCRIPTION:Who’s up for a good old-fashioned whodunit where YOU interrogate suspects\, collect evidence and bring the malevolent murderer to justice?\n\n\n\nGet out your Mardi Gras garb and get ready for a night of mystery\, mayhem and murder!\nJoin us at La Sala Event Center for the Blood on the Bayou Mystery Dinner — a thrilling\, interactive murder mystery experience with dinner\, drinks and drama! \nFriday\, January 30 \nShowtime 7PM | Doors Open 6:30PM (21+) \nAdvance Tickets (12/15 – 12/31): $70 per person | General Admission (1/1 – 1/30): $85 per person \nIncludes Dinner Buffet | Cash Bar Available
URL:https://navarrebeach.com/event/blood-on-the-bayou-murder-mystery-dinner/
LOCATION:La Sala\, 3352 SR-87\, Navarre\, FL\, 32566\, United States
ATTACH;FMTTYPE=image/png:https://navarrebeach.com/wp-content/uploads/2025/12/Bayou_PROOF.png
END:VEVENT
END:VCALENDAR