
BEGIN:VCALENDAR
VERSION:2.0
PRODID:-//Navarrebeach.com - ECPv6.15.20//NONSGML v1.0//EN
CALSCALE:GREGORIAN
METHOD:PUBLISH
X-ORIGINAL-URL:https://navarrebeach.com
X-WR-CALDESC:Events for Navarrebeach.com
REFRESH-INTERVAL;VALUE=DURATION:PT1H
X-Robots-Tag:noindex
X-PUBLISHED-TTL:PT1H
BEGIN:VTIMEZONE
TZID:UTC
BEGIN:STANDARD
TZOFFSETFROM:+0000
TZOFFSETTO:+0000
TZNAME:UTC
DTSTART:20250101T000000
END:STANDARD
END:VTIMEZONE
BEGIN:VEVENT
DTSTART;TZID=UTC:20260131T180000
DTEND;TZID=UTC:20260131T220000
DTSTAMP:20260421T170100
CREATED:20251219T160936Z
LAST-MODIFIED:20251219T160936Z
UID:12709-1769882400-1769896800@navarrebeach.com
SUMMARY:Navarre Krewe of Jesters annual Ball and Coronation
DESCRIPTION:Class X Band\, Silent Auction\, $45.00 per person in advance $50 at the door\, or a table of 6 for $250.00 Formal Attire.\n\n\n\nThis event is open to the public and all proceeds go to fund our 40th annual Mardi Gras Parade and our Navarre High School Scholarship. There will be tickets at the door for sale. Dinner Included\, B.Y.O.B / Setups Furnished. Live Entertainment by – Class X Band\, Silent Auction\, $45.00 pp in advance $50 at the door. or a table of 6 for $250.00 Formal Attire. For Tickets contact Bill Crouch 850-791-3886\, Charlene 850-382-2841 or LeAnn 850-380-1143.
URL:https://navarrebeach.com/event/navarre-krewe-of-jesters-annual-ball-and-coronation/
LOCATION:St. Sylvester Catholic Church\, 6464 Gulf Breeze Pkwy\, Gulf Breeze\, FL\, 32563\, United States
ATTACH;FMTTYPE=image/jpeg:https://navarrebeach.com/wp-content/uploads/2025/12/Mardi-Gras-Ball-26-2.jpg
END:VEVENT
BEGIN:VEVENT
DTSTART;TZID=UTC:20260131T180000
DTEND;TZID=UTC:20260131T220000
DTSTAMP:20260421T170100
CREATED:20260114T223339Z
LAST-MODIFIED:20260114T223339Z
UID:12849-1769882400-1769896800@navarrebeach.com
SUMMARY:ECWR's Martini Gras Martini Shake-Off Competition & Fundraiser
DESCRIPTION:Join us for an evening of martini tasting\, games & more in your best mardi-gras attire at ECWR’s Martini-Gras!\nPurchase your tickets to attend in singles ($75)\, duos ($140)\, or reserve an 8 person table ($540) or a VIP 16 person table (!$1\,000) for a night of fun with friends! \nOr\, enter to compete for FREE in our Martini Shake-off! Competitor spots are available on a first come first serve basis. Limited spots available. Compete with your peers and neighbors in the Emerald Coast Wildlife Refuge’s annual Martini-Gras Martini Shake-off! \nAttendees will sample competitors entries and vote for Best Martini. \nYou may enter as a commercial or non-commercial competitor! \nAny group or business is invited to enter. \nIf you are interested in entering as a competitor\, please email Director@EmeraldCoastWildlifeRefuge.org! \nECWR will provide sample 2oz. martini glasses for tastings to each competitor! \nAll proceeds from the competition will benefit the Emerald Coast Wildlife Refuge in our mission to care for the native wildlife of Northwest Florida!
URL:https://navarrebeach.com/event/ecwrs-martini-gras-martini-shake-off-competition-fundraiser/
LOCATION:La Sala\, 3352 SR-87\, Navarre\, FL\, 32566\, United States
ATTACH;FMTTYPE=image/jpeg:https://navarrebeach.com/wp-content/uploads/2026/01/Martini-Gras.jpg
END:VEVENT
END:VCALENDAR