
BEGIN:VCALENDAR
VERSION:2.0
PRODID:-//Navarrebeach.com - ECPv6.15.20//NONSGML v1.0//EN
CALSCALE:GREGORIAN
METHOD:PUBLISH
X-WR-CALNAME:Navarrebeach.com
X-ORIGINAL-URL:https://navarrebeach.com
X-WR-CALDESC:Events for Navarrebeach.com
REFRESH-INTERVAL;VALUE=DURATION:PT1H
X-Robots-Tag:noindex
X-PUBLISHED-TTL:PT1H
BEGIN:VTIMEZONE
TZID:UTC
BEGIN:STANDARD
TZOFFSETFROM:+0000
TZOFFSETTO:+0000
TZNAME:UTC
DTSTART:20250101T000000
END:STANDARD
END:VTIMEZONE
BEGIN:VEVENT
DTSTART;TZID=UTC:20260207T130000
DTEND;TZID=UTC:20260207T150000
DTSTAMP:20260421T175912
CREATED:20251219T155907Z
LAST-MODIFIED:20251219T155907Z
UID:12703-1770469200-1770476400@navarrebeach.com
SUMMARY:Navarre Krewe of Jesters 40th annual Mardi Gras Parade
DESCRIPTION:Join the krewe in Celebrating 40 years of family friendly fun\, Mardi Gras floats and beads. Parade is from 1pm till 3pm\, Floats will enter Gulf Blvd from Indiana St and will move east to the traffic light. Laissez Les Bon Temps Rouler!!! Our Parade App is on our website www.nkoj.org
URL:https://navarrebeach.com/event/navarre-krewe-of-jesters-40th-annual-mardi-gras-parade/
LOCATION:Navarre Beach
ATTACH;FMTTYPE=image/jpeg:https://navarrebeach.com/wp-content/uploads/2025/12/Mardi-Gras-26.jpg
END:VEVENT
BEGIN:VEVENT
DTSTART;TZID=UTC:20260207T180000
DTEND;TZID=UTC:20260207T200000
DTSTAMP:20260421T175912
CREATED:20260115T174257Z
LAST-MODIFIED:20260115T174257Z
UID:12891-1770487200-1770494400@navarrebeach.com
SUMMARY:Tiaras & Bowties Parent/Child Dinner and Dance
DESCRIPTION:Tiaras  & Bowties Parent/Child Dinner and Dance!\nLocated at the Betty J Pullum Family YMCA \nFebruary 7th\, 6 to 8 p.m. \nEnjoy a catered dinner\, dance the night away with a DJ\, capture memories with professional photos\, and so much more. Tickets are just $30 per couple\, with additional children at $10 each.
URL:https://navarrebeach.com/event/tiaras-bowties-parent-child-dinner-and-dance/
LOCATION:Pullum Family YMCA\, 2379 Pawnee Dr\, Navarre\, FL\, 32566\, United States
ATTACH;FMTTYPE=image/jpeg:https://navarrebeach.com/wp-content/uploads/2026/01/YMCA.jpg
END:VEVENT
END:VCALENDAR