
BEGIN:VCALENDAR
VERSION:2.0
PRODID:-//Navarrebeach.com - ECPv6.15.20//NONSGML v1.0//EN
CALSCALE:GREGORIAN
METHOD:PUBLISH
X-ORIGINAL-URL:https://navarrebeach.com
X-WR-CALDESC:Events for Navarrebeach.com
REFRESH-INTERVAL;VALUE=DURATION:PT1H
X-Robots-Tag:noindex
X-PUBLISHED-TTL:PT1H
BEGIN:VTIMEZONE
TZID:UTC
BEGIN:STANDARD
TZOFFSETFROM:+0000
TZOFFSETTO:+0000
TZNAME:UTC
DTSTART:20250101T000000
END:STANDARD
END:VTIMEZONE
BEGIN:VEVENT
DTSTART;TZID=UTC:20260208T140000
DTEND;TZID=UTC:20260208T170000
DTSTAMP:20260421T175955
CREATED:20260114T221610Z
LAST-MODIFIED:20260114T221610Z
UID:12843-1770559200-1770570000@navarrebeach.com
SUMMARY:Dewey's Navarre Galentines Party
DESCRIPTION:Grab your gals and get ready for the ultimate Galentine’s Party \nJoin us February 8th from 2–5pm for an afternoon full of fun\, friendship\, and fabulous vibes! \n Champagne & Mimosas Craft Cocktails Joyful Patches Hat Bar Sea Gems Bracelet Bar Bouquet Floral Bar Henna Tattoos Music by DJ Trevvy \nCome sip\, shop\, create\, dance\, and celebrate all things GIRL POWER with your favorite people.This is a FREE event—just bring your besties and your Galentine spirit!
URL:https://navarrebeach.com/event/deweys-navarre-galentines-party/
LOCATION:Dewey Destin’s Navarre\, 8673 Navarre Pkwy\, Navarre\, FL\, 32566\, United States
ATTACH;FMTTYPE=image/jpeg:https://navarrebeach.com/wp-content/uploads/2026/01/dewey-galentines-1.jpg
END:VEVENT
END:VCALENDAR