
BEGIN:VCALENDAR
VERSION:2.0
PRODID:-//Navarrebeach.com - ECPv6.15.20//NONSGML v1.0//EN
CALSCALE:GREGORIAN
METHOD:PUBLISH
X-WR-CALNAME:Navarrebeach.com
X-ORIGINAL-URL:https://navarrebeach.com
X-WR-CALDESC:Events for Navarrebeach.com
REFRESH-INTERVAL;VALUE=DURATION:PT1H
X-Robots-Tag:noindex
X-PUBLISHED-TTL:PT1H
BEGIN:VTIMEZONE
TZID:UTC
BEGIN:STANDARD
TZOFFSETFROM:+0000
TZOFFSETTO:+0000
TZNAME:UTC
DTSTART:20250101T000000
END:STANDARD
END:VTIMEZONE
BEGIN:VEVENT
DTSTART;TZID=UTC:20260221T110000
DTEND;TZID=UTC:20260221T140000
DTSTAMP:20260421T165945
CREATED:20251219T165444Z
LAST-MODIFIED:20251219T165444Z
UID:12726-1771671600-1771682400@navarrebeach.com
SUMMARY:Japanese Food and Culture Day
DESCRIPTION:Join us for a fun community event where you can experience Japanese culture and food! We’ll have exciting performances\, delicious dishes\, and plenty of activities for everyone to enjoy! Don’t miss this annual celebration.
URL:https://navarrebeach.com/event/japanese-food-and-culture-day-2/
LOCATION:St. Sylvester Catholic Church\, 6464 Gulf Breeze Pkwy\, Gulf Breeze\, FL\, 32563\, United States
ATTACH;FMTTYPE=image/jpeg:https://navarrebeach.com/wp-content/uploads/2025/12/Japanese-Food-and-Culture-Day.jpg
END:VEVENT
BEGIN:VEVENT
DTSTART;TZID=UTC:20260221T110000
DTEND;TZID=UTC:20260221T170000
DTSTAMP:20260421T165945
CREATED:20260115T163146Z
LAST-MODIFIED:20260115T163146Z
UID:12865-1771671600-1771693200@navarrebeach.com
SUMMARY:4 Year Celebration @ The Eatery
DESCRIPTION:Join us to celebrate the Eatery turning 4!\nThere will be over 12 vendors\, kids games\, hair tinsel\, food trucks and more! \nBring the whole family and doggies!
URL:https://navarrebeach.com/event/4-year-celebration-the-eatery/
LOCATION:The Eatery\, 1713 Woodlawn Way\, Gulf Breeze\, FL\, 32563\, United States
ATTACH;FMTTYPE=image/jpeg:https://navarrebeach.com/wp-content/uploads/2026/01/4-year.jpg
END:VEVENT
END:VCALENDAR