
BEGIN:VCALENDAR
VERSION:2.0
PRODID:-//Navarrebeach.com - ECPv6.15.20//NONSGML v1.0//EN
CALSCALE:GREGORIAN
METHOD:PUBLISH
X-WR-CALNAME:Navarrebeach.com
X-ORIGINAL-URL:https://navarrebeach.com
X-WR-CALDESC:Events for Navarrebeach.com
REFRESH-INTERVAL;VALUE=DURATION:PT1H
X-Robots-Tag:noindex
X-PUBLISHED-TTL:PT1H
BEGIN:VTIMEZONE
TZID:UTC
BEGIN:STANDARD
TZOFFSETFROM:+0000
TZOFFSETTO:+0000
TZNAME:UTC
DTSTART:20250101T000000
END:STANDARD
END:VTIMEZONE
BEGIN:VEVENT
DTSTART;TZID=UTC:20260228T120000
DTEND;TZID=UTC:20260228T200000
DTSTAMP:20260421T152257
CREATED:20260114T220850Z
LAST-MODIFIED:20260114T220850Z
UID:12836-1772280000-1772308800@navarrebeach.com
SUMMARY:Oysters & Pints Fest
DESCRIPTION:St. Michael’s Brewing Company is hosting the 2026 Oysters & Pints Fest!\nGrayson Bay Oyster Company will be joining them on February 28th to bring delicious raw and grilled oysters. They sold out last time\, so get there early! \nThe Banana Tree food truck will be there as well from 12 to 8 p.m.
URL:https://navarrebeach.com/event/oysters-pints-fest/
LOCATION:St. Michael’s Brewing Company\, 2199 FL-87\, Navarre\, FL\, 32566\, United States
ATTACH;FMTTYPE=image/jpeg:https://navarrebeach.com/wp-content/uploads/2026/01/Oysters-and-Pints.jpg
END:VEVENT
END:VCALENDAR