
BEGIN:VCALENDAR
VERSION:2.0
PRODID:-//Navarrebeach.com - ECPv6.15.20//NONSGML v1.0//EN
CALSCALE:GREGORIAN
METHOD:PUBLISH
X-WR-CALNAME:Navarrebeach.com
X-ORIGINAL-URL:https://navarrebeach.com
X-WR-CALDESC:Events for Navarrebeach.com
REFRESH-INTERVAL;VALUE=DURATION:PT1H
X-Robots-Tag:noindex
X-PUBLISHED-TTL:PT1H
BEGIN:VTIMEZONE
TZID:UTC
BEGIN:STANDARD
TZOFFSETFROM:+0000
TZOFFSETTO:+0000
TZNAME:UTC
DTSTART:20250101T000000
END:STANDARD
END:VTIMEZONE
BEGIN:VEVENT
DTSTART;TZID=UTC:20260321T193000
DTEND;TZID=UTC:20260321T220000
DTSTAMP:20260421T192047
CREATED:20251023T160612Z
LAST-MODIFIED:20251023T160612Z
UID:12485-1774121400-1774130400@navarrebeach.com
SUMMARY:Stage Crafters Rent – The Musical
DESCRIPTION:March 13th-15th & March 20th-22nd​\n\nFridays and Saturdays at 7:30pm | Sundays at 2:00pm\n\nBased loosely on Puccini’s La Boheme\, Jonathan Larson’s Rent follows a year in the life of a group of impoverished young artists and musicians struggling to survive and create in New York’s Lower East Side\, under the shadow of HIV/AIDS. The physical and emotional complications of the disease pervade the lives of Roger\, Mimi\, Tom and Angel. Maureen deals with her chronic infidelity through performance art; her partner\, Joanne\, wonders if their relationship is worth the trouble. Benny has sold out his Bohemian ideals in exchange for a hefty income and is on the outs with his former friends. Mark\, an aspiring filmmaker\, feels like an outsider to life in general. How these young bohemians negotiate their dreams\, loves and conflicts provides the narrative thread to this groundbreaking musical.
URL:https://navarrebeach.com/event/stage-crafters-rent-the-musical-5/
LOCATION:Fort Walton Beach Civic Auditorium\, 109 Miracle Strip Parkway\, Fort Walton Beach\, FL\, 32548\, United States
ATTACH;FMTTYPE=image/avif:https://navarrebeach.com/wp-content/uploads/2025/10/Rent.avif
END:VEVENT
END:VCALENDAR