
BEGIN:VCALENDAR
VERSION:2.0
PRODID:-//Navarrebeach.com - ECPv6.15.20//NONSGML v1.0//EN
CALSCALE:GREGORIAN
METHOD:PUBLISH
X-ORIGINAL-URL:https://navarrebeach.com
X-WR-CALDESC:Events for Navarrebeach.com
REFRESH-INTERVAL;VALUE=DURATION:PT1H
X-Robots-Tag:noindex
X-PUBLISHED-TTL:PT1H
BEGIN:VTIMEZONE
TZID:UTC
BEGIN:STANDARD
TZOFFSETFROM:+0000
TZOFFSETTO:+0000
TZNAME:UTC
DTSTART:20250101T000000
END:STANDARD
END:VTIMEZONE
BEGIN:VEVENT
DTSTART;TZID=UTC:20260322T140000
DTEND;TZID=UTC:20260322T170000
DTSTAMP:20260421T153041
CREATED:20251023T160711Z
LAST-MODIFIED:20251023T160711Z
UID:12488-1774188000-1774198800@navarrebeach.com
SUMMARY:Stage Crafters Rent – The Musical
DESCRIPTION:March 13th-15th & March 20th-22nd​\n\nFridays and Saturdays at 7:30pm | Sundays at 2:00pm\n\nBased loosely on Puccini’s La Boheme\, Jonathan Larson’s Rent follows a year in the life of a group of impoverished young artists and musicians struggling to survive and create in New York’s Lower East Side\, under the shadow of HIV/AIDS. The physical and emotional complications of the disease pervade the lives of Roger\, Mimi\, Tom and Angel. Maureen deals with her chronic infidelity through performance art; her partner\, Joanne\, wonders if their relationship is worth the trouble. Benny has sold out his Bohemian ideals in exchange for a hefty income and is on the outs with his former friends. Mark\, an aspiring filmmaker\, feels like an outsider to life in general. How these young bohemians negotiate their dreams\, loves and conflicts provides the narrative thread to this groundbreaking musical.
URL:https://navarrebeach.com/event/stage-crafters-rent-the-musical-6/
LOCATION:Fort Walton Beach Civic Auditorium\, 109 Miracle Strip Parkway\, Fort Walton Beach\, FL\, 32548\, United States
ATTACH;FMTTYPE=image/avif:https://navarrebeach.com/wp-content/uploads/2025/10/Rent.avif
END:VEVENT
BEGIN:VEVENT
DTSTART;TZID=UTC:20260322T160000
DTEND;TZID=UTC:20260322T200000
DTSTAMP:20260421T153041
CREATED:20260115T162341Z
LAST-MODIFIED:20260115T162341Z
UID:12857-1774195200-1774209600@navarrebeach.com
SUMMARY:Cat Country 98.7's Spring Jam 2026
DESCRIPTION:Cat Country 98.7’s Spring Jam 2026 stars LOCASH with Preston Cooper and John Morgan .\nJoin us on the Beach at Juana’s Pagodas & Sailors’ Grill in Navarre for an unforgettable day of live country music on Sunday\, March 22\, 2026. \nSpring Jam is is an ALL AGES show. \nDoors will open at 2:00pm and the show will start at 4:00pm. \nBring your beach towel to sit on and bunch of friends (NO CHAIRS ARE ALLOWED) \nIt is Rain or Shine \nYou can bring a small beach towel to sit on. \nSeating is first come first served. \nTickets at CatCountry987.com
URL:https://navarrebeach.com/event/cat-country-98-7s-spring-jam-2026/
LOCATION:Juanas Pagodas\, 1451 Navarre Beach Causeway\, Navarre\, FL\, 32566\, United States
ATTACH;FMTTYPE=image/jpeg:https://navarrebeach.com/wp-content/uploads/2026/01/spring-jam-26.jpg
END:VEVENT
END:VCALENDAR