
BEGIN:VCALENDAR
VERSION:2.0
PRODID:-//Navarrebeach.com - ECPv6.15.20//NONSGML v1.0//EN
CALSCALE:GREGORIAN
METHOD:PUBLISH
X-WR-CALNAME:Navarrebeach.com
X-ORIGINAL-URL:https://navarrebeach.com
X-WR-CALDESC:Events for Navarrebeach.com
REFRESH-INTERVAL;VALUE=DURATION:PT1H
X-Robots-Tag:noindex
X-PUBLISHED-TTL:PT1H
BEGIN:VTIMEZONE
TZID:UTC
BEGIN:STANDARD
TZOFFSETFROM:+0000
TZOFFSETTO:+0000
TZNAME:UTC
DTSTART:20230101T000000
END:STANDARD
END:VTIMEZONE
BEGIN:VEVENT
DTSTART;TZID=UTC:20240816T170000
DTEND;TZID=UTC:20240816T190000
DTSTAMP:20260422T214811
CREATED:20240813T210847Z
LAST-MODIFIED:20240815T211744Z
UID:9707-1723827600-1723834800@navarrebeach.com
SUMMARY:Navarre Beach Cruise In at Andy D’s
DESCRIPTION:Cruise into Andy D’s on Navarre Beach every month this summer on the 3rd Friday\, 5–7 pm. Bring your classic car\, bike\, or jeep\, or just come out and enjoy the rides; we have live music on Andy D’s Deck Stage and extended Happy Hour drink specials from 4–7 pm. Contact TJ Goulet for more information: tjgoulet@andyds.com\, 850-776-8355
URL:https://navarrebeach.com/event/navarre-beach-cruise-in-at-andy-ds/
LOCATION:Andy D’s Beachside Restaurant & Deck Bar\, 8649 Gulf Blvd\, Navarre\, 32566
ATTACH;FMTTYPE=image/jpeg:https://navarrebeach.com/wp-content/uploads/2024/08/Cruise-In-e1723583393288.jpg
END:VEVENT
BEGIN:VEVENT
DTSTART;TZID=UTC:20240816T160000
DTEND;TZID=UTC:20240817T000000
DTSTAMP:20260422T214811
CREATED:20240812T171401Z
LAST-MODIFIED:20240812T171522Z
UID:9625-1723824000-1723852800@navarrebeach.com
SUMMARY:Live Music at Juana's
DESCRIPTION:If you enjoy live music\, food\, and a beachfront view\, head to Juana’s for a fun night! Musician Stevie Hall will be performing for audiences from 4 p.m. to 8 p.m.\, followed by the Deck Mainstream Band until midnight.
URL:https://navarrebeach.com/event/live-music-at-juanas-3/
LOCATION:Juanas Pagodas\, 1451 Navarre Beach Causeway\, Navarre\, FL\, 32566\, United States
ATTACH;FMTTYPE=image/png:https://navarrebeach.com/wp-content/uploads/2024/08/juanas-pagodas-exterior-beach.png
END:VEVENT
BEGIN:VEVENT
DTSTART;TZID=UTC:20240816T073000
DTEND;TZID=UTC:20240818T210000
DTSTAMP:20260422T214811
CREATED:20240815T194128Z
LAST-MODIFIED:20240815T194128Z
UID:9796-1723793400-1724014800@navarrebeach.com
SUMMARY:Teacher Appreciation Weekend at Andy D's on Navarre Beach
DESCRIPTION:It’s Teacher/Educator Appreciation Weekend at Andy D’s. Santa Rosa County welcomed their students back to school on 8/12 and Andy D’s wants to thank all the employees of education institutions in Santa Rosa County for their commitment to our young people. This weekend\, Friday – Sunday open to close\, all employees of education institutions w/ ID get 15% OFF their food order. Plus we have drink specials all weekend and live entertainment and music for your enjoyment.
URL:https://navarrebeach.com/event/teacher-appreciation-weekend-at-andy-ds-on-navarre-beach/
LOCATION:Andy D’s Beachside Restaurant & Deck Bar\, 8649 Gulf Blvd\, Navarre\, 32566
ATTACH;FMTTYPE=image/jpeg:https://navarrebeach.com/wp-content/uploads/2024/08/455146085_450180818012925_8347576078571986964_n.jpg
END:VEVENT
BEGIN:VEVENT
DTSTART;TZID=UTC:20240816T073000
DTEND;TZID=UTC:20240816T090000
DTSTAMP:20260422T214811
CREATED:20240813T204132Z
LAST-MODIFIED:20240813T204132Z
UID:9681-1723793400-1723798800@navarrebeach.com
SUMMARY:Annual Kickoff Breakfast
DESCRIPTION:Everyone is invited to the Navarre area’s largest and most popular annual networking event. Don’t forget to wear your “Best Gameday Attire” for a chance to win “Most Spirited Chamber Member!”
URL:https://navarrebeach.com/event/annual-kickoff-breakfast/
LOCATION:St. Sylvester Catholic Church\, 6464 Gulf Breeze Pkwy\, Gulf Breeze\, FL\, 32563\, United States
ATTACH;FMTTYPE=image/jpeg:https://navarrebeach.com/wp-content/uploads/2024/08/ca097266deda9089785f7240f1f4e68a6a1d13d6d6dc04e1d4808a7bf92c9781-rimg-w1200-h675-dcffffff-gmir.jpg
END:VEVENT
BEGIN:VEVENT
DTSTART;TZID=UTC:20240815T190000
DTEND;TZID=UTC:20240815T230000
DTSTAMP:20260422T214811
CREATED:20240812T171014Z
LAST-MODIFIED:20240812T171112Z
UID:9620-1723748400-1723762800@navarrebeach.com
SUMMARY:Live Music at Juana's
DESCRIPTION:If you enjoy live music\, food\, and a beachfront view\, head to Juana’s for a fun night! Musician Shane Curle will be performing for audiences.
URL:https://navarrebeach.com/event/live-music-at-juanas-2/
LOCATION:Juanas Pagodas\, 1451 Navarre Beach Causeway\, Navarre\, FL\, 32566\, United States
ATTACH;FMTTYPE=image/png:https://navarrebeach.com/wp-content/uploads/2024/08/juanas-pagodas-exterior-beach.png
END:VEVENT
BEGIN:VEVENT
DTSTART;TZID=UTC:20240815T180000
DTEND;TZID=UTC:20240815T200000
DTSTAMP:20260422T214811
CREATED:20240814T204042Z
LAST-MODIFIED:20240814T204935Z
UID:9772-1723744800-1723752000@navarrebeach.com
SUMMARY:TRIVIA at The Grey Taproom
DESCRIPTION:Get ready for a brain-teasing good time! Join us every Thursday at 6 pm for Trivia Night at The Grey Taproom! Gather your team\, show off your knowledge\, and compete for fantastic prizes. It’s the ultimate test of wits and loads of fun – see you there!
URL:https://navarrebeach.com/event/trivia-at-the-grey-taproom/
LOCATION:The Grey Taproom\, 7622 Navarre Pkwy\, Navarre\, FL\, 32566\, United States
ATTACH;FMTTYPE=image/png:https://navarrebeach.com/wp-content/uploads/2024/08/Untitled-2-e1723668569766.png
END:VEVENT
BEGIN:VEVENT
DTSTART;TZID=UTC:20240815T160000
DTEND;TZID=UTC:20240815T170000
DTSTAMP:20260422T214811
CREATED:20240815T211414Z
LAST-MODIFIED:20240815T211414Z
UID:9859-1723737600-1723741200@navarrebeach.com
SUMMARY:STEAMaker
DESCRIPTION:Tweens and teens ages 10-17 interested in robotics\, coding\, and other tech are invited to join our STEAMaker tech club. Beginners through expert level welcome! Sign-up is required.
URL:https://navarrebeach.com/event/steamaker/
LOCATION:The Navarre Library\, 8484 James M. Harvell Rd\, Navarre\, FL\, 32566\, United States
ATTACH;FMTTYPE=image/jpeg:https://navarrebeach.com/wp-content/uploads/2024/08/412717629_752943953526142_8348299021745026276_n-e1723756443641.jpg
END:VEVENT
BEGIN:VEVENT
DTSTART;TZID=UTC:20240815T083000
DTEND;TZID=UTC:20240815T093000
DTSTAMP:20260422T214811
CREATED:20240814T200529Z
LAST-MODIFIED:20240814T200529Z
UID:9762-1723710600-1723714200@navarrebeach.com
SUMMARY:Beach Yoga
DESCRIPTION:This gentle beach yoga class is a great place to take it slow and experience all the benefits of yoga on the beach. This gentle beach yoga class is excellent for anyone wanting to enjoy nature\, do yoga with the sounds of the waves\, and breathe in the salty\, fresh air.
URL:https://navarrebeach.com/event/beach-yoga/
LOCATION:Navarre Beach Pier\, 8579 Gulf Blvd\, Navarre\, FL\, 32566\, United States
ATTACH;FMTTYPE=image/jpeg:https://navarrebeach.com/wp-content/uploads/2024/08/half_size_1696252056234_offering_image.jpg
END:VEVENT
BEGIN:VEVENT
DTSTART;TZID=UTC:20240814T190000
DTEND;TZID=UTC:20240814T230000
DTSTAMP:20260422T214811
CREATED:20240812T170749Z
LAST-MODIFIED:20240812T171142Z
UID:9617-1723662000-1723676400@navarrebeach.com
SUMMARY:Live Music at Juana's
DESCRIPTION:If you enjoy live music\, food\, and a beachfront view\, head to Juana’s for a fun night! Musician Stevie Hall will be performing for audiences.
URL:https://navarrebeach.com/event/live-music-at-juanas/
LOCATION:Juanas Pagodas\, 1451 Navarre Beach Causeway\, Navarre\, FL\, 32566\, United States
ATTACH;FMTTYPE=image/png:https://navarrebeach.com/wp-content/uploads/2024/08/juanas-pagodas-exterior-beach.png
END:VEVENT
END:VCALENDAR