
BEGIN:VCALENDAR
VERSION:2.0
PRODID:-//Navarrebeach.com - ECPv6.15.20//NONSGML v1.0//EN
CALSCALE:GREGORIAN
METHOD:PUBLISH
X-WR-CALNAME:Navarrebeach.com
X-ORIGINAL-URL:https://navarrebeach.com
X-WR-CALDESC:Events for Navarrebeach.com
REFRESH-INTERVAL;VALUE=DURATION:PT1H
X-Robots-Tag:noindex
X-PUBLISHED-TTL:PT1H
BEGIN:VTIMEZONE
TZID:UTC
BEGIN:STANDARD
TZOFFSETFROM:+0000
TZOFFSETTO:+0000
TZNAME:UTC
DTSTART:20230101T000000
END:STANDARD
END:VTIMEZONE
BEGIN:VEVENT
DTSTART;TZID=UTC:20240825T143000
DTEND;TZID=UTC:20240825T193000
DTSTAMP:20260423T010455
CREATED:20240820T214809Z
LAST-MODIFIED:20240820T214809Z
UID:9969-1724596200-1724614200@navarrebeach.com
SUMMARY:Table 42 Cigar Club with Cigar Factory Travelling Lounge
DESCRIPTION:Smokin’ and Jokin’ is what it is all about. Bring a stick\, grab a beer\, and enjoy lively conversation on the front south lawn. Kris from Cigar Factory Rolling Lounge will be on site from 2:30-7:30 pm. Check out their smokes!
URL:https://navarrebeach.com/event/table-42-cigar-club-with-cigar-factory-travelling-lounge/
LOCATION:St. Michael’s Brewing Company\, 2199 FL-87\, Navarre\, FL\, 32566\, United States
ATTACH;FMTTYPE=image/jpeg:https://navarrebeach.com/wp-content/uploads/2024/08/430029039_914566337207239_6700914912899207172_n-e1724190471435.jpg
END:VEVENT
BEGIN:VEVENT
DTSTART;TZID=UTC:20240922T150000
DTEND;TZID=UTC:20240922T190000
DTSTAMP:20260423T010455
CREATED:20240904T194848Z
LAST-MODIFIED:20240904T194848Z
UID:10357-1727017200-1727031600@navarrebeach.com
SUMMARY:Live Music at Juana's
DESCRIPTION:If you enjoy live music\, food\, and a beachfront view\, head to Juana’s for a fun night! The Jay Williams Band will perform for audiences who want to see all the Pagodas have to offer!
URL:https://navarrebeach.com/event/live-music-at-juanas-29/
LOCATION:Juanas Pagodas\, 1451 Navarre Beach Causeway\, Navarre\, FL\, 32566\, United States
ATTACH;FMTTYPE=image/png:https://navarrebeach.com/wp-content/uploads/2024/08/juanas-pagodas-exterior-beach.png
END:VEVENT
BEGIN:VEVENT
DTSTART;TZID=UTC:20240922T160000
DTEND;TZID=UTC:20240922T190000
DTSTAMP:20260423T010455
CREATED:20240906T193854Z
LAST-MODIFIED:20240906T193854Z
UID:10558-1727020800-1727031600@navarrebeach.com
SUMMARY:Live Music at Where Y'at Seafood
DESCRIPTION:Join Where Y’at for a fantastic afternoon with Chris Beverly! Enjoy live music and delicious seafood on September 22nd from 4-7 PM.\n\nDon’t miss out on great tunes and tasty food.
URL:https://navarrebeach.com/event/live-music-at-where-yat-seafood-2/
LOCATION:Where Y’at Seafood Market & Restaurant\, 4233A FL-87\, Navarre\, FL\, 32566\, United States
ATTACH;FMTTYPE=image/jpeg:https://navarrebeach.com/wp-content/uploads/2024/09/457768121_1024738349651714_4475506714840707986_n-e1725651529182.jpg
END:VEVENT
BEGIN:VEVENT
DTSTART;TZID=UTC:20240922T183000
DTEND;TZID=UTC:20240922T183000
DTSTAMP:20260423T010455
CREATED:20240905T203745Z
LAST-MODIFIED:20240905T203745Z
UID:10489-1727029800-1727029800@navarrebeach.com
SUMMARY:Trivia Night
DESCRIPTION:Grab your friends (only your smart ones) and join us for a night of wine\, food\, beer\, and fun as we play general knowledge trivia for prizes and bragging rights!
URL:https://navarrebeach.com/event/trivia-night/
LOCATION:The Vine Wine Bar\, Bistro & Shoppe\, 8211 Navarre Pkwy\, Navarre\, FL\, 32566\, United States
ATTACH;FMTTYPE=image/jpeg:https://navarrebeach.com/wp-content/uploads/2024/09/457396781_1041173644683084_6571377860406179219_n-e1725568631322.jpg
END:VEVENT
BEGIN:VEVENT
DTSTART;TZID=UTC:20240826T170000
DTEND;TZID=UTC:20240826T200000
DTSTAMP:20260423T010455
CREATED:20240826T210143Z
LAST-MODIFIED:20240826T210143Z
UID:10138-1724691600-1724702400@navarrebeach.com
SUMMARY:Monday Night Karaoke w/DJ Jessie Howell
DESCRIPTION:Join your community on the deck (or inside if the weather isn’t great) at Andy D’s on Navarre Beach for Monday Night Karaoke with DJ Jessie Howell.
URL:https://navarrebeach.com/event/monday-night-karaoke-w-dj-jessie-howell/
LOCATION:Andy D’s Beachside Restaurant & Deck Bar\, 8649 Gulf Blvd\, Navarre\, 32566
ATTACH;FMTTYPE=image/jpeg:https://navarrebeach.com/wp-content/uploads/2024/08/436273455_397163349981339_6041495783382981373_n.jpg
END:VEVENT
BEGIN:VEVENT
DTSTART;TZID=UTC:20240902T180000
DTEND;TZID=UTC:20240902T180000
DTSTAMP:20260423T010455
CREATED:20240904T200700Z
LAST-MODIFIED:20240904T200700Z
UID:10375-1725300000-1725300000@navarrebeach.com
SUMMARY:BINGO at The Grey Taproom
DESCRIPTION:Join the Grey Taproom every Monday at 6 pm for a night of Bingo! Test your luck\, win awesome prizes\, and enjoy a great time with friends. Don’t miss out on the fun – see you there!
URL:https://navarrebeach.com/event/bingo-at-the-grey-taproom/
LOCATION:The Grey Taproom\, 7622 Navarre Pkwy\, Navarre\, FL\, 32566\, United States
ATTACH;FMTTYPE=image/png:https://navarrebeach.com/wp-content/uploads/2024/08/Untitled-2-e1723668569766.png
END:VEVENT
BEGIN:VEVENT
DTSTART;TZID=UTC:20240826T183000
DTEND;TZID=UTC:20240826T193000
DTSTAMP:20260423T010455
CREATED:20240826T205312Z
LAST-MODIFIED:20240826T205312Z
UID:10134-1724697000-1724700600@navarrebeach.com
SUMMARY:Juanas/Navarre Beach Bike Night
DESCRIPTION:Jean Carlos Quinones and Juana’s Pagodas are continuing a great bike night for people who ride two wheels and are closer to Fort Walton and the Navarre area! Some people also like to cruise the Pensacola Beach Road to Navarre Beach route\, so this would be a perfect opportunity to incorporate that ride! The first bike night had a great turnout\, and everyone had a great time!
URL:https://navarrebeach.com/event/juanas-navarre-beach-bike-night/
LOCATION:Juanas Pagodas\, 1451 Navarre Beach Causeway\, Navarre\, FL\, 32566\, United States
ATTACH;FMTTYPE=image/jpeg:https://navarrebeach.com/wp-content/uploads/2024/08/447022899_10222326589107579_1349626514309909018_n-e1724705583180.jpg
END:VEVENT
BEGIN:VEVENT
DTSTART;TZID=UTC:20240924T083000
DTEND;TZID=UTC:20240924T083000
DTSTAMP:20260423T010455
CREATED:20240920T171139Z
LAST-MODIFIED:20240920T171139Z
UID:11033-1727166600-1727166600@navarrebeach.com
SUMMARY:WNP Fun Run
DESCRIPTION:Parents and family members may attend as visitors. You must show a state issued photo ID (not a military ID) and sign in at the front desk and get a visitor badge before going to the track. For our parents and family members that are attending the 1st grade Fun Run\, we ask that you do not come into the building until after we complete our car rider arrival line at 8:20. Visitors who arrive before 8:20 will be asked to wait outside.
URL:https://navarrebeach.com/event/wnp-fun-run/
LOCATION:West Navarre Primary School\, 1955 Lowe Rd.\, Navarre\, FL\, 32566\, United States
ATTACH;FMTTYPE=image/jpeg:https://navarrebeach.com/wp-content/uploads/2024/09/460268418_1070964555028832_5283110195794737375_n.jpg
END:VEVENT
BEGIN:VEVENT
DTSTART;TZID=UTC:20240913T083000
DTEND;TZID=UTC:20240913T100000
DTSTAMP:20260423T010455
CREATED:20240905T205910Z
LAST-MODIFIED:20240905T205949Z
UID:10494-1726216200-1726221600@navarrebeach.com
SUMMARY:Honorary Animal Care Team Experience
DESCRIPTION:Join NBSTCC’s Crew and become a Honorary Animal Care team member! Work alongside NBSTCC Animal Care Team in a 90-minute long program learning about our rescued residents as you see behind the scenes on how they are cared for while learning of the challenges these animals face in the wild. The program begins with a private tour of the conservation center and introduction to NBSTCC’s resident green sea turtle\, Sweet Pea. Program is led by our NBSTCC’s Lead Animal Care Team Manager & Marine Biologist. \nBy becoming one of NBSTCC’s Honorary Animal Care team members\, you not only get a day to remember\, but you will also be contributing to our conservation work both here and around the world\, helping to save animals from extinction.
URL:https://navarrebeach.com/event/honorary-animal-care-team-experience/
LOCATION:Navarre Beach Sea Turtle Conservation Center\, 8740 Gulf Blvd\, Navarre\, FL\, 32566\, United States
ATTACH;FMTTYPE=image/jpeg:https://navarrebeach.com/wp-content/uploads/2024/09/458302634_912590660900665_6333258426866438880_n-e1725569928934.jpg
END:VEVENT
BEGIN:VEVENT
DTSTART;TZID=UTC:20240917T110000
DTEND;TZID=UTC:20240917T113000
DTSTAMP:20260423T010455
CREATED:20240906T194845Z
LAST-MODIFIED:20240906T194845Z
UID:10565-1726570800-1726572600@navarrebeach.com
SUMMARY:Preschool Storytime (ages 3-5)
DESCRIPTION:Storytime programs are presented for preschool children ages 3 to 5 and include stories\, finger plays\, and action rhymes. Caregivers must remain in the library during storytime; however\, they cannot accompany children into the programs. In consideration of all participants\, programs will start promptly at the assigned times. In order to minimize distractions\, latecomers will not be admitted.\n\nIf this will be your first storytime visit\, we invite you to come to the library before your first adventure to meet your storytime presenter\, pick up a welcome packet\, explore our children’s area\, and enjoy a tour of the library!\n\nThe fall session of Preschool Storytime runs from September 16 – December 6. Speak with a staff member for more information.\n\nThemes:September 17 – BearsSeptember 24 – Hats (wear your favorite hat)October 1 – FirefightersOctober 8 – Sick & Get Well SoonOctober 15 – HairOctober 22 – TrainsOctober 29 – HalloweenNovember 5 – I Wouldn’t Do ThatNovember 12 – NinjasNovember 19 – ThanksgivingNovember 26 – NO STORYTIME – ThanksgivingDecember 3 – Christmas
URL:https://navarrebeach.com/event/preschool-storytime-ages-3-5/
LOCATION:The Navarre Library\, 8484 James M. Harvell Rd\, Navarre\, FL\, 32566\, United States
ATTACH;FMTTYPE=image/jpeg:https://navarrebeach.com/wp-content/uploads/2024/09/455842835_901548755332327_1131266458578113078_n.jpg
END:VEVENT
BEGIN:VEVENT
DTSTART;TZID=UTC:20240820T170000
DTEND;TZID=UTC:20240820T200000
DTSTAMP:20260423T010455
CREATED:20240815T210857Z
LAST-MODIFIED:20240909T205007Z
UID:9852-1724173200-1724184000@navarrebeach.com
SUMMARY:Music Bingo Tuesday Nights
DESCRIPTION:Join us Tuesday nights at Andy D’s on Navarre Beach 5-8 PM for SoundCheck Music Bingo! FREE to Play\, FREE to win!!!! Always a full house so come early! Enjoy Navarre Beach’s best Happy Hour 4-6 PM with 1/2 Price Domestic Bottles and Drafts and $3 Well Drinks and House Wine! Food Specials – 10% OFF for Locals\, 15% OFF for Military/Veterans & First Responders!\n\nWe’ll be doing 4 rounds of music bingo\, so if you like Music and you like Bingo\, then you’re in luck! The fun starts at 5:00 pm\, so bring some friends and make a night of it! Test your song title knowledge of the best music of the 60’s\, 70’s\, 80’s\, 90’s and today!!!\n\nPrizes for ALL winners!
URL:https://navarrebeach.com/event/music-bingo-tuesday-nights/
LOCATION:Andy D’s Beachside Restaurant & Deck Bar\, 8649 Gulf Blvd\, Navarre\, 32566
ATTACH;FMTTYPE=image/jpeg:https://navarrebeach.com/wp-content/uploads/2024/08/430196979_347676781596663_6661000585627206549_n-e1723756036224.jpg
END:VEVENT
BEGIN:VEVENT
DTSTART;TZID=UTC:20240821T090000
DTEND;TZID=UTC:20240821T130000
DTSTAMP:20260423T010455
CREATED:20240820T193951Z
LAST-MODIFIED:20240909T205211Z
UID:9910-1724230800-1724245200@navarrebeach.com
SUMMARY:UF/IFAS Master Gardener Plant Clinic
DESCRIPTION:The Plant Clinic\, formerly held at the South End Service Center in Midway\, will now be held at the Navarre Library on Wednesdays from 9 a.m. to 1 p.m.\n\nPlant clinics provide UF-backed\, research-based information on all matters related to plants and insects. Issues inhibiting plant growth are diagnosed\, and strategies are developed to overcome them. Issues may include pathogens\, insect damage\, and environmental factors. In addition\, unknown plants and insects are identified\, and clients are directed to soil testing services.
URL:https://navarrebeach.com/event/uf-ifas-master-gardener-plant-clinic/
LOCATION:The Navarre Library\, 8484 James M. Harvell Rd\, Navarre\, FL\, 32566\, United States
ATTACH;FMTTYPE=image/jpeg:https://navarrebeach.com/wp-content/uploads/2024/08/412301052_752936806860190_5357962753350227648_n-e1724182773941.jpg
END:VEVENT
BEGIN:VEVENT
DTSTART;TZID=UTC:20240925T110000
DTEND;TZID=UTC:20240929T230000
DTSTAMP:20260423T010455
CREATED:20240904T210051Z
LAST-MODIFIED:20240904T210051Z
UID:10400-1727262000-1727650800@navarrebeach.com
SUMMARY:Five Days of Oktoberfest
DESCRIPTION:Ye Olde Brothers Brewery and Relax in Navarre Beach are having five days of Oktoberfest beginning on 9/25/24 through 9/29/24. They have 6-German Lagers and 2-German Ales on tap for $5.00 a Pint. They have shape your own Pretzels\, as well as 51/2″pre-shaped. Also\, we will have 1/4 lb German bratwurst sausages in a Philly Bun. NO ENTRY FEE
URL:https://navarrebeach.com/event/five-days-of-oktoberfest/
LOCATION:Ye Olde Brothers Brewery\, 4458 Highway 87\, Navarre\, FL\, 32566\, United States
ATTACH;FMTTYPE=image/jpeg:https://navarrebeach.com/wp-content/uploads/2024/09/456374504_940233401454779_5876290744416889806_n.jpg
END:VEVENT
BEGIN:VEVENT
DTSTART;TZID=UTC:20240911T163000
DTEND;TZID=UTC:20240911T200000
DTSTAMP:20260423T010455
CREATED:20240904T214912Z
LAST-MODIFIED:20240909T205353Z
UID:10459-1726072200-1726084800@navarrebeach.com
SUMMARY:Birdies and Beers
DESCRIPTION:Birdies and Beers is a mid-week event where golfers of all skill levels can come out and enjoy nine holes. Golf with your friends and meet some new ones. The format will change weekly
URL:https://navarrebeach.com/event/birdies-and-beers/
LOCATION:The Club at Hidden Creek\, 3070 P.G.A Blvd\, Navarre\, FL\, 32566\, United States
ATTACH;FMTTYPE=image/jpeg:https://navarrebeach.com/wp-content/uploads/2024/09/431867713_953355399950642_4138577073195405936_n.jpg
END:VEVENT
BEGIN:VEVENT
DTSTART;TZID=UTC:20240821T170000
DTEND;TZID=UTC:20240821T200000
DTSTAMP:20260423T010455
CREATED:20240820T215559Z
LAST-MODIFIED:20240909T205439Z
UID:9980-1724259600-1724270400@navarrebeach.com
SUMMARY:Kyle Kaeser Live at Andy D's
DESCRIPTION:Join Andy D’s for the sweet vocals and guitar playing by our own Kyler Kaeser. Kyler plays guitar and is a great storyteller with his vocals\, playing a wide range of hits in the singer/songwriter mold
URL:https://navarrebeach.com/event/kyle-kaeser-live-at-andy-ds/
LOCATION:Andy D’s Beachside Restaurant & Deck Bar\, 8649 Gulf Blvd\, Navarre\, 32566
ATTACH;FMTTYPE=image/jpeg:https://navarrebeach.com/wp-content/uploads/2024/08/425722232_332617709769237_4242796176624669648_n-e1724190908299.jpg
END:VEVENT
BEGIN:VEVENT
DTSTART;TZID=UTC:20240904T180000
DTEND;TZID=UTC:20240904T180000
DTSTAMP:20260423T010455
CREATED:20240904T212241Z
LAST-MODIFIED:20240909T205523Z
UID:10424-1725472800-1725472800@navarrebeach.com
SUMMARY:Wine Down Wednesday Bingo Night
DESCRIPTION:Bingo tonight starting at 6pm. Come home some wine and let off some steam on “Wine Down Wednesday.”
URL:https://navarrebeach.com/event/wine-down-wednesday-bingo-night-2/
LOCATION:The Vine Wine Bar\, Bistro & Shoppe\, 8211 Navarre Pkwy\, Navarre\, FL\, 32566\, United States
ATTACH;FMTTYPE=image/png:https://navarrebeach.com/wp-content/uploads/2024/08/Untitled-1-1-e1724182561709.png
END:VEVENT
BEGIN:VEVENT
DTSTART;TZID=UTC:20240925T180000
DTEND;TZID=UTC:20240925T200000
DTSTAMP:20260423T010455
CREATED:20240906T200831Z
LAST-MODIFIED:20240906T200831Z
UID:10595-1727287200-1727294400@navarrebeach.com
SUMMARY:Book Club
DESCRIPTION:Join Coastal Bohemian as they explore The Creative Lifestyle. Although this is a free event pls do rsvp so we know we have enough room for all. Do you garden\, knit\, cook \, carve\, sew? This is also for you.
URL:https://navarrebeach.com/event/book-club/
LOCATION:Coastal Bohemian\, 5397 Harmony Ln\, Gulf Breeze\, FL\, 32563\, United States
ATTACH;FMTTYPE=image/jpeg:https://navarrebeach.com/wp-content/uploads/2024/09/453751527_902199151926453_9071004873847555593_n-e1725653306592.jpg
END:VEVENT
BEGIN:VEVENT
DTSTART;TZID=UTC:20240828T183000
DTEND;TZID=UTC:20240828T213000
DTSTAMP:20260423T010455
CREATED:20240823T185725Z
LAST-MODIFIED:20240909T205604Z
UID:10079-1724869800-1724880600@navarrebeach.com
SUMMARY:Bingo Wednesdays
DESCRIPTION:Bring your friends and family for a night of fun\, excitement\, and the chance to win fantastic prizes! Don’t miss out on the first ball being called at 6:30 PM. See you there for a BINGO-tastic evening!
URL:https://navarrebeach.com/event/bingo-wednesdays/
LOCATION:American Legion Post 378\, 2712 Gulf Breeze Pkwy\, Gulf Breeze\, FL\, 32563\, United States
ATTACH;FMTTYPE=image/jpeg:https://navarrebeach.com/wp-content/uploads/2024/08/417235085_223453337483429_3747944833423600202_n.jpg
END:VEVENT
BEGIN:VEVENT
DTSTART;TZID=UTC:20240925T190000
DTEND;TZID=UTC:20240925T230000
DTSTAMP:20260423T010455
CREATED:20240904T194944Z
LAST-MODIFIED:20240904T194944Z
UID:10359-1727290800-1727305200@navarrebeach.com
SUMMARY:Live Music at Juana's
DESCRIPTION:If you enjoy live music\, food\, and a beachfront view\, head to Juana’s for a fun night! Stevie Hall will perform for audiences who want to see all the Pagodas have to offer!
URL:https://navarrebeach.com/event/live-music-at-juanas-30/
LOCATION:Juanas Pagodas\, 1451 Navarre Beach Causeway\, Navarre\, FL\, 32566\, United States
ATTACH;FMTTYPE=image/png:https://navarrebeach.com/wp-content/uploads/2024/08/juanas-pagodas-exterior-beach.png
END:VEVENT
BEGIN:VEVENT
DTSTART;TZID=UTC:20240919T110000
DTEND;TZID=UTC:20240919T112000
DTSTAMP:20260423T010455
CREATED:20240906T200520Z
LAST-MODIFIED:20240906T200520Z
UID:10588-1726743600-1726744800@navarrebeach.com
SUMMARY:Toddler Time
DESCRIPTION:Toddler Time is a program for children ages 18 to 36 months who attend with a caregiver. One child and one adult register together for songs\, stories\, rhymes\, and other fun activities. These interactions will be one-on-one; therefore\, each child must attend with a separate caregiver. You will also be given ideas to use at home which reinforce the theme for the day. This program lasts 20 minutes.\n\nToddler Time requires registration; space is limited. It is not a drop-in program. Registration begins August 19 at your library; visit your library for a registration form.\n\nThe fall session of Toddler Time runs from September 16 – December 6. Speak with a staff member for more information.\n\nThemes:\nSeptember 19 – PumpkinsSeptember 26 – Feathered FriendsOctober 3 – BedtimeOctober 10 – Fast and SlowOctober 17 – FoodOctober 24 – CatsOctober 31 – Animal Guessing GamesNovember 7 – FallNovember 14 – Nursery RhymesNovember 21 – BoatsNovember 28 – NO TODDLER TIME – ThanksgivingDecember 5 – Monkeys
URL:https://navarrebeach.com/event/toddler-time/
LOCATION:The Navarre Library\, 8484 James M. Harvell Rd\, Navarre\, FL\, 32566\, United States
ATTACH;FMTTYPE=image/jpeg:https://navarrebeach.com/wp-content/uploads/2024/09/455616295_901551101998759_3828521961904255748_n.jpg
END:VEVENT
BEGIN:VEVENT
DTSTART;TZID=UTC:20240926T173000
DTEND;TZID=UTC:20240926T173000
DTSTAMP:20260423T010455
CREATED:20240906T191632Z
LAST-MODIFIED:20240920T190352Z
UID:10537-1727371800-1727371800@navarrebeach.com
SUMMARY:ACO Regional
DESCRIPTION:ACO Regionals are local points-earning tournaments where ACO players compete for World Ranking Points and Prizes. Regionals give players the chance to qualify for the ACO World Championships of Cornhole in July.
URL:https://navarrebeach.com/event/aco-regional/
LOCATION:American Legion Post 382\, 1850 Luneta St\, Navarre\, FL\, 32566\, United States
ATTACH;FMTTYPE=image/jpeg:https://navarrebeach.com/wp-content/uploads/2024/09/459629429_930071559152459_1497042747140542806_n.jpg
END:VEVENT
BEGIN:VEVENT
DTSTART;TZID=UTC:20240905T180000
DTEND;TZID=UTC:20240905T180000
DTSTAMP:20260423T010455
CREATED:20240904T200828Z
LAST-MODIFIED:20240904T200828Z
UID:10378-1725559200-1725559200@navarrebeach.com
SUMMARY:TRIVIA at The Grey Taproom
DESCRIPTION:Get ready for a brain-teasing good time! Join The Taproom every Thursday at 6 pm for Trivia Night! Gather your team\, show off your knowledge\, and compete for fantastic prizes. It’s the ultimate test of wits and loads of fun – see you there!
URL:https://navarrebeach.com/event/trivia-at-the-grey-taproom-2/
LOCATION:The Grey Taproom\, 7622 Navarre Pkwy\, Navarre\, FL\, 32566\, United States
ATTACH;FMTTYPE=image/png:https://navarrebeach.com/wp-content/uploads/2024/08/Untitled-2-e1723668569766.png
END:VEVENT
BEGIN:VEVENT
DTSTART;TZID=UTC:20240926T180000
DTEND;TZID=UTC:20240926T180000
DTSTAMP:20260423T010455
CREATED:20240916T204038Z
LAST-MODIFIED:20240916T204038Z
UID:10931-1727373600-1727373600@navarrebeach.com
SUMMARY:Gulf Coast Mil Connect September Networking
DESCRIPTION:This event is designed to help you navigate your transition by introducing you to the resources\, opportunities\, and people who are here to support your success. Whether you’re looking to network\, explore new career paths\, or simply meet others on a similar journey\, this is the event for you!
URL:https://navarrebeach.com/event/gulf-coast-mil-connect-september-networking/
LOCATION:St. Michael’s Brewing Company\, 2199 FL-87\, Navarre\, FL\, 32566\, United States
ATTACH;FMTTYPE=image/jpeg:https://navarrebeach.com/wp-content/uploads/2024/09/459148226_122160765092246033_7195545693346501099_n.jpg
END:VEVENT
BEGIN:VEVENT
DTSTART;TZID=UTC:20240926T190000
DTEND;TZID=UTC:20240926T230000
DTSTAMP:20260423T010455
CREATED:20240904T195040Z
LAST-MODIFIED:20240904T195040Z
UID:10361-1727377200-1727391600@navarrebeach.com
SUMMARY:Live Music at Juana's
DESCRIPTION:If you enjoy live music\, food\, and a beachfront view\, head to Juana’s for a fun night! Shane Curle will perform for audiences who want to see all the Pagodas have to offer!
URL:https://navarrebeach.com/event/live-music-at-juanas-31/
LOCATION:Juanas Pagodas\, 1451 Navarre Beach Causeway\, Navarre\, FL\, 32566\, United States
ATTACH;FMTTYPE=image/png:https://navarrebeach.com/wp-content/uploads/2024/08/juanas-pagodas-exterior-beach.png
END:VEVENT
BEGIN:VEVENT
DTSTART;TZID=UTC:20240823T070000
DTEND;TZID=UTC:20240823T230000
DTSTAMP:20260423T010455
CREATED:20240823T201138Z
LAST-MODIFIED:20240823T201138Z
UID:10093-1724396400-1724454000@navarrebeach.com
SUMMARY:Karaoke with DJ Hi-Def
DESCRIPTION:Fun-filled karaoke in the expanded bar at Windjammers on the Pier!
URL:https://navarrebeach.com/event/karaoke-with-dj-hi-def/
LOCATION:Windjammers on the Pier\, 8579 Gulf Blvd\, Navarre\, FL\, 32566\, United States
ATTACH;FMTTYPE=image/png:https://navarrebeach.com/wp-content/uploads/2024/08/shutterstock_2045516012-Converted-01-e1724443884205.png
END:VEVENT
BEGIN:VEVENT
DTSTART;TZID=UTC:20240927T160000
DTEND;TZID=UTC:20240928T000000
DTSTAMP:20260423T010455
CREATED:20240904T195141Z
LAST-MODIFIED:20240904T195141Z
UID:10363-1727452800-1727481600@navarrebeach.com
SUMMARY:Live Music at Juana's
DESCRIPTION:If you enjoy live music\, food\, and a beachfront view\, head to Juana’s for a fun night! Jeff Ivanoff and Dad Bod will perform for audiences who want to see all the Pagodas have to offer!
URL:https://navarrebeach.com/event/live-music-at-juanas-32/
LOCATION:Juanas Pagodas\, 1451 Navarre Beach Causeway\, Navarre\, FL\, 32566\, United States
ATTACH;FMTTYPE=image/png:https://navarrebeach.com/wp-content/uploads/2024/08/juanas-pagodas-exterior-beach.png
END:VEVENT
BEGIN:VEVENT
DTSTART;TZID=UTC:20240906T180000
DTEND;TZID=UTC:20240906T220000
DTSTAMP:20260423T010455
CREATED:20240904T212859Z
LAST-MODIFIED:20240904T212859Z
UID:10426-1725645600-1725660000@navarrebeach.com
SUMMARY:Tribe Zion Lie a Andy D's
DESCRIPTION:Andy D’s is super excited to have Tribe Zion playing the deck stage again. Their blend of Reggae\, Hip-hop & Rock with a lil funk\, blues & soul on the side is always a good time.
URL:https://navarrebeach.com/event/tribe-zion-lie-a-andy-ds/
LOCATION:Andy D’s Beachside Restaurant & Deck Bar\, 8649 Gulf Blvd\, Navarre\, 32566
ATTACH;FMTTYPE=image/jpeg:https://navarrebeach.com/wp-content/uploads/2024/09/421265650_321990874165254_191360190298222607_n-e1725485311300.jpg
END:VEVENT
BEGIN:VEVENT
DTSTART;TZID=UTC:20240928T080000
DTEND;TZID=UTC:20240928T080000
DTSTAMP:20260423T010455
CREATED:20240916T210350Z
LAST-MODIFIED:20240916T210350Z
UID:10934-1727510400-1727510400@navarrebeach.com
SUMMARY:Spin to the 70s
DESCRIPTION:Call or text to reserve your bike 850-490-1208.
URL:https://navarrebeach.com/event/spin-to-the-70s/
LOCATION:Iron Lady Fitness\, 8177 East Bay Blvd\, Navarre\, FL\, 32566\, United States
ATTACH;FMTTYPE=image/jpeg:https://navarrebeach.com/wp-content/uploads/2024/09/459146845_1043503637781688_9171122820686706849_n-1.jpg
END:VEVENT
BEGIN:VEVENT
DTSTART;TZID=UTC:20240928T080000
DTEND;TZID=UTC:20240928T100000
DTSTAMP:20260423T010455
CREATED:20240925T195825Z
LAST-MODIFIED:20240925T195825Z
UID:11115-1727510400-1727517600@navarrebeach.com
SUMMARY:Trash Bash
DESCRIPTION:The NBSTCC has partnered with the National Oceanic and Atmospheric Administration and Loggerhead Marine Life Center on a marine debris cleanup initiative. \nThe Trash Bash was the idea of one of our volunteers and originally began as a local beach cleanup.  It has expanded into a global effort to collect data on marine debris and its effect on marine life\, specifically sea turtles. \nThis is a Citizen Science Program that allows volunteers from all walks of life to participate and take an active role in the war against marine debris. \nVolunteers collect trash from different areas along the 4.5 miles of Navarre Beach and record data that is forwarded to state and federal agencies. \nThe Trash Bash is held the last Saturday of each month.
URL:https://navarrebeach.com/event/trash-bash/
LOCATION:Sand Crab Pavilion\, 8689 Gulf Blvd\, Navarre\, FL\, 32566\, United States
ATTACH;FMTTYPE=image/jpeg:https://navarrebeach.com/wp-content/uploads/2024/09/421500700_766678752158524_5026177720777541824_n-1.jpg
END:VEVENT
BEGIN:VEVENT
DTSTART;TZID=UTC:20240907T090000
DTEND;TZID=UTC:20240907T140000
DTSTAMP:20260423T010455
CREATED:20240904T190819Z
LAST-MODIFIED:20240904T192651Z
UID:10309-1725699600-1725717600@navarrebeach.com
SUMMARY:Hwy 87 Market at Sand Dollar Plaza
DESCRIPTION:Highway 87 Market is an outdoor market\, held the 1st and 3rd Saturday of each month\, across multiple venues on Highway 87 in Navarre. In Sand Dollar Plaza market vendors will set up at the back of the plaza. In addition\, the merchants of Sand Dollar Plaza will be featuring various products and specials\, as they do each week for Sand Dollar Saturday.
URL:https://navarrebeach.com/event/hwy-87-market-at-sand-dollar-plaza/
LOCATION:Sand Dollar Plaza\, 1900 Highway 87\, Navarre\, FL\, 32566\, United States
ATTACH;FMTTYPE=image/jpeg:https://navarrebeach.com/wp-content/uploads/2024/09/245809550_4737455279618335_3685230664561647587_n-e1725476895222.jpg
ORGANIZER;CN="Hwy 87 Market & Sand Dollar Saturday":MAILTO:SandDollarSaturday@gmail.com
END:VEVENT
END:VCALENDAR