
BEGIN:VCALENDAR
VERSION:2.0
PRODID:-//Navarrebeach.com - ECPv6.15.20//NONSGML v1.0//EN
CALSCALE:GREGORIAN
METHOD:PUBLISH
X-ORIGINAL-URL:https://navarrebeach.com
X-WR-CALDESC:Events for Navarrebeach.com
REFRESH-INTERVAL;VALUE=DURATION:PT1H
X-Robots-Tag:noindex
X-PUBLISHED-TTL:PT1H
BEGIN:VTIMEZONE
TZID:UTC
BEGIN:STANDARD
TZOFFSETFROM:+0000
TZOFFSETTO:+0000
TZNAME:UTC
DTSTART:20250101T000000
END:STANDARD
END:VTIMEZONE
BEGIN:VEVENT
DTSTART;TZID=UTC:20261108T140000
DTEND;TZID=UTC:20261108T170000
DTSTAMP:20260421T195436
CREATED:20251023T172030Z
LAST-MODIFIED:20251023T172030Z
UID:12526-1794146400-1794157200@navarrebeach.com
SUMMARY:Stage Crafters Guys and Dolls Show
DESCRIPTION:November 6th-8th & November 13th-15th​\n\nFridays and Saturdays at 7:30pm | Sundays at 2:00pm\n\nSet in Damon Runyon’s mythical New York City\, Guys and Dolls is an oddball romantic comedy. Gambler\, Nathan Detroit\, tries to find the cash to set up the biggest craps game in town while the authorities breathe down his neck; meanwhile\, his girlfriend and nightclub performer\, Adelaide\, laments that they’ve been engaged for fourteen years. Nathan turns to fellow gambler\, Sky Masterson\, for the dough\, and Sky ends up chasing the straight-laced missionary\, Sarah Brown\, as a result. Guys and Dolls takes us from the heart of Times Square to the cafes of Havana\, Cuba\, and even into the sewers of New York City\, but eventually everyone ends up right where they belong.
URL:https://navarrebeach.com/event/stage-crafters-guys-and-dolls-show-3/
LOCATION:Fort Walton Beach Civic Auditorium\, 109 Miracle Strip Parkway\, Fort Walton Beach\, FL\, 32548\, United States
ATTACH;FMTTYPE=image/avif:https://navarrebeach.com/wp-content/uploads/2025/10/GUYSANDDOLLS_LOGO-BLACK_4C.avif
END:VEVENT
BEGIN:VEVENT
DTSTART;TZID=UTC:20261113T193000
DTEND;TZID=UTC:20261113T220000
DTSTAMP:20260421T195436
CREATED:20251023T172624Z
LAST-MODIFIED:20251023T172624Z
UID:12528-1794598200-1794607200@navarrebeach.com
SUMMARY:Stage Crafters Guys and Dolls Show
DESCRIPTION:November 6th-8th & November 13th-15th​\n\nFridays and Saturdays at 7:30pm | Sundays at 2:00pm\n\nSet in Damon Runyon’s mythical New York City\, Guys and Dolls is an oddball romantic comedy. Gambler\, Nathan Detroit\, tries to find the cash to set up the biggest craps game in town while the authorities breathe down his neck; meanwhile\, his girlfriend and nightclub performer\, Adelaide\, laments that they’ve been engaged for fourteen years. Nathan turns to fellow gambler\, Sky Masterson\, for the dough\, and Sky ends up chasing the straight-laced missionary\, Sarah Brown\, as a result. Guys and Dolls takes us from the heart of Times Square to the cafes of Havana\, Cuba\, and even into the sewers of New York City\, but eventually everyone ends up right where they belong.
URL:https://navarrebeach.com/event/stage-crafters-guys-and-dolls-show-4/
LOCATION:Fort Walton Beach Civic Auditorium\, 109 Miracle Strip Parkway\, Fort Walton Beach\, FL\, 32548\, United States
ATTACH;FMTTYPE=image/avif:https://navarrebeach.com/wp-content/uploads/2025/10/GUYSANDDOLLS_LOGO-BLACK_4C.avif
END:VEVENT
BEGIN:VEVENT
DTSTART;TZID=UTC:20261114T193000
DTEND;TZID=UTC:20261114T220000
DTSTAMP:20260421T195436
CREATED:20251023T172736Z
LAST-MODIFIED:20251023T172736Z
UID:12530-1794684600-1794693600@navarrebeach.com
SUMMARY:Stage Crafters Guys and Dolls Show
DESCRIPTION:November 6th-8th & November 13th-15th​\n\nFridays and Saturdays at 7:30pm | Sundays at 2:00pm\n\nSet in Damon Runyon’s mythical New York City\, Guys and Dolls is an oddball romantic comedy. Gambler\, Nathan Detroit\, tries to find the cash to set up the biggest craps game in town while the authorities breathe down his neck; meanwhile\, his girlfriend and nightclub performer\, Adelaide\, laments that they’ve been engaged for fourteen years. Nathan turns to fellow gambler\, Sky Masterson\, for the dough\, and Sky ends up chasing the straight-laced missionary\, Sarah Brown\, as a result. Guys and Dolls takes us from the heart of Times Square to the cafes of Havana\, Cuba\, and even into the sewers of New York City\, but eventually everyone ends up right where they belong.
URL:https://navarrebeach.com/event/stage-crafters-guys-and-dolls-show-5/
LOCATION:Fort Walton Beach Civic Auditorium\, 109 Miracle Strip Parkway\, Fort Walton Beach\, FL\, 32548\, United States
ATTACH;FMTTYPE=image/avif:https://navarrebeach.com/wp-content/uploads/2025/10/GUYSANDDOLLS_LOGO-BLACK_4C.avif
END:VEVENT
BEGIN:VEVENT
DTSTART;TZID=UTC:20261115T140000
DTEND;TZID=UTC:20261115T170000
DTSTAMP:20260421T195436
CREATED:20251023T172835Z
LAST-MODIFIED:20251023T172835Z
UID:12532-1794751200-1794762000@navarrebeach.com
SUMMARY:Stage Crafters Guys and Dolls Show
DESCRIPTION:November 6th-8th & November 13th-15th​\n\nFridays and Saturdays at 7:30pm | Sundays at 2:00pm\n\nSet in Damon Runyon’s mythical New York City\, Guys and Dolls is an oddball romantic comedy. Gambler\, Nathan Detroit\, tries to find the cash to set up the biggest craps game in town while the authorities breathe down his neck; meanwhile\, his girlfriend and nightclub performer\, Adelaide\, laments that they’ve been engaged for fourteen years. Nathan turns to fellow gambler\, Sky Masterson\, for the dough\, and Sky ends up chasing the straight-laced missionary\, Sarah Brown\, as a result. Guys and Dolls takes us from the heart of Times Square to the cafes of Havana\, Cuba\, and even into the sewers of New York City\, but eventually everyone ends up right where they belong.
URL:https://navarrebeach.com/event/stage-crafters-guys-and-dolls-show-6/
LOCATION:Fort Walton Beach Civic Auditorium\, 109 Miracle Strip Parkway\, Fort Walton Beach\, FL\, 32548\, United States
ATTACH;FMTTYPE=image/avif:https://navarrebeach.com/wp-content/uploads/2025/10/GUYSANDDOLLS_LOGO-BLACK_4C.avif
END:VEVENT
END:VCALENDAR