
BEGIN:VCALENDAR
VERSION:2.0
PRODID:-//Navarrebeach.com - ECPv6.15.20//NONSGML v1.0//EN
CALSCALE:GREGORIAN
METHOD:PUBLISH
X-WR-CALNAME:Navarrebeach.com
X-ORIGINAL-URL:https://navarrebeach.com
X-WR-CALDESC:Events for Navarrebeach.com
REFRESH-INTERVAL;VALUE=DURATION:PT1H
X-Robots-Tag:noindex
X-PUBLISHED-TTL:PT1H
BEGIN:VTIMEZONE
TZID:UTC
BEGIN:STANDARD
TZOFFSETFROM:+0000
TZOFFSETTO:+0000
TZNAME:UTC
DTSTART:20230101T000000
END:STANDARD
END:VTIMEZONE
BEGIN:VEVENT
DTSTART;TZID=UTC:20240905T180000
DTEND;TZID=UTC:20240905T180000
DTSTAMP:20260423T110102
CREATED:20240904T200828Z
LAST-MODIFIED:20240904T200828Z
UID:10378-1725559200-1725559200@navarrebeach.com
SUMMARY:TRIVIA at The Grey Taproom
DESCRIPTION:Get ready for a brain-teasing good time! Join The Taproom every Thursday at 6 pm for Trivia Night! Gather your team\, show off your knowledge\, and compete for fantastic prizes. It’s the ultimate test of wits and loads of fun – see you there!
URL:https://navarrebeach.com/event/trivia-at-the-grey-taproom-2/
LOCATION:The Grey Taproom\, 7622 Navarre Pkwy\, Navarre\, FL\, 32566\, United States
ATTACH;FMTTYPE=image/png:https://navarrebeach.com/wp-content/uploads/2024/08/Untitled-2-e1723668569766.png
END:VEVENT
BEGIN:VEVENT
DTSTART;TZID=UTC:20241010T170000
DTEND;TZID=UTC:20241010T210000
DTSTAMP:20260423T110102
CREATED:20240819T143312Z
LAST-MODIFIED:20240819T143312Z
UID:9887-1728579600-1728594000@navarrebeach.com
SUMMARY:Juanas Rocktoberfest
DESCRIPTION:A concert on the Beach Stage at Juana’s featuring AD/DC and Def Leppard Tribute bands\, with an opening by Thin Ice!
URL:https://navarrebeach.com/event/juanas-rocktoberfest/
LOCATION:Juanas Pagodas\, 1451 Navarre Beach Causeway\, Navarre\, FL\, 32566\, United States
ATTACH;FMTTYPE=image/png:https://navarrebeach.com/wp-content/uploads/2024/08/rocktoberfest-banner.png
END:VEVENT
BEGIN:VEVENT
DTSTART;TZID=UTC:20241010T130000
DTEND;TZID=UTC:20241010T130000
DTSTAMP:20260423T110102
CREATED:20241002T185749Z
LAST-MODIFIED:20241002T185749Z
UID:11166-1728565200-1728565200@navarrebeach.com
SUMMARY:Beginning Genealogy
DESCRIPTION:October is Family History Month\, and there is no better time to start preserving your family’s story. This session will cover census records\, and will take place on the following dates:\n\nOct. 9\, 10:30 a.m. – Pace LibraryOct. 10\, 1 p.m. – Navarre LibraryOct. 16\, 11 a.m. – Jay LibraryOct. 18\, 10 a.m. – Milton LibraryOct. 21\, 11 a.m. – Gulf Breeze Library
URL:https://navarrebeach.com/event/beginning-genealogy/
LOCATION:The Navarre Library\, 8484 James M. Harvell Rd\, Navarre\, FL\, 32566\, United States
ATTACH;FMTTYPE=image/jpeg:https://navarrebeach.com/wp-content/uploads/2024/10/461579158_931809132306289_688910764582611778_n.jpg
END:VEVENT
BEGIN:VEVENT
DTSTART;TZID=UTC:20240919T110000
DTEND;TZID=UTC:20240919T112000
DTSTAMP:20260423T110102
CREATED:20240906T200520Z
LAST-MODIFIED:20240906T200520Z
UID:10588-1726743600-1726744800@navarrebeach.com
SUMMARY:Toddler Time
DESCRIPTION:Toddler Time is a program for children ages 18 to 36 months who attend with a caregiver. One child and one adult register together for songs\, stories\, rhymes\, and other fun activities. These interactions will be one-on-one; therefore\, each child must attend with a separate caregiver. You will also be given ideas to use at home which reinforce the theme for the day. This program lasts 20 minutes.\n\nToddler Time requires registration; space is limited. It is not a drop-in program. Registration begins August 19 at your library; visit your library for a registration form.\n\nThe fall session of Toddler Time runs from September 16 – December 6. Speak with a staff member for more information.\n\nThemes:\nSeptember 19 – PumpkinsSeptember 26 – Feathered FriendsOctober 3 – BedtimeOctober 10 – Fast and SlowOctober 17 – FoodOctober 24 – CatsOctober 31 – Animal Guessing GamesNovember 7 – FallNovember 14 – Nursery RhymesNovember 21 – BoatsNovember 28 – NO TODDLER TIME – ThanksgivingDecember 5 – Monkeys
URL:https://navarrebeach.com/event/toddler-time/
LOCATION:The Navarre Library\, 8484 James M. Harvell Rd\, Navarre\, FL\, 32566\, United States
ATTACH;FMTTYPE=image/jpeg:https://navarrebeach.com/wp-content/uploads/2024/09/455616295_901551101998759_3828521961904255748_n.jpg
END:VEVENT
BEGIN:VEVENT
DTSTART;TZID=UTC:20241009T190000
DTEND;TZID=UTC:20241009T230000
DTSTAMP:20260423T110102
CREATED:20241008T195938Z
LAST-MODIFIED:20241008T195938Z
UID:11209-1728500400-1728514800@navarrebeach.com
SUMMARY:Live Music at Juana's
DESCRIPTION:If you enjoy live music\, food\, and a beachfront view\, head to Juana’s for a fun night! Almost Famous will perform for audiences who want to enjoy all the Pagodas have to offer!
URL:https://navarrebeach.com/event/live-music-at-juanas-38/
LOCATION:Juanas Pagodas\, 1451 Navarre Beach Causeway\, Navarre\, FL\, 32566\, United States
ATTACH;FMTTYPE=image/png:https://navarrebeach.com/wp-content/uploads/2024/08/juanas-pagodas-exterior-beach.png
END:VEVENT
BEGIN:VEVENT
DTSTART;TZID=UTC:20240828T183000
DTEND;TZID=UTC:20240828T213000
DTSTAMP:20260423T110102
CREATED:20240823T185725Z
LAST-MODIFIED:20240909T205604Z
UID:10079-1724869800-1724880600@navarrebeach.com
SUMMARY:Bingo Wednesdays
DESCRIPTION:Bring your friends and family for a night of fun\, excitement\, and the chance to win fantastic prizes! Don’t miss out on the first ball being called at 6:30 PM. See you there for a BINGO-tastic evening!
URL:https://navarrebeach.com/event/bingo-wednesdays/
LOCATION:American Legion Post 378\, 2712 Gulf Breeze Pkwy\, Gulf Breeze\, FL\, 32563\, United States
ATTACH;FMTTYPE=image/jpeg:https://navarrebeach.com/wp-content/uploads/2024/08/417235085_223453337483429_3747944833423600202_n.jpg
END:VEVENT
BEGIN:VEVENT
DTSTART;TZID=UTC:20240821T170000
DTEND;TZID=UTC:20240821T200000
DTSTAMP:20260423T110102
CREATED:20240820T215559Z
LAST-MODIFIED:20240909T205439Z
UID:9980-1724259600-1724270400@navarrebeach.com
SUMMARY:Kyle Kaeser Live at Andy D's
DESCRIPTION:Join Andy D’s for the sweet vocals and guitar playing by our own Kyler Kaeser. Kyler plays guitar and is a great storyteller with his vocals\, playing a wide range of hits in the singer/songwriter mold
URL:https://navarrebeach.com/event/kyle-kaeser-live-at-andy-ds/
LOCATION:Andy D’s Beachside Restaurant & Deck Bar\, 8649 Gulf Blvd\, Navarre\, 32566
ATTACH;FMTTYPE=image/jpeg:https://navarrebeach.com/wp-content/uploads/2024/08/425722232_332617709769237_4242796176624669648_n-e1724190908299.jpg
END:VEVENT
BEGIN:VEVENT
DTSTART;TZID=UTC:20240911T163000
DTEND;TZID=UTC:20240911T200000
DTSTAMP:20260423T110102
CREATED:20240904T214912Z
LAST-MODIFIED:20240909T205353Z
UID:10459-1726072200-1726084800@navarrebeach.com
SUMMARY:Birdies and Beers
DESCRIPTION:Birdies and Beers is a mid-week event where golfers of all skill levels can come out and enjoy nine holes. Golf with your friends and meet some new ones. The format will change weekly
URL:https://navarrebeach.com/event/birdies-and-beers/
LOCATION:The Club at Hidden Creek\, 3070 P.G.A Blvd\, Navarre\, FL\, 32566\, United States
ATTACH;FMTTYPE=image/jpeg:https://navarrebeach.com/wp-content/uploads/2024/09/431867713_953355399950642_4138577073195405936_n.jpg
END:VEVENT
BEGIN:VEVENT
DTSTART;TZID=UTC:20240911T103000
DTEND;TZID=UTC:20240911T113000
DTSTAMP:20260423T110102
CREATED:20240821T171442Z
LAST-MODIFIED:20240909T205249Z
UID:10008-1726050600-1726054200@navarrebeach.com
SUMMARY:Meet! Play! Learn!
DESCRIPTION:Meet! Play! Learn! is a program where parents of young children can congregate and socialize with other parents while their children play and make friends at age-appropriate activity stations set up around the room. This program is for children ages birth to 5 who have not yet started kindergarten.
URL:https://navarrebeach.com/event/meet-play-learn/
LOCATION:The Navarre Library\, 8484 James M. Harvell Rd\, Navarre\, FL\, 32566\, United States
ATTACH;FMTTYPE=image/jpeg:https://navarrebeach.com/wp-content/uploads/2024/08/412790455_752939156859955_829667616969307585_n.jpg
END:VEVENT
BEGIN:VEVENT
DTSTART;TZID=UTC:20240821T090000
DTEND;TZID=UTC:20240821T130000
DTSTAMP:20260423T110102
CREATED:20240820T193951Z
LAST-MODIFIED:20240909T205211Z
UID:9910-1724230800-1724245200@navarrebeach.com
SUMMARY:UF/IFAS Master Gardener Plant Clinic
DESCRIPTION:The Plant Clinic\, formerly held at the South End Service Center in Midway\, will now be held at the Navarre Library on Wednesdays from 9 a.m. to 1 p.m.\n\nPlant clinics provide UF-backed\, research-based information on all matters related to plants and insects. Issues inhibiting plant growth are diagnosed\, and strategies are developed to overcome them. Issues may include pathogens\, insect damage\, and environmental factors. In addition\, unknown plants and insects are identified\, and clients are directed to soil testing services.
URL:https://navarrebeach.com/event/uf-ifas-master-gardener-plant-clinic/
LOCATION:The Navarre Library\, 8484 James M. Harvell Rd\, Navarre\, FL\, 32566\, United States
ATTACH;FMTTYPE=image/jpeg:https://navarrebeach.com/wp-content/uploads/2024/08/412301052_752936806860190_5357962753350227648_n-e1724182773941.jpg
END:VEVENT
BEGIN:VEVENT
DTSTART;TZID=UTC:20240820T170000
DTEND;TZID=UTC:20240820T200000
DTSTAMP:20260423T110102
CREATED:20240815T210857Z
LAST-MODIFIED:20240909T205007Z
UID:9852-1724173200-1724184000@navarrebeach.com
SUMMARY:Music Bingo Tuesday Nights
DESCRIPTION:Join us Tuesday nights at Andy D’s on Navarre Beach 5-8 PM for SoundCheck Music Bingo! FREE to Play\, FREE to win!!!! Always a full house so come early! Enjoy Navarre Beach’s best Happy Hour 4-6 PM with 1/2 Price Domestic Bottles and Drafts and $3 Well Drinks and House Wine! Food Specials – 10% OFF for Locals\, 15% OFF for Military/Veterans & First Responders!\n\nWe’ll be doing 4 rounds of music bingo\, so if you like Music and you like Bingo\, then you’re in luck! The fun starts at 5:00 pm\, so bring some friends and make a night of it! Test your song title knowledge of the best music of the 60’s\, 70’s\, 80’s\, 90’s and today!!!\n\nPrizes for ALL winners!
URL:https://navarrebeach.com/event/music-bingo-tuesday-nights/
LOCATION:Andy D’s Beachside Restaurant & Deck Bar\, 8649 Gulf Blvd\, Navarre\, 32566
ATTACH;FMTTYPE=image/jpeg:https://navarrebeach.com/wp-content/uploads/2024/08/430196979_347676781596663_6661000585627206549_n-e1723756036224.jpg
END:VEVENT
BEGIN:VEVENT
DTSTART;TZID=UTC:20240917T110000
DTEND;TZID=UTC:20240917T113000
DTSTAMP:20260423T110102
CREATED:20240906T194845Z
LAST-MODIFIED:20240906T194845Z
UID:10565-1726570800-1726572600@navarrebeach.com
SUMMARY:Preschool Storytime (ages 3-5)
DESCRIPTION:Storytime programs are presented for preschool children ages 3 to 5 and include stories\, finger plays\, and action rhymes. Caregivers must remain in the library during storytime; however\, they cannot accompany children into the programs. In consideration of all participants\, programs will start promptly at the assigned times. In order to minimize distractions\, latecomers will not be admitted.\n\nIf this will be your first storytime visit\, we invite you to come to the library before your first adventure to meet your storytime presenter\, pick up a welcome packet\, explore our children’s area\, and enjoy a tour of the library!\n\nThe fall session of Preschool Storytime runs from September 16 – December 6. Speak with a staff member for more information.\n\nThemes:September 17 – BearsSeptember 24 – Hats (wear your favorite hat)October 1 – FirefightersOctober 8 – Sick & Get Well SoonOctober 15 – HairOctober 22 – TrainsOctober 29 – HalloweenNovember 5 – I Wouldn’t Do ThatNovember 12 – NinjasNovember 19 – ThanksgivingNovember 26 – NO STORYTIME – ThanksgivingDecember 3 – Christmas
URL:https://navarrebeach.com/event/preschool-storytime-ages-3-5/
LOCATION:The Navarre Library\, 8484 James M. Harvell Rd\, Navarre\, FL\, 32566\, United States
ATTACH;FMTTYPE=image/jpeg:https://navarrebeach.com/wp-content/uploads/2024/09/455842835_901548755332327_1131266458578113078_n.jpg
END:VEVENT
BEGIN:VEVENT
DTSTART;TZID=UTC:20240902T180000
DTEND;TZID=UTC:20240902T180000
DTSTAMP:20260423T110102
CREATED:20240904T200700Z
LAST-MODIFIED:20240904T200700Z
UID:10375-1725300000-1725300000@navarrebeach.com
SUMMARY:BINGO at The Grey Taproom
DESCRIPTION:Join the Grey Taproom every Monday at 6 pm for a night of Bingo! Test your luck\, win awesome prizes\, and enjoy a great time with friends. Don’t miss out on the fun – see you there!
URL:https://navarrebeach.com/event/bingo-at-the-grey-taproom/
LOCATION:The Grey Taproom\, 7622 Navarre Pkwy\, Navarre\, FL\, 32566\, United States
ATTACH;FMTTYPE=image/png:https://navarrebeach.com/wp-content/uploads/2024/08/Untitled-2-e1723668569766.png
END:VEVENT
BEGIN:VEVENT
DTSTART;TZID=UTC:20240826T170000
DTEND;TZID=UTC:20240826T200000
DTSTAMP:20260423T110102
CREATED:20240826T210143Z
LAST-MODIFIED:20240826T210143Z
UID:10138-1724691600-1724702400@navarrebeach.com
SUMMARY:Monday Night Karaoke w/DJ Jessie Howell
DESCRIPTION:Join your community on the deck (or inside if the weather isn’t great) at Andy D’s on Navarre Beach for Monday Night Karaoke with DJ Jessie Howell.
URL:https://navarrebeach.com/event/monday-night-karaoke-w-dj-jessie-howell/
LOCATION:Andy D’s Beachside Restaurant & Deck Bar\, 8649 Gulf Blvd\, Navarre\, 32566
ATTACH;FMTTYPE=image/jpeg:https://navarrebeach.com/wp-content/uploads/2024/08/436273455_397163349981339_6041495783382981373_n.jpg
END:VEVENT
BEGIN:VEVENT
DTSTART;TZID=UTC:20241006T160000
DTEND;TZID=UTC:20241006T190000
DTSTAMP:20260423T110102
CREATED:20241002T190422Z
LAST-MODIFIED:20241002T190422Z
UID:11175-1728230400-1728241200@navarrebeach.com
SUMMARY:Live Music at Where Y'at Seafood
DESCRIPTION:Get ready for an unforgettable afternoon with Jeff Ivanoff on October 6th! Join Where Y’at for an afternoon filled with incredible seafood and great music. Don’t miss out on the chance to experience his talent live! See you there!
URL:https://navarrebeach.com/event/live-music-at-where-yat-seafood-4/
LOCATION:Where Y’at Seafood Market & Restaurant\, 4233A FL-87\, Navarre\, FL\, 32566\, United States
ATTACH;FMTTYPE=image/jpeg:https://navarrebeach.com/wp-content/uploads/2024/10/457712744_1024740332984849_9171118391994276039_n.jpg
END:VEVENT
BEGIN:VEVENT
DTSTART;TZID=UTC:20241006T150000
DTEND;TZID=UTC:20241006T190000
DTSTAMP:20260423T110102
CREATED:20241002T192936Z
LAST-MODIFIED:20241002T192936Z
UID:11204-1728226800-1728241200@navarrebeach.com
SUMMARY:Live Music at Juana's
DESCRIPTION:If you enjoy live music\, food\, and a beachfront view\, head to Juana’s for a fun night! Stevie Hall will perform for audiences who want to enjoy all the Pagodas have to offer!
URL:https://navarrebeach.com/event/live-music-at-juanas-37/
LOCATION:Juanas Pagodas\, 1451 Navarre Beach Causeway\, Navarre\, FL\, 32566\, United States
ATTACH;FMTTYPE=image/png:https://navarrebeach.com/wp-content/uploads/2024/08/juanas-pagodas-exterior-beach.png
END:VEVENT
BEGIN:VEVENT
DTSTART;TZID=UTC:20241006T150000
DTEND;TZID=UTC:20241006T163000
DTSTAMP:20260423T110102
CREATED:20240924T202610Z
LAST-MODIFIED:20240924T202610Z
UID:11102-1728226800-1728232200@navarrebeach.com
SUMMARY:Blessing of the Animals
DESCRIPTION:Join St. Paul’s for the Blessing of the Animals! Bring your pets to the church parking lot anytime between 3:00 and 4:30 PM\, and Pastor Teresa will bless your beloved animals. Come at your convenience\, and we look forward to celebrating our furry\, feathered\, and scaly friends together!
URL:https://navarrebeach.com/event/blessing-of-the-animals/
LOCATION:St. Paul United Methodist Church\, 4901 Gulf Breeze Pkwy\, Gulf Breeze\, FL\, 32563-9286\, United States
ATTACH;FMTTYPE=image/jpeg:https://navarrebeach.com/wp-content/uploads/2024/09/460145553_927076189463630_6372651899341660459_n.jpg
END:VEVENT
BEGIN:VEVENT
DTSTART;TZID=UTC:20240908T100000
DTEND;TZID=UTC:20240908T150000
DTSTAMP:20260423T110102
CREATED:20240904T211817Z
LAST-MODIFIED:20240904T211817Z
UID:10420-1725789600-1725807600@navarrebeach.com
SUMMARY:Beachfront Weekend Brunch
DESCRIPTION:Join Beach House Social every Saturday and Sunday from 10 AM to 3 PM for the ultimate beachfront brunch experience at Beach House Social! Indulge in $15 bottomless mimosas as you savor their mouthwatering menu of brunch favorites\, including our famous Cinnamon Roll Skillet\, decadent Turtle French Toast\, savory Pulled Pork Honey Biscuit\, classic Shrimp & Grits\, and so much more.\n\nWhether you’re catching up with friends\, enjoying a family outing\, or simply soaking up the ocean views\, their Weekend Brunch is the perfect way to start your day. Don’t miss out on this delicious beachfront tradition!
URL:https://navarrebeach.com/event/beachfront-weekend-brunch-2/
LOCATION:Beach House Social\, 8375 Gulf Blvd\, Navarre Beach\, FL\, 32566\, United States
ATTACH;FMTTYPE=image/jpeg:https://navarrebeach.com/wp-content/uploads/2024/09/457223765_1036346411826814_8167559716006578700_n.jpg
END:VEVENT
BEGIN:VEVENT
DTSTART;TZID=UTC:20241005T180000
DTEND;TZID=UTC:20241005T210000
DTSTAMP:20260423T110102
CREATED:20241002T170833Z
LAST-MODIFIED:20241002T170833Z
UID:11151-1728151200-1728162000@navarrebeach.com
SUMMARY:Painting with a Spin
DESCRIPTION:Call to reserve your seat. 850-490-1208
URL:https://navarrebeach.com/event/painting-with-a-spin/
LOCATION:Iron Lady Fitness\, 8177 East Bay Blvd\, Navarre\, FL\, 32566\, United States
ATTACH;FMTTYPE=image/jpeg:https://navarrebeach.com/wp-content/uploads/2024/10/459427797_1043502287781823_4845081183504475459_n.jpg
END:VEVENT
BEGIN:VEVENT
DTSTART;TZID=UTC:20241005T163000
DTEND;TZID=UTC:20241005T163000
DTSTAMP:20260423T110102
CREATED:20241002T185559Z
LAST-MODIFIED:20241002T185559Z
UID:11163-1728145800-1728145800@navarrebeach.com
SUMMARY:Oktoberfest at The Grey Taproom
DESCRIPTION:The Taproom is bringing the spirit of Germany to Pensacola with authentic food\, fun games\, and festive discounts all day long!\n– Simply Brats will be serving up delicious\, authentic German food from 4:30-8 PM! – Enjoy Oktoberfest-themed games\, like stein holding\, barrel racing\, stein racing\, and even a chicken dance competition! – Discounts all day long for anyone wearing lederhosen or dirndls!– Prizes for the best dressed and game winners – the best-dressed winner will be announced at 8 PM! – Family Friendly: Kids are welcome to join the festivities until 8 PM!\n\nIt’s the perfect time to enjoy great food\, fun games\, and some friendly competition! Don’t forget to dress the part for a chance to win prizes and get some sweet Oktoberfest discounts!\n\nWe can’t wait to see you at The Grey Taproom for a day of festive fun! Prost!
URL:https://navarrebeach.com/event/oktoberfest-at-the-grey-taproom/
LOCATION:The Grey Taproom\, 7622 Navarre Pkwy\, Navarre\, FL\, 32566\, United States
ATTACH;FMTTYPE=image/jpeg:https://navarrebeach.com/wp-content/uploads/2024/10/461476933_1034494491704355_4700983222786464544_n.jpg
END:VEVENT
BEGIN:VEVENT
DTSTART;TZID=UTC:20241004T160000
DTEND;TZID=UTC:20241005T000000
DTSTAMP:20260423T110102
CREATED:20241002T192805Z
LAST-MODIFIED:20241002T192832Z
UID:11201-1728057600-1728086400@navarrebeach.com
SUMMARY:Live Music at Juana's
DESCRIPTION:If you enjoy live music\, food\, and a beachfront view\, head to Juana’s for a fun night! Stevie Hall and Horseshoe Kitty will perform for audiences who want to enjoy all the Pagodas have to offer!
URL:https://navarrebeach.com/event/live-music-at-juanas-36/
LOCATION:Juanas Pagodas\, 1451 Navarre Beach Causeway\, Navarre\, FL\, 32566\, United States
ATTACH;FMTTYPE=image/png:https://navarrebeach.com/wp-content/uploads/2024/08/juanas-pagodas-exterior-beach.png
END:VEVENT
BEGIN:VEVENT
DTSTART;TZID=UTC:20241005T150000
DTEND;TZID=UTC:20241005T150000
DTSTAMP:20260423T110102
CREATED:20241002T171318Z
LAST-MODIFIED:20241002T171318Z
UID:11157-1728140400-1728140400@navarrebeach.com
SUMMARY:Creativity & Confections - Fall Wood Door Signs Paint Class
DESCRIPTION:Join Sanabria Design Co. at Dawn’s Cookie and Cafe for a fun\, creative experience where you’ll paint your very own 14″ or 18” wooden door sign! Choose from fall-inspired designs or a beach theme\, and let your imagination run wild with acrylic and chalk paints. Whether you’re a beginner or an experienced painter\, this 2-hour class is designed for all skill levels\, providing a peaceful and enjoyable environment. Wear something you don’t mind getting a little paint on!\n\nCustomize your sign with any colors you like\, or pre-order a custom design (orders close 48 hours before the class). Plus\, enjoy a special treat from Dawn’s Cookie and Cafe while you create. At the end of the class\, take home your bold\, beautiful creation to add a unique touch to your home decor.\n\nSign up today and let your creativity shine with Creativity & Confections!
URL:https://navarrebeach.com/event/creativity-confections-fall-wood-door-signs-paint-class/
LOCATION:Dawn’s Cookies & Cafe\, 8215 Navarre Pkwy\, Navarre\, FL\, 32566\, United States
ATTACH;FMTTYPE=image/jpeg:https://navarrebeach.com/wp-content/uploads/2024/10/461199145_1042651187869291_7962055597535611553_n.jpg
END:VEVENT
BEGIN:VEVENT
DTSTART;TZID=UTC:20240907T140000
DTEND;TZID=UTC:20240907T160000
DTSTAMP:20260423T110102
CREATED:20240820T211541Z
LAST-MODIFIED:20240820T211541Z
UID:9933-1725717600-1725724800@navarrebeach.com
SUMMARY:Family Fun Day
DESCRIPTION:Visit the Navarre Library on the 1st Saturday of the month for family-friendly games\, puzzles\, and more.
URL:https://navarrebeach.com/event/family-fun-day/
LOCATION:The Navarre Library\, 8484 James M. Harvell Rd\, Navarre\, FL\, 32566\, United States
ATTACH;FMTTYPE=image/jpeg:https://navarrebeach.com/wp-content/uploads/2024/08/412255385_752859796867891_628770149920646974_n-e1724188534727.jpg
END:VEVENT
BEGIN:VEVENT
DTSTART;TZID=UTC:20241005T120000
DTEND;TZID=UTC:20241005T160000
DTSTAMP:20260423T110102
CREATED:20240826T162835Z
LAST-MODIFIED:20240826T162835Z
UID:10114-1728129600-1728144000@navarrebeach.com
SUMMARY:11th Annual Juana's Oktoberfest
DESCRIPTION:Enjoy a festive atmosphere for adults to sample craft beers and food from the Sailor’s Grill\, along with activities for children! A wide selection of craft beers will be featured from national and local breweries along with souvenir glasses. The Navarre Beach Marine Science Station will staff the event\, and proceeds will benefit the station for future projects.
URL:https://navarrebeach.com/event/11th-annual-juanas-oktoberfest/
LOCATION:Juanas Pagodas\, 1451 Navarre Beach Causeway\, Navarre\, FL\, 32566\, United States
ATTACH;FMTTYPE=image/png:https://navarrebeach.com/wp-content/uploads/2024/08/aaa-e1724689709226.png
END:VEVENT
BEGIN:VEVENT
DTSTART;TZID=UTC:20241005T110000
DTEND;TZID=UTC:20241005T110000
DTSTAMP:20260423T110102
CREATED:20240924T201532Z
LAST-MODIFIED:20240924T201532Z
UID:11088-1728126000-1728126000@navarrebeach.com
SUMMARY:Intrepid Care's Cornhole Tournament
DESCRIPTION:Intrepid Care is hosting a cornhole tournament at St Michael’s Registration begins at 11:00 and bag start flying at 12:00. Please contact Ron with any questions at rmann@intrepidcare.org.
URL:https://navarrebeach.com/event/intrepid-cares-cornhole-tournament/
LOCATION:St. Michael’s Brewing Company\, 2199 FL-87\, Navarre\, FL\, 32566\, United States
ATTACH;FMTTYPE=image/jpeg:https://navarrebeach.com/wp-content/uploads/2024/09/459235909_1048224317174773_7368614854110058839_n-1.jpg
END:VEVENT
BEGIN:VEVENT
DTSTART;TZID=UTC:20240907T100000
DTEND;TZID=UTC:20240907T150000
DTSTAMP:20260423T110102
CREATED:20240904T211722Z
LAST-MODIFIED:20240904T211722Z
UID:10416-1725703200-1725721200@navarrebeach.com
SUMMARY:Beachfront Weekend Brunch
DESCRIPTION:Join Beach House Social every Saturday and Sunday from 10 AM to 3 PM for the ultimate beachfront brunch experience at Beach House Social! Indulge in $15 bottomless mimosas as you savor their mouthwatering menu of brunch favorites\, including our famous Cinnamon Roll Skillet\, decadent Turtle French Toast\, savory Pulled Pork Honey Biscuit\, classic Shrimp & Grits\, and so much more.\n\nWhether you’re catching up with friends\, enjoying a family outing\, or simply soaking up the ocean views\, their Weekend Brunch is the perfect way to start your day. Don’t miss out on this delicious beachfront tradition!
URL:https://navarrebeach.com/event/beachfront-weekend-brunch/
LOCATION:Beach House Social\, 8375 Gulf Blvd\, Navarre Beach\, FL\, 32566\, United States
ATTACH;FMTTYPE=image/jpeg:https://navarrebeach.com/wp-content/uploads/2024/09/457223765_1036346411826814_8167559716006578700_n.jpg
END:VEVENT
BEGIN:VEVENT
DTSTART;TZID=UTC:20241005T100000
DTEND;TZID=UTC:20241005T140000
DTSTAMP:20260423T110102
CREATED:20240920T170256Z
LAST-MODIFIED:20240920T170321Z
UID:11019-1728122400-1728136800@navarrebeach.com
SUMMARY:Community Appreciation Day
DESCRIPTION:Free Ropes Course and Waterpark access: As a thank you for your support in 2024\, enjoy complimentary access to our thrilling ropes course and waterpark!\nBoat and Personal Watercraft Education: Learn from our experienced team. Our exceptional eater team has passed rigorous tests and fully understands the operational characteristics for our pontoons\, jet skis\, and the rules of the waterways.\nFood\, Prizes\, Games\, Music\, and more: We’ve got a day packed with delicious food\, fun games\, and activities for the whole family.\nBest Facebook Photo Share Contest: Share your favorite photo from the day\, showcasing your family enjoying our amenities. Tag Navarre Family Watersports\, and your name will be entered into a drawing for a chance to win a half-day pontoon rental or a two-hour jet ski rental\, on us!\nRent a pontoon or Jet ski from us in 2024? Show us your rental receipt and fill out a raffle entry form to enter a chance to win free prizes and gifts. Prizes can include full-day pontoon rental\, half-day pontoon rental\, one hour jet ski rental\, life jackets\, beach towels\, water bottles\, and more.\n\nThis is Navarre Family Watersports and Asteri Arts way of saying thank you for your support. Come spend four hours with us (10 am – 2 pm) enjoying food\, games\, and endless fun. They can’t wait to see you there!
URL:https://navarrebeach.com/event/community-appreciation-day/
LOCATION:Navarre Family Watersports\, 8671 Navarre Pkwy\, Navarre\, FL\, 32566\, United States
ATTACH;FMTTYPE=image/jpeg:https://navarrebeach.com/wp-content/uploads/2024/09/460718840_849267580649767_2520895162734216894_n.jpg
END:VEVENT
BEGIN:VEVENT
DTSTART;TZID=UTC:20240907T090000
DTEND;TZID=UTC:20240907T140000
DTSTAMP:20260423T110102
CREATED:20240904T190819Z
LAST-MODIFIED:20240904T192651Z
UID:10309-1725699600-1725717600@navarrebeach.com
SUMMARY:Hwy 87 Market at Sand Dollar Plaza
DESCRIPTION:Highway 87 Market is an outdoor market\, held the 1st and 3rd Saturday of each month\, across multiple venues on Highway 87 in Navarre. In Sand Dollar Plaza market vendors will set up at the back of the plaza. In addition\, the merchants of Sand Dollar Plaza will be featuring various products and specials\, as they do each week for Sand Dollar Saturday.
URL:https://navarrebeach.com/event/hwy-87-market-at-sand-dollar-plaza/
LOCATION:Sand Dollar Plaza\, 1900 Highway 87\, Navarre\, FL\, 32566\, United States
ATTACH;FMTTYPE=image/jpeg:https://navarrebeach.com/wp-content/uploads/2024/09/245809550_4737455279618335_3685230664561647587_n-e1725476895222.jpg
ORGANIZER;CN="Hwy 87 Market & Sand Dollar Saturday":MAILTO:SandDollarSaturday@gmail.com
END:VEVENT
BEGIN:VEVENT
DTSTART;TZID=UTC:20241005T090000
DTEND;TZID=UTC:20241005T123000
DTSTAMP:20260423T110102
CREATED:20241002T191014Z
LAST-MODIFIED:20241002T191014Z
UID:11184-1728118800-1728131400@navarrebeach.com
SUMMARY:Pinewood Derby
DESCRIPTION:Join Navarre First Assembly for a fun-filled day of racing at the Pinewood Derby! We’ll have a variety of cars racing\, including asphalt and pro late model cars. Come cheer on your favorite racer and enjoy a day of excitement and fellowship.
URL:https://navarrebeach.com/event/pinewood-derby/
LOCATION:Navarre First Assembly of God\, 9594 Navarre Parkway\, Navarre\, FL\, 32566\, United States
ATTACH;FMTTYPE=image/jpeg:https://navarrebeach.com/wp-content/uploads/2024/10/images.wsj_.jpg
END:VEVENT
BEGIN:VEVENT
DTSTART;TZID=UTC:20241005T080000
DTEND;TZID=UTC:20241005T150000
DTSTAMP:20260423T110102
CREATED:20240912T214100Z
LAST-MODIFIED:20240912T214100Z
UID:10866-1728115200-1728140400@navarrebeach.com
SUMMARY:4th Annual Be the One Event
DESCRIPTION:Join  the American Legion post 382 for a meaningful day of camaraderie and commitment with a 5K race and a 22-mile motorcycle ride for the 4th Annual Be The One event formerly known as the Challenge 22 event. This event raises awareness about veteran suicide\, supporting homeless veterans and suicide prevention efforts. \nThe day kicks off with 5K registration at 7am\, followed by the race at 9am. Enjoy vendors\, live music\, and kids’ activities starting at 10am\, with closing remarks at 5pm. \nTickets are $22 for military units\, $22 for the walk or ride\, and $35 for the walk or ride with an event shirt. Kids under 10 are free. Purchase tickets via the QR code or link on the flyer.
URL:https://navarrebeach.com/event/4th-annual-be-the-one-event/
LOCATION:American Legion Post 382\, 1850 Luneta St\, Navarre\, FL\, 32566\, United States
ATTACH;FMTTYPE=image/jpeg:https://navarrebeach.com/wp-content/uploads/2024/09/legion-e1726177248490.jpg
END:VEVENT
END:VCALENDAR