
BEGIN:VCALENDAR
VERSION:2.0
PRODID:-//Navarrebeach.com - ECPv6.15.20//NONSGML v1.0//EN
CALSCALE:GREGORIAN
METHOD:PUBLISH
X-ORIGINAL-URL:https://navarrebeach.com
X-WR-CALDESC:Events for Navarrebeach.com
REFRESH-INTERVAL;VALUE=DURATION:PT1H
X-Robots-Tag:noindex
X-PUBLISHED-TTL:PT1H
BEGIN:VTIMEZONE
TZID:UTC
BEGIN:STANDARD
TZOFFSETFROM:+0000
TZOFFSETTO:+0000
TZNAME:UTC
DTSTART:20230101T000000
END:STANDARD
END:VTIMEZONE
BEGIN:VEVENT
DTSTART;TZID=UTC:20240911T163000
DTEND;TZID=UTC:20240911T190000
DTSTAMP:20260423T061949
CREATED:20240909T200032Z
LAST-MODIFIED:20240909T205319Z
UID:10664-1726072200-1726081200@navarrebeach.com
SUMMARY:Raider Dog Wednesday
DESCRIPTION:Raider Dog Wednesday (RDW). RDW IS BACK!! For new parents this is a weekly event Wednesday evenings after practice. The Navarre Raiders Quarterback Club grills hotdogs for the players and encourages parents to stop by and visit. Good opportunity for fellowship with the other Raider families. If you would like to help grill/wrap hot dogs showtime is 4:30 on the side of the field house.
URL:https://navarrebeach.com/event/raider-dog-wednesday/
LOCATION:Navarre High School\, 8600 High School Blvd\, Navarre\, FL\, 32566\, United States
ATTACH;FMTTYPE=image/jpeg:https://navarrebeach.com/wp-content/uploads/2024/09/459108041_827510432831369_575362062917702168_n-e1725912025822.jpg
END:VEVENT
BEGIN:VEVENT
DTSTART;TZID=UTC:20240911T163000
DTEND;TZID=UTC:20240911T200000
DTSTAMP:20260423T061949
CREATED:20240904T214912Z
LAST-MODIFIED:20240909T205353Z
UID:10459-1726072200-1726084800@navarrebeach.com
SUMMARY:Birdies and Beers
DESCRIPTION:Birdies and Beers is a mid-week event where golfers of all skill levels can come out and enjoy nine holes. Golf with your friends and meet some new ones. The format will change weekly
URL:https://navarrebeach.com/event/birdies-and-beers/
LOCATION:The Club at Hidden Creek\, 3070 P.G.A Blvd\, Navarre\, FL\, 32566\, United States
ATTACH;FMTTYPE=image/jpeg:https://navarrebeach.com/wp-content/uploads/2024/09/431867713_953355399950642_4138577073195405936_n.jpg
END:VEVENT
BEGIN:VEVENT
DTSTART;TZID=UTC:20240821T170000
DTEND;TZID=UTC:20240821T200000
DTSTAMP:20260423T061949
CREATED:20240820T215559Z
LAST-MODIFIED:20240909T205439Z
UID:9980-1724259600-1724270400@navarrebeach.com
SUMMARY:Kyle Kaeser Live at Andy D's
DESCRIPTION:Join Andy D’s for the sweet vocals and guitar playing by our own Kyler Kaeser. Kyler plays guitar and is a great storyteller with his vocals\, playing a wide range of hits in the singer/songwriter mold
URL:https://navarrebeach.com/event/kyle-kaeser-live-at-andy-ds/
LOCATION:Andy D’s Beachside Restaurant & Deck Bar\, 8649 Gulf Blvd\, Navarre\, 32566
ATTACH;FMTTYPE=image/jpeg:https://navarrebeach.com/wp-content/uploads/2024/08/425722232_332617709769237_4242796176624669648_n-e1724190908299.jpg
END:VEVENT
BEGIN:VEVENT
DTSTART;TZID=UTC:20240904T180000
DTEND;TZID=UTC:20240904T180000
DTSTAMP:20260423T061949
CREATED:20240904T212241Z
LAST-MODIFIED:20240909T205523Z
UID:10424-1725472800-1725472800@navarrebeach.com
SUMMARY:Wine Down Wednesday Bingo Night
DESCRIPTION:Bingo tonight starting at 6pm. Come home some wine and let off some steam on “Wine Down Wednesday.”
URL:https://navarrebeach.com/event/wine-down-wednesday-bingo-night-2/
LOCATION:The Vine Wine Bar\, Bistro & Shoppe\, 8211 Navarre Pkwy\, Navarre\, FL\, 32566\, United States
ATTACH;FMTTYPE=image/png:https://navarrebeach.com/wp-content/uploads/2024/08/Untitled-1-1-e1724182561709.png
END:VEVENT
BEGIN:VEVENT
DTSTART;TZID=UTC:20240828T183000
DTEND;TZID=UTC:20240828T213000
DTSTAMP:20260423T061949
CREATED:20240823T185725Z
LAST-MODIFIED:20240909T205604Z
UID:10079-1724869800-1724880600@navarrebeach.com
SUMMARY:Bingo Wednesdays
DESCRIPTION:Bring your friends and family for a night of fun\, excitement\, and the chance to win fantastic prizes! Don’t miss out on the first ball being called at 6:30 PM. See you there for a BINGO-tastic evening!
URL:https://navarrebeach.com/event/bingo-wednesdays/
LOCATION:American Legion Post 378\, 2712 Gulf Breeze Pkwy\, Gulf Breeze\, FL\, 32563\, United States
ATTACH;FMTTYPE=image/jpeg:https://navarrebeach.com/wp-content/uploads/2024/08/417235085_223453337483429_3747944833423600202_n.jpg
END:VEVENT
BEGIN:VEVENT
DTSTART;TZID=UTC:20240911T190000
DTEND;TZID=UTC:20240911T230000
DTSTAMP:20260423T061949
CREATED:20240904T193813Z
LAST-MODIFIED:20240909T205653Z
UID:10339-1726081200-1726095600@navarrebeach.com
SUMMARY:Live Music at Juana's
DESCRIPTION:If you enjoy live music\, food\, and a beachfront view\, head to Juana’s for a fun night! Happy Jim will perform for audiences who enjoy all the Pagodas have to offer!
URL:https://navarrebeach.com/event/live-music-at-juanas-20/
LOCATION:Juanas Pagodas\, 1451 Navarre Beach Causeway\, Navarre\, FL\, 32566\, United States
ATTACH;FMTTYPE=image/png:https://navarrebeach.com/wp-content/uploads/2024/08/juanas-pagodas-exterior-beach.png
END:VEVENT
BEGIN:VEVENT
DTSTART;TZID=UTC:20240912T100000
DTEND;TZID=UTC:20240912T103000
DTSTAMP:20260423T061949
CREATED:20240906T195236Z
LAST-MODIFIED:20240906T195236Z
UID:10573-1726135200-1726137000@navarrebeach.com
SUMMARY:Ribbon Cutting for Navarre Bakery & Creamery's 3rd Anniversary
DESCRIPTION:Join the Navarre CHamber on Thursday\, September 12th at 10am for a Ribbon Cutting as we celebrate the 3rd Anniversary of Navarre Bakery.\n\nThey hope you share thier excitement of Navarre Bakery & Creamery being part of the Navarre Community\, and you will make plans to join the Chamber Navigators\, Chamber President/CEO Chanda Ryan and their fellow Chamber Members as they help cut the ribbon of celebration and success for this business in our community.\n\nThis event is free and open to all to attend!\n\nThis unique networking opportunity allows members of the Chamber to connect with members\, residents & visitors while celebrating the success and growth of our business community.
URL:https://navarrebeach.com/event/ribbon-cutting-for-navarre-bakery-creamerys-3rd-anniversary/
LOCATION:Navarre Bakery & Creamery\, 9914 Navarre parkway\, Navarre\, FL\, 32566\, United States
ATTACH;FMTTYPE=image/jpeg:https://navarrebeach.com/wp-content/uploads/2024/09/456711029_909801654508286_4728407755505268758_n.jpg
ORGANIZER;CN="Navarre Chamber":MAILTO:chanda.ryan@navarrechamber.com
END:VEVENT
BEGIN:VEVENT
DTSTART;TZID=UTC:20240912T120000
DTEND;TZID=UTC:20240912T120000
DTSTAMP:20260423T061949
CREATED:20240904T213244Z
LAST-MODIFIED:20240904T213244Z
UID:10433-1726142400-1726142400@navarrebeach.com
SUMMARY:St. Michael's Brewing 4th Anniversary Bash
DESCRIPTION:Help St. Michael’s celebrate its fourth year of business. Get ready to drink some awesome beer\, eat awesome food\, and listen to some groovy music in the beer garden.\n\nLimited sales of commemorative 20 oz 4th Anniversary beer mug that includes a year’s worth of mug club membership. Get a free first 20 oz pour of our Fest Bier and then a 20 oz pour of selected SMBC beers for the price of a 16 oz pour during the Anniversary Bash!
URL:https://navarrebeach.com/event/st-michaels-brewing-4th-anniversary-bash/
LOCATION:St. Michael’s Brewing Company\, 2199 FL-87\, Navarre\, FL\, 32566\, United States
ATTACH;FMTTYPE=image/jpeg:https://navarrebeach.com/wp-content/uploads/2024/09/435403127_940176554646217_3010879431475084041_n.jpg
END:VEVENT
BEGIN:VEVENT
DTSTART;TZID=UTC:20240912T173000
DTEND;TZID=UTC:20240912T193000
DTSTAMP:20260423T061949
CREATED:20240822T200801Z
LAST-MODIFIED:20240822T200801Z
UID:10066-1726162200-1726169400@navarrebeach.com
SUMMARY:Navarre Premium ABC Wine Tasting Event
DESCRIPTION:Calling all wine lovers and cocktail crafters! ABC Fine Wine & Spirits Premium Wine Tasting Events offer pours for every palate. For only $10\, you can sample and savor a diverse selection of high-quality wines\, spirits\, beers and more. Once you find your new favorite\, take it home with you for 10% off the night of the event.
URL:https://navarrebeach.com/event/navarre-premium-abc-wine-tasting-event/
LOCATION:ABC Fine Wine Spirits\, 8315 Mikajack Ave\, Navarre\, FL\, 32566\, United States
ATTACH;FMTTYPE=image/jpeg:https://navarrebeach.com/wp-content/uploads/2024/08/454210020_894149946084009_4918795542788391934_n.jpg
END:VEVENT
BEGIN:VEVENT
DTSTART;TZID=UTC:20240905T180000
DTEND;TZID=UTC:20240905T180000
DTSTAMP:20260423T061949
CREATED:20240904T200828Z
LAST-MODIFIED:20240904T200828Z
UID:10378-1725559200-1725559200@navarrebeach.com
SUMMARY:TRIVIA at The Grey Taproom
DESCRIPTION:Get ready for a brain-teasing good time! Join The Taproom every Thursday at 6 pm for Trivia Night! Gather your team\, show off your knowledge\, and compete for fantastic prizes. It’s the ultimate test of wits and loads of fun – see you there!
URL:https://navarrebeach.com/event/trivia-at-the-grey-taproom-2/
LOCATION:The Grey Taproom\, 7622 Navarre Pkwy\, Navarre\, FL\, 32566\, United States
ATTACH;FMTTYPE=image/png:https://navarrebeach.com/wp-content/uploads/2024/08/Untitled-2-e1723668569766.png
END:VEVENT
BEGIN:VEVENT
DTSTART;TZID=UTC:20240912T190000
DTEND;TZID=UTC:20240912T230000
DTSTAMP:20260423T061949
CREATED:20240904T193907Z
LAST-MODIFIED:20240904T193907Z
UID:10341-1726167600-1726182000@navarrebeach.com
SUMMARY:Live Music at Juana's
DESCRIPTION:If you enjoy live music\, food\, and a beachfront view\, head to Juana’s for a fun night! Shane Curle will perform for audiences who enjoy all the Pagodas have to offer!
URL:https://navarrebeach.com/event/live-music-at-juanas-21/
LOCATION:Juanas Pagodas\, 1451 Navarre Beach Causeway\, Navarre\, FL\, 32566\, United States
ATTACH;FMTTYPE=image/png:https://navarrebeach.com/wp-content/uploads/2024/08/juanas-pagodas-exterior-beach.png
END:VEVENT
BEGIN:VEVENT
DTSTART;TZID=UTC:20240823T070000
DTEND;TZID=UTC:20240823T230000
DTSTAMP:20260423T061949
CREATED:20240823T201138Z
LAST-MODIFIED:20240823T201138Z
UID:10093-1724396400-1724454000@navarrebeach.com
SUMMARY:Karaoke with DJ Hi-Def
DESCRIPTION:Fun-filled karaoke in the expanded bar at Windjammers on the Pier!
URL:https://navarrebeach.com/event/karaoke-with-dj-hi-def/
LOCATION:Windjammers on the Pier\, 8579 Gulf Blvd\, Navarre\, FL\, 32566\, United States
ATTACH;FMTTYPE=image/png:https://navarrebeach.com/wp-content/uploads/2024/08/shutterstock_2045516012-Converted-01-e1724443884205.png
END:VEVENT
BEGIN:VEVENT
DTSTART;TZID=UTC:20240913T083000
DTEND;TZID=UTC:20240913T100000
DTSTAMP:20260423T061949
CREATED:20240905T205910Z
LAST-MODIFIED:20240905T205949Z
UID:10494-1726216200-1726221600@navarrebeach.com
SUMMARY:Honorary Animal Care Team Experience
DESCRIPTION:Join NBSTCC’s Crew and become a Honorary Animal Care team member! Work alongside NBSTCC Animal Care Team in a 90-minute long program learning about our rescued residents as you see behind the scenes on how they are cared for while learning of the challenges these animals face in the wild. The program begins with a private tour of the conservation center and introduction to NBSTCC’s resident green sea turtle\, Sweet Pea. Program is led by our NBSTCC’s Lead Animal Care Team Manager & Marine Biologist. \nBy becoming one of NBSTCC’s Honorary Animal Care team members\, you not only get a day to remember\, but you will also be contributing to our conservation work both here and around the world\, helping to save animals from extinction.
URL:https://navarrebeach.com/event/honorary-animal-care-team-experience/
LOCATION:Navarre Beach Sea Turtle Conservation Center\, 8740 Gulf Blvd\, Navarre\, FL\, 32566\, United States
ATTACH;FMTTYPE=image/jpeg:https://navarrebeach.com/wp-content/uploads/2024/09/458302634_912590660900665_6333258426866438880_n-e1725569928934.jpg
END:VEVENT
BEGIN:VEVENT
DTSTART;TZID=UTC:20240913T100000
DTEND;TZID=UTC:20240914T190000
DTSTAMP:20260423T061949
CREATED:20240815T205958Z
LAST-MODIFIED:20240815T205958Z
UID:9846-1726221600-1726340400@navarrebeach.com
SUMMARY:Friday the 13th Tattoo Flash Special
DESCRIPTION:Friday September 13th &14th we’ll be having our Tattoo flash special . Tattoos starting at $31 dollars plus tip . Tattoos will rang from $31 and up. We’ll have over 250 flash to choose from . Flash will be available to look at starting the week of 8/15.
URL:https://navarrebeach.com/event/friday-the-13th-tattoo-flash-special/
LOCATION:Oceanwave Tattoo\, 8936 Navarre Pkwy\, Navarre\, FL\, 32566\, United States
ATTACH;FMTTYPE=image/jpeg:https://navarrebeach.com/wp-content/uploads/2024/08/454267093_515657230835448_909665616931297461_n-e1723755591612.jpg
END:VEVENT
BEGIN:VEVENT
DTSTART;TZID=UTC:20240913T110000
DTEND;TZID=UTC:20240913T110000
DTSTAMP:20260423T061949
CREATED:20240909T165909Z
LAST-MODIFIED:20240909T165909Z
UID:10609-1726225200-1726225200@navarrebeach.com
SUMMARY:Friday the 13th Tattoos
DESCRIPTION:You know the drill! Friday the 13th flash event! Doors open at 11 a.m. First come\, first serve! Flash ranging from $40-$130. Arms and legs only. Cash only. See you there !!!
URL:https://navarrebeach.com/event/friday-the-13th-tattoos/
LOCATION:Eleven 11 Tattoo Studio\, 1821 Alpine Ave\, Navarre\, FL\, 32566\, United States
ATTACH;FMTTYPE=image/jpeg:https://navarrebeach.com/wp-content/uploads/2024/09/459030356_1016831017116798_8811249955137596020_n-e1725901143834.jpg
END:VEVENT
BEGIN:VEVENT
DTSTART;TZID=UTC:20240913T120000
DTEND;TZID=UTC:20240915T200000
DTSTAMP:20260423T061949
CREATED:20240906T171224Z
LAST-MODIFIED:20240906T171224Z
UID:10516-1726228800-1726430400@navarrebeach.com
SUMMARY:Friday the 13th - part 1
DESCRIPTION:Did you know there will be 2 Friday the 13ths before the year finishes?!?Part 1 is happening in September!\n\nPlease bring valid IDAppointments WILL BE AVAILABLE! A $50 deposit is required to reserve an appointment.Walk-ins will be first-come-first-serve.Flash will be available Friday\, Saturday\, and Sunday\n\n*Minors need a notarized consent that is from the FL Heath Department website.
URL:https://navarrebeach.com/event/friday-the-13th-part-1/
LOCATION:Sticks and Stones Tattoo Company\, 8305 Navarre Parkway\, Navarre\, FL\, 32566\, United States
ATTACH;FMTTYPE=image/jpeg:https://navarrebeach.com/wp-content/uploads/2024/09/458374771_394317163698977_3575146591165824512_n-e1725642738748.jpg
END:VEVENT
BEGIN:VEVENT
DTSTART;TZID=UTC:20240913T160000
DTEND;TZID=UTC:20240914T000000
DTSTAMP:20260423T061949
CREATED:20240904T194104Z
LAST-MODIFIED:20240904T194104Z
UID:10343-1726243200-1726272000@navarrebeach.com
SUMMARY:Live Music at Juana's
DESCRIPTION:If you enjoy live music\, food\, and a beachfront view\, head to Juana’s for a fun night! Coconut radio and Six Piece Suits will be performing for audiences enjoying all the Pagodas have to offer!
URL:https://navarrebeach.com/event/live-music-at-juanas-22/
LOCATION:Juanas Pagodas\, 1451 Navarre Beach Causeway\, Navarre\, FL\, 32566\, United States
ATTACH;FMTTYPE=image/png:https://navarrebeach.com/wp-content/uploads/2024/08/juanas-pagodas-exterior-beach.png
END:VEVENT
BEGIN:VEVENT
DTSTART;TZID=UTC:20240913T163000
DTEND;TZID=UTC:20240913T203000
DTSTAMP:20260423T061949
CREATED:20240904T201805Z
LAST-MODIFIED:20240904T201805Z
UID:10382-1726245000-1726259400@navarrebeach.com
SUMMARY:TigerFest 2024
DESCRIPTION:The Tiger Point Sports Association is excited to host the FALL TigerFest and Sports Kickoff event on September 13th from 4:30-8:30pm.\n\nThere will be food trucks\, vendors\, raffle\, bounce houses\, the always popular DUNK TANK\, face painting and so much MORE!
URL:https://navarrebeach.com/event/tigerfest-2024/
LOCATION:Tiger Point Community Center\, 1370 Tiger Park Ln\, Gulf Breeze\, FL\, 32563\, United States
ATTACH;FMTTYPE=image/jpeg:https://navarrebeach.com/wp-content/uploads/2024/09/449463052_845204994325815_9034586977268452468_n-e1725481079568.jpg
END:VEVENT
BEGIN:VEVENT
DTSTART;TZID=UTC:20240913T173000
DTEND;TZID=UTC:20240913T213000
DTSTAMP:20260423T061949
CREATED:20240904T215527Z
LAST-MODIFIED:20240904T215527Z
UID:10464-1726248600-1726263000@navarrebeach.com
SUMMARY:Duhe and Daboys Live
DESCRIPTION:Duhe & Daboys are a 5-piece group that brings a mix of rock and jazz and lots of fun.
URL:https://navarrebeach.com/event/duhe-and-daboys-live/
LOCATION:Andy D’s Beachside Restaurant & Deck Bar\, 8649 Gulf Blvd\, Navarre\, 32566
ATTACH;FMTTYPE=image/jpeg:https://navarrebeach.com/wp-content/uploads/2024/09/451830961_434005982963742_6490923211089149244_n-e1725486922770.jpg
END:VEVENT
BEGIN:VEVENT
DTSTART;TZID=UTC:20240914T040000
DTEND;TZID=UTC:20240914T190000
DTSTAMP:20260423T061949
CREATED:20240906T192849Z
LAST-MODIFIED:20240906T192849Z
UID:10549-1726286400-1726340400@navarrebeach.com
SUMMARY:Botox Party
DESCRIPTION:Join Iron Lady Fitness for Botox\, Chair massages\, & permanent jewelry! A full ladies day of R&R!
URL:https://navarrebeach.com/event/botox-party/
LOCATION:Iron Lady Fitness\, 8177 East Bay Blvd\, Navarre\, FL\, 32566\, United States
ATTACH;FMTTYPE=image/jpeg:https://navarrebeach.com/wp-content/uploads/2024/09/457475487_1032240202241365_1480660394632769430_n-e1725650916959.jpg
END:VEVENT
BEGIN:VEVENT
DTSTART;TZID=UTC:20240914T083000
DTEND;TZID=UTC:20240914T100000
DTSTAMP:20260423T061949
CREATED:20240905T210128Z
LAST-MODIFIED:20240905T210128Z
UID:10499-1726302600-1726308000@navarrebeach.com
SUMMARY:Painting Tortoise Tracks
DESCRIPTION:The Navarre Beach Sea Turtle Conservation Center presents its newest and sure-to-be most exciting encounter: Painting Tortoise Tracks with Safari the African Spurred Tortoise! This 90-minute long experience takes place behind the scenes where participants in each painting session will be invited into the center for a private guided tour led by one of our Animal Care Team Members. At the end of your tour\, you and Safari will paint a beautiful masterpiece in the most unique and creative way possible by using his favorite snacks to entice him across the canvas and spread three colors of your choosing. This experience is one-of-a-kind\, which makes it an exciting form of enrichment for both Safari and the participants. Check out the video below to see what is in store for you. Register today so you can have your very own original Safari Painting!
URL:https://navarrebeach.com/event/painting-tortoise-tracks/
LOCATION:Navarre Beach Sea Turtle Conservation Center\, 8740 Gulf Blvd\, Navarre\, FL\, 32566\, United States
ATTACH;FMTTYPE=image/jpeg:https://navarrebeach.com/wp-content/uploads/2024/09/458707137_912591294233935_8431337909506767666_n-1-e1725570076190.jpg
END:VEVENT
BEGIN:VEVENT
DTSTART;TZID=UTC:20240914T083000
DTEND;TZID=UTC:20240914T163000
DTSTAMP:20260423T061949
CREATED:20240828T164242Z
LAST-MODIFIED:20240828T164242Z
UID:10266-1726302600-1726331400@navarrebeach.com
SUMMARY:American Legion Fallen Riders Ride
DESCRIPTION:Come out September 14\, 2024 for the Annual Fallen Rider Ride! Registration starts at 8:30am with breakfast burritos\, donuts\, and coffee. There will be raffle baskets\, 50/50\, Cash Bar\, and 2 food stops.
URL:https://navarrebeach.com/event/american-legion-fallen-riders-ride/
LOCATION:American Legion Post 382\, 1850 Luneta St\, Navarre\, FL\, 32566\, United States
ATTACH;FMTTYPE=image/jpeg:https://navarrebeach.com/wp-content/uploads/2024/08/453312601_10228489694880770_1234013817045342274_n-e1724863355272.jpg
END:VEVENT
BEGIN:VEVENT
DTSTART;TZID=UTC:20240907T090000
DTEND;TZID=UTC:20240907T140000
DTSTAMP:20260423T061949
CREATED:20240904T190819Z
LAST-MODIFIED:20240904T192651Z
UID:10309-1725699600-1725717600@navarrebeach.com
SUMMARY:Hwy 87 Market at Sand Dollar Plaza
DESCRIPTION:Highway 87 Market is an outdoor market\, held the 1st and 3rd Saturday of each month\, across multiple venues on Highway 87 in Navarre. In Sand Dollar Plaza market vendors will set up at the back of the plaza. In addition\, the merchants of Sand Dollar Plaza will be featuring various products and specials\, as they do each week for Sand Dollar Saturday.
URL:https://navarrebeach.com/event/hwy-87-market-at-sand-dollar-plaza/
LOCATION:Sand Dollar Plaza\, 1900 Highway 87\, Navarre\, FL\, 32566\, United States
ATTACH;FMTTYPE=image/jpeg:https://navarrebeach.com/wp-content/uploads/2024/09/245809550_4737455279618335_3685230664561647587_n-e1725476895222.jpg
ORGANIZER;CN="Hwy 87 Market & Sand Dollar Saturday":MAILTO:SandDollarSaturday@gmail.com
END:VEVENT
BEGIN:VEVENT
DTSTART;TZID=UTC:20240907T100000
DTEND;TZID=UTC:20240907T150000
DTSTAMP:20260423T061949
CREATED:20240904T211722Z
LAST-MODIFIED:20240904T211722Z
UID:10416-1725703200-1725721200@navarrebeach.com
SUMMARY:Beachfront Weekend Brunch
DESCRIPTION:Join Beach House Social every Saturday and Sunday from 10 AM to 3 PM for the ultimate beachfront brunch experience at Beach House Social! Indulge in $15 bottomless mimosas as you savor their mouthwatering menu of brunch favorites\, including our famous Cinnamon Roll Skillet\, decadent Turtle French Toast\, savory Pulled Pork Honey Biscuit\, classic Shrimp & Grits\, and so much more.\n\nWhether you’re catching up with friends\, enjoying a family outing\, or simply soaking up the ocean views\, their Weekend Brunch is the perfect way to start your day. Don’t miss out on this delicious beachfront tradition!
URL:https://navarrebeach.com/event/beachfront-weekend-brunch/
LOCATION:Beach House Social\, 8375 Gulf Blvd\, Navarre Beach\, FL\, 32566\, United States
ATTACH;FMTTYPE=image/jpeg:https://navarrebeach.com/wp-content/uploads/2024/09/457223765_1036346411826814_8167559716006578700_n.jpg
END:VEVENT
BEGIN:VEVENT
DTSTART;TZID=UTC:20240914T120000
DTEND;TZID=UTC:20240914T120000
DTSTAMP:20260423T061949
CREATED:20240906T190316Z
LAST-MODIFIED:20240906T190316Z
UID:10528-1726315200-1726315200@navarrebeach.com
SUMMARY:Live Auction
DESCRIPTION:A Live Auction in Navarre Florida on Saturday Sept 14th starting at noon until everything is sold.
URL:https://navarrebeach.com/event/live-auction/
LOCATION:Miss Donna’s Southern Belle Auctions\, 3352 Highway 87\, Navarre\, FL\, 32566\, United States
ATTACH;FMTTYPE=image/jpeg:https://navarrebeach.com/wp-content/uploads/2024/09/455694865_1075612597898486_6009148879597520584_n-e1725649392338.jpg
END:VEVENT
BEGIN:VEVENT
DTSTART;TZID=UTC:20240914T160000
DTEND;TZID=UTC:20240915T000000
DTSTAMP:20260423T061949
CREATED:20240904T194203Z
LAST-MODIFIED:20240904T194203Z
UID:10345-1726329600-1726358400@navarrebeach.com
SUMMARY:Live Music at Juana's
DESCRIPTION:If you enjoy live music\, food\, and a beachfront view\, head to Juana’s for a fun night! Six Piece Suits and Shenanigans will be performing for audiences enjoying all the Pagodas have to offer!
URL:https://navarrebeach.com/event/live-music-at-juanas-23/
LOCATION:Juanas Pagodas\, 1451 Navarre Beach Causeway\, Navarre\, FL\, 32566\, United States
ATTACH;FMTTYPE=image/png:https://navarrebeach.com/wp-content/uploads/2024/08/juanas-pagodas-exterior-beach.png
END:VEVENT
BEGIN:VEVENT
DTSTART;TZID=UTC:20240914T180000
DTEND;TZID=UTC:20240914T210000
DTSTAMP:20260423T061949
CREATED:20240823T195052Z
LAST-MODIFIED:20240823T195052Z
UID:10083-1726336800-1726347600@navarrebeach.com
SUMMARY:Acoustic Gig
DESCRIPTION:Live acoustic music from Jamel Boast.
URL:https://navarrebeach.com/event/acoustic-gig/
LOCATION:The Vine Wine Bar\, Bistro & Shoppe\, 8211 Navarre Pkwy\, Navarre\, FL\, 32566\, United States
ATTACH;FMTTYPE=image/jpeg:https://navarrebeach.com/wp-content/uploads/2024/08/451482011_789670609818635_5525138210027136423_n-e1724442646128.jpg
END:VEVENT
BEGIN:VEVENT
DTSTART;TZID=UTC:20240914T180000
DTEND;TZID=UTC:20240914T220000
DTSTAMP:20260423T061950
CREATED:20240904T215711Z
LAST-MODIFIED:20240904T215711Z
UID:10468-1726336800-1726351200@navarrebeach.com
SUMMARY:Colby Lee Swift Live
DESCRIPTION:Come enjoy an evening of great country music performed by Colby Lee Swift\, a singer/songwriter from Texas who is currently writing and performing out of Nashville and was an American Idol fan favorite!
URL:https://navarrebeach.com/event/colby-lee-swift-live/
LOCATION:Andy D’s Beachside Restaurant & Deck Bar\, 8649 Gulf Blvd\, Navarre\, 32566
ATTACH;FMTTYPE=image/jpeg:https://navarrebeach.com/wp-content/uploads/2024/09/451492445_434010872963253_753654057517640416_n-e1725487025927.jpg
END:VEVENT
BEGIN:VEVENT
DTSTART;TZID=UTC:20240915T070000
DTEND;TZID=UTC:20240915T110000
DTSTAMP:20260423T061950
CREATED:20240814T200925Z
LAST-MODIFIED:20240814T200925Z
UID:9766-1726383600-1726398000@navarrebeach.com
SUMMARY:Open Water Swim to benefit NHS Swim Team
DESCRIPTION:A half mile and mile distance marked course in the Santa Rosa Sound off the beach at Juana’s! The goal of this event is to raise funds to help meet the rising costs of maintaining a successful and efficient swim program at Navarre High School. These costs include but are not limited to the YMCA pool usage fee\, equipment\, uniforms\, meet fees\, hosting meets\, travel\, and food for the team.
URL:https://navarrebeach.com/event/open-water-swim-to-benefit-nhs-swim-team/
LOCATION:Juanas Pagodas\, 1451 Navarre Beach Causeway\, Navarre\, FL\, 32566\, United States
ATTACH;FMTTYPE=image/jpeg:https://navarrebeach.com/wp-content/uploads/2024/08/https___cdn.evbuc_.com_images_817287729_422223039161_1_original.jpg
END:VEVENT
BEGIN:VEVENT
DTSTART;TZID=UTC:20240915T100000
DTEND;TZID=UTC:20240915T100000
DTSTAMP:20260423T061950
CREATED:20240906T193214Z
LAST-MODIFIED:20240906T193214Z
UID:10555-1726394400-1726394400@navarrebeach.com
SUMMARY:Navarre Campus 10th Birthday
DESCRIPTION:Come celebrate 10 incredible years at Momentum Church’s Navarre Campus! They have seen God do amazing things over the past ten years\, and we are going to CELEBRATE! Come be in the house for exceptional music\, an excellent message from Pastor Tim\, and a few surprises!
URL:https://navarrebeach.com/event/navarre-campus-10th-birthday/
LOCATION:Momentum Church\, 8600 High School Blvd\, Navarre\, FL\, 32566\, United States
ATTACH;FMTTYPE=image/jpeg:https://navarrebeach.com/wp-content/uploads/2024/09/458216688_937486301744082_4274344294948015747_n.jpg
END:VEVENT
END:VCALENDAR