
BEGIN:VCALENDAR
VERSION:2.0
PRODID:-//Navarrebeach.com - ECPv6.15.20//NONSGML v1.0//EN
CALSCALE:GREGORIAN
METHOD:PUBLISH
X-WR-CALNAME:Navarrebeach.com
X-ORIGINAL-URL:https://navarrebeach.com
X-WR-CALDESC:Events for Navarrebeach.com
REFRESH-INTERVAL;VALUE=DURATION:PT1H
X-Robots-Tag:noindex
X-PUBLISHED-TTL:PT1H
BEGIN:VTIMEZONE
TZID:UTC
BEGIN:STANDARD
TZOFFSETFROM:+0000
TZOFFSETTO:+0000
TZNAME:UTC
DTSTART:20250101T000000
END:STANDARD
END:VTIMEZONE
BEGIN:VEVENT
DTSTART;TZID=UTC:20260605T193000
DTEND;TZID=UTC:20260605T220000
DTSTAMP:20260421T140323
CREATED:20251023T163930Z
LAST-MODIFIED:20251023T163930Z
UID:12492-1780687800-1780696800@navarrebeach.com
SUMMARY:Stage Crafters Anne of Green Gables Show
DESCRIPTION:June 5th-7th & June 12th-14th​\n\nFridays and Saturdays at 7:30pm | Sundays at 2:00pm\n\nMeet Anne with an E! Elderly siblings Marilla and Matthew Cuthbert asked the orphanage for a boy. What they got was Anne Shirley––a plucky redhead with a huge imagination (and an even bigger temper!) Soon\, Anne burrows her way into the hearts of the Cuthberts\, and the residents of Avonlea\, as she grows from a hysterical twelve-year-old to a whip smart young woman who burns with ambition. \nAdapted with the greatest of care and love for the material\, this Canadian classic keeps a cinematic pace as it faithfully follows Anne’s journey through all of her iconic moments\, including ones that many stage versions often leave out. This script also more deeply explores the enemies-to-friends-to-future-lovers relationship between Anne and Gilbert that will please even the most purist ‘Anne’ fan.
URL:https://navarrebeach.com/event/stage-crafters-anne-of-green-gables-show/
LOCATION:Fort Walton Beach Civic Auditorium\, 109 Miracle Strip Parkway\, Fort Walton Beach\, FL\, 32548\, United States
ATTACH;FMTTYPE=image/avif:https://navarrebeach.com/wp-content/uploads/2025/10/Anne.avif
END:VEVENT
BEGIN:VEVENT
DTSTART;TZID=UTC:20260606T193000
DTEND;TZID=UTC:20260606T220000
DTSTAMP:20260421T140323
CREATED:20251023T164331Z
LAST-MODIFIED:20251023T164442Z
UID:12495-1780774200-1780783200@navarrebeach.com
SUMMARY:Stage Crafters Anne of Green Gables Show
DESCRIPTION:June 5th-7th & June 12th-14th​\nFridays and Saturdays at 7:30pm | Sundays at 2:00pm\n  \nMeet Anne with an E! Elderly siblings Marilla and Matthew Cuthbert asked the orphanage for a boy. What they got was Anne Shirley––a plucky redhead with a huge imagination (and an even bigger temper!) Soon\, Anne burrows her way into the hearts of the Cuthberts\, and the residents of Avonlea\, as she grows from a hysterical twelve-year-old to a whip smart young woman who burns with ambition. \n\nAdapted with the greatest of care and love for the material\, this Canadian classic keeps a cinematic pace as it faithfully follows Anne’s journey through all of her iconic moments\, including ones that many stage versions often leave out. This script also more deeply explores the enemies-to-friends-to-future-lovers relationship between Anne and Gilbert that will please even the most purist ‘Anne’ fan.
URL:https://navarrebeach.com/event/stage-crafters-anne-of-green-gables-show-2/
LOCATION:Fort Walton Beach Civic Auditorium\, 109 Miracle Strip Parkway\, Fort Walton Beach\, FL\, 32548\, United States
ATTACH;FMTTYPE=image/avif:https://navarrebeach.com/wp-content/uploads/2025/10/Anne.avif
END:VEVENT
BEGIN:VEVENT
DTSTART;TZID=UTC:20260607T140000
DTEND;TZID=UTC:20260607T170000
DTSTAMP:20260421T140323
CREATED:20251023T164655Z
LAST-MODIFIED:20251023T164655Z
UID:12500-1780840800-1780851600@navarrebeach.com
SUMMARY:Stage Crafters Anne of Green Gables Show
DESCRIPTION:June 5th-7th & June 12th-14th​\nFridays and Saturdays at 7:30pm | Sundays at 2:00pm\n  \nMeet Anne with an E! Elderly siblings Marilla and Matthew Cuthbert asked the orphanage for a boy. What they got was Anne Shirley––a plucky redhead with a huge imagination (and an even bigger temper!) Soon\, Anne burrows her way into the hearts of the Cuthberts\, and the residents of Avonlea\, as she grows from a hysterical twelve-year-old to a whip smart young woman who burns with ambition. \n\nAdapted with the greatest of care and love for the material\, this Canadian classic keeps a cinematic pace as it faithfully follows Anne’s journey through all of her iconic moments\, including ones that many stage versions often leave out. This script also more deeply explores the enemies-to-friends-to-future-lovers relationship between Anne and Gilbert that will please even the most purist ‘Anne’ fan.
URL:https://navarrebeach.com/event/stage-crafters-anne-of-green-gables-show-3/
LOCATION:Fort Walton Beach Civic Auditorium\, 109 Miracle Strip Parkway\, Fort Walton Beach\, FL\, 32548\, United States
ATTACH;FMTTYPE=image/avif:https://navarrebeach.com/wp-content/uploads/2025/10/Anne.avif
END:VEVENT
BEGIN:VEVENT
DTSTART;TZID=UTC:20260612T193000
DTEND;TZID=UTC:20260612T220000
DTSTAMP:20260421T140323
CREATED:20251023T164825Z
LAST-MODIFIED:20251023T164825Z
UID:12502-1781292600-1781301600@navarrebeach.com
SUMMARY:Stage Crafters Anne of Green Gables Show
DESCRIPTION:June 5th-7th & June 12th-14th​\nFridays and Saturdays at 7:30pm | Sundays at 2:00pm\n  \nMeet Anne with an E! Elderly siblings Marilla and Matthew Cuthbert asked the orphanage for a boy. What they got was Anne Shirley––a plucky redhead with a huge imagination (and an even bigger temper!) Soon\, Anne burrows her way into the hearts of the Cuthberts\, and the residents of Avonlea\, as she grows from a hysterical twelve-year-old to a whip smart young woman who burns with ambition. \n\nAdapted with the greatest of care and love for the material\, this Canadian classic keeps a cinematic pace as it faithfully follows Anne’s journey through all of her iconic moments\, including ones that many stage versions often leave out. This script also more deeply explores the enemies-to-friends-to-future-lovers relationship between Anne and Gilbert that will please even the most purist ‘Anne’ fan.
URL:https://navarrebeach.com/event/stage-crafters-anne-of-green-gables-show-4/
LOCATION:Fort Walton Beach Civic Auditorium\, 109 Miracle Strip Parkway\, Fort Walton Beach\, FL\, 32548\, United States
ATTACH;FMTTYPE=image/avif:https://navarrebeach.com/wp-content/uploads/2025/10/Anne.avif
END:VEVENT
BEGIN:VEVENT
DTSTART;TZID=UTC:20260613T193000
DTEND;TZID=UTC:20260613T220000
DTSTAMP:20260421T140323
CREATED:20251023T164943Z
LAST-MODIFIED:20251023T164943Z
UID:12504-1781379000-1781388000@navarrebeach.com
SUMMARY:Stage Crafters Anne of Green Gables Show
DESCRIPTION:June 5th-7th & June 12th-14th​\nFridays and Saturdays at 7:30pm | Sundays at 2:00pm\n  \nMeet Anne with an E! Elderly siblings Marilla and Matthew Cuthbert asked the orphanage for a boy. What they got was Anne Shirley––a plucky redhead with a huge imagination (and an even bigger temper!) Soon\, Anne burrows her way into the hearts of the Cuthberts\, and the residents of Avonlea\, as she grows from a hysterical twelve-year-old to a whip smart young woman who burns with ambition. \n\nAdapted with the greatest of care and love for the material\, this Canadian classic keeps a cinematic pace as it faithfully follows Anne’s journey through all of her iconic moments\, including ones that many stage versions often leave out. This script also more deeply explores the enemies-to-friends-to-future-lovers relationship between Anne and Gilbert that will please even the most purist ‘Anne’ fan.
URL:https://navarrebeach.com/event/stage-crafters-anne-of-green-gables-show-5/
LOCATION:Fort Walton Beach Civic Auditorium\, 109 Miracle Strip Parkway\, Fort Walton Beach\, FL\, 32548\, United States
ATTACH;FMTTYPE=image/avif:https://navarrebeach.com/wp-content/uploads/2025/10/Anne.avif
END:VEVENT
BEGIN:VEVENT
DTSTART;TZID=UTC:20260614T140000
DTEND;TZID=UTC:20260614T170000
DTSTAMP:20260421T140323
CREATED:20251023T165105Z
LAST-MODIFIED:20251023T165105Z
UID:12506-1781445600-1781456400@navarrebeach.com
SUMMARY:Stage Crafters Anne of Green Gables Show
DESCRIPTION:June 5th-7th & June 12th-14th​\nFridays and Saturdays at 7:30pm | Sundays at 2:00pm\n  \nMeet Anne with an E! Elderly siblings Marilla and Matthew Cuthbert asked the orphanage for a boy. What they got was Anne Shirley––a plucky redhead with a huge imagination (and an even bigger temper!) Soon\, Anne burrows her way into the hearts of the Cuthberts\, and the residents of Avonlea\, as she grows from a hysterical twelve-year-old to a whip smart young woman who burns with ambition. \n\nAdapted with the greatest of care and love for the material\, this Canadian classic keeps a cinematic pace as it faithfully follows Anne’s journey through all of her iconic moments\, including ones that many stage versions often leave out. This script also more deeply explores the enemies-to-friends-to-future-lovers relationship between Anne and Gilbert that will please even the most purist ‘Anne’ fan.
URL:https://navarrebeach.com/event/stage-crafters-anne-of-green-gables-show-6/
LOCATION:Fort Walton Beach Civic Auditorium\, 109 Miracle Strip Parkway\, Fort Walton Beach\, FL\, 32548\, United States
ATTACH;FMTTYPE=image/avif:https://navarrebeach.com/wp-content/uploads/2025/10/Anne.avif
END:VEVENT
END:VCALENDAR