
BEGIN:VCALENDAR
VERSION:2.0
PRODID:-//Navarrebeach.com - ECPv6.15.20//NONSGML v1.0//EN
CALSCALE:GREGORIAN
METHOD:PUBLISH
X-ORIGINAL-URL:https://navarrebeach.com
X-WR-CALDESC:Events for Navarrebeach.com
REFRESH-INTERVAL;VALUE=DURATION:PT1H
X-Robots-Tag:noindex
X-PUBLISHED-TTL:PT1H
BEGIN:VTIMEZONE
TZID:UTC
BEGIN:STANDARD
TZOFFSETFROM:+0000
TZOFFSETTO:+0000
TZNAME:UTC
DTSTART:20240101T000000
END:STANDARD
END:VTIMEZONE
BEGIN:VEVENT
DTSTART;TZID=UTC:20250222T153000
DTEND;TZID=UTC:20250222T193000
DTSTAMP:20260424T233135
CREATED:20250222T143726Z
LAST-MODIFIED:20250222T143726Z
UID:11754-1740238200-1740252600@navarrebeach.com
SUMMARY:Emerald Waterfront Off the Island Mardi Gras Party
DESCRIPTION:Emerald Waterfront Mardi Gras “Off the Island” After Party! \nStarting at 3:30 • Live Music 3:30-7:30\nLive Music | Drink Specials | Food Features | & More!\n  \n 
URL:https://navarrebeach.com/event/emerald-waterfront-off-the-island-mardi-gras-party/
LOCATION:Emerald Waterfront\, 8491 Navarre Pkwy\, Navarre\, FL\, 32566\, United States
ATTACH;FMTTYPE=image/png:https://navarrebeach.com/wp-content/uploads/2025/02/Emerald-Waterfront.png
END:VEVENT
END:VCALENDAR